{"text_format":"1","workbook":"xlsx","n_sheets":3,"sheets":["transactions","WMI","year"],"not_rendered":{"charts":0,"images":0,"macros":1,"external_links":0,"defined_names":0,"comments":0,"pivot_tables":0},"unopened":[],"bounds":{"document_bytes":16777216,"sheet_cells":100000,"rows_first":2000,"rows_last":500,"rows_between":2000,"halvings":0,"cell_chars":16384,"cell_head_chars":4096},"cells_cut":0,"cells_raw":0,"read":"whole","date_system":"1900"}

{"sheet":"transactions","index":0,"n_rows":279,"n_cols":26,"rows_kept":279,"cut":false,"hidden":false,"merged":[]}
["id","full_name","first_name","last_name","phone","phone_2","address","street_address","city","state","postal","full_postal","email","email_2","gender","make","model","vin","card_no","card_Type","amount","WMI","year_digit","car_Manuf_country","car_mfr","model_year"]
[48,"Brannon, Chilton",null,null," 520-206-6847",null,"427 Crownhardt Trail, Huntsville, Alabama 35810",null,null,null,null,null,"  cbrannon1b@ezinearticles.com",null,"Male","Plymouth","Grand Voyager","WAURVAFA6AN134737",201837065985956,"diners-club-enroute",8873.94,null,null,{"$f":"IF(V2=\"\",\"\",VLOOKUP(V2,WMI!A:C,2,FALSE))","v":""},{"$f":"IF(V2=\"\",\"\",VLOOKUP(V2,WMI!A:C,3,FALSE))","v":""},{"$f":"IF(W2=\"\",\"\",VLOOKUP(W2,year!A:B,2,FALSE))","v":""}]
[91,"Favill, Enrika",null,null," 202-543-6964",null,"7454 Gale Center, Hamilton, Ohio 45020",null,null,null,null,null,"  efavill2i@cargocollective.com",null,"Female","Pontiac","Sunbird","WAUFFAFL2AN671008",3583504684725100,"jcb",7075.47,null,null,{"$f":"IF(V3=\"\",\"\",VLOOKUP(V3,WMI!A:C,2,FALSE))","v":""},{"$f":"IF(V3=\"\",\"\",VLOOKUP(V3,WMI!A:C,3,FALSE))","v":""},{"$f":"IF(W3=\"\",\"\",VLOOKUP(W3,year!A:B,2,FALSE))","v":""}]
[92,"Oliffe, Noella",null,null," 706-679-5347",null,"1556 Wayridge Crossing, Alexandria, Louisiana 71307",null,null,null,null,null,"  noliffe2j@paginegialle.it",null,"Female","Mazda","Millenia","WAUPFAFM8AA479483",30406278354843,"diners-club-carte-blanche",8664.16,null,null,{"$f":"IF(V4=\"\",\"\",VLOOKUP(V4,WMI!A:C,2,FALSE))","v":""},{"$f":"IF(V4=\"\",\"\",VLOOKUP(V4,WMI!A:C,3,FALSE))","v":""},{"$f":"IF(W4=\"\",\"\",VLOOKUP(W4,year!A:B,2,FALSE))","v":""}]
[195,"Betser, Dian",null,null," 520-120-8988",null,"087 Sherman Point, Memphis, Tennessee 38143",null,null,null,null,null,"  dbetser5e@histats.com",null,"Female","Jaguar","XJ Series","WAUHFAFL5AA035845",6.77123287458368E+16,"laser",9783.6200000000008,null,null,{"$f":"IF(V5=\"\",\"\",VLOOKUP(V5,WMI!A:C,2,FALSE))","v":""},{"$f":"IF(V5=\"\",\"\",VLOOKUP(V5,WMI!A:C,3,FALSE))","v":""},{"$f":"IF(W5=\"\",\"\",VLOOKUP(W5,year!A:B,2,FALSE))","v":""}]
[364,"Petley, Kristofer",null,null," 336-152-5308",null,"57448 Mendota Alley, Nashville, Tennessee 37250",null,null,null,null,null,"  kpetleya3@edublogs.org",null,"Male","Isuzu","Ascender","WAUVKAFRXAA614929",3574041192261740,"jcb",9394.68,null,null,{"$f":"IF(V6=\"\",\"\",VLOOKUP(V6,WMI!A:C,2,FALSE))","v":""},{"$f":"IF(V6=\"\",\"\",VLOOKUP(V6,WMI!A:C,3,FALSE))","v":""},{"$f":"IF(W6=\"\",\"\",VLOOKUP(W6,year!A:B,2,FALSE))","v":""}]
[406,"Gannan, Katheryn",null,null," 216-369-9199",null,"1 Carberry Pass, Fresno, California 93773",null,null,null,null,null,"  kgannanb9@cpanel.net",null,"Female","Nissan","Murano","WAUHFBFL6AN682186",374288278189856,"americanexpress",8657.42,null,null,{"$f":"IF(V7=\"\",\"\",VLOOKUP(V7,WMI!A:C,2,FALSE))","v":""},{"$f":"IF(V7=\"\",\"\",VLOOKUP(V7,WMI!A:C,3,FALSE))","v":""},{"$f":"IF(W7=\"\",\"\",VLOOKUP(W7,year!A:B,2,FALSE))","v":""}]
[505,"Cordova, Lilllie",null,null," 716-381-4250",null,"6962 Anhalt Center, Roanoke, Virginia 24029",null,null,null,null,null,"  lcordovae0@google.cn",null,"Female","Land Rover","Freelander","WAUCVAFRXAA609728",4.9118938190940303E+18,"switch",5164.7,null,null,{"$f":"IF(V8=\"\",\"\",VLOOKUP(V8,WMI!A:C,2,FALSE))","v":""},{"$f":"IF(V8=\"\",\"\",VLOOKUP(V8,WMI!A:C,3,FALSE))","v":""},{"$f":"IF(W8=\"\",\"\",VLOOKUP(W8,year!A:B,2,FALSE))","v":""}]
[663,"Powder, Giffer",null,null," 415-658-3718",null,"58 Kensington Trail, Shreveport, Louisiana 71105",null,null,null,null,null,"  gpowderie@cisco.com",null,"Male","Ford","LTD Crown Victoria","WAUUFAFH3AN374574",201551644586330,"diners-club-enroute",6192.57,null,null,{"$f":"IF(V9=\"\",\"\",VLOOKUP(V9,WMI!A:C,2,FALSE))","v":""},{"$f":"IF(V9=\"\",\"\",VLOOKUP(V9,WMI!A:C,3,FALSE))","v":""},{"$f":"IF(W9=\"\",\"\",VLOOKUP(W9,year!A:B,2,FALSE))","v":""}]
[903,"Franek, Nancey",null,null," 616-881-1697",null,"5235 La Follette Parkway, Newton, Massachusetts 02458",null,null,null,null,null,"  nfranekp2@columbia.edu",null,"Female","Subaru","SVX","WAU3VAFR4AA034042",3555512193503080,"jcb",6403.73,null,null,{"$f":"IF(V10=\"\",\"\",VLOOKUP(V10,WMI!A:C,2,FALSE))","v":""},{"$f":"IF(V10=\"\",\"\",VLOOKUP(V10,WMI!A:C,3,FALSE))","v":""},{"$f":"IF(W10=\"\",\"\",VLOOKUP(W10,year!A:B,2,FALSE))","v":""}]
[908,"Heiton, Marty",null,null," 434-257-3416",null,"07137 Straubel Court, Hagerstown, Maryland 21747",null,null,null,null,null,"  mheitonp7@mapy.cz",null,"Female","Jeep","Compass","WAUFFAFL9AA711737",3531569536462040,"jcb",9986.2000000000007,null,null,{"$f":"IF(V11=\"\",\"\",VLOOKUP(V11,WMI!A:C,2,FALSE))","v":""},{"$f":"IF(V11=\"\",\"\",VLOOKUP(V11,WMI!A:C,3,FALSE))","v":""},{"$f":"IF(W11=\"\",\"\",VLOOKUP(W11,year!A:B,2,FALSE))","v":""}]
[25,"Vokins, Roana",null,null," 904-216-3262",null,"16791 Independence Junction, Maple Plain, Minnesota 55572",null,null,null,null,null,"  rvokinso@indiegogo.com",null,"Female","Ford","Bronco","WBAUT9C54AA873036",5.6103862055838496E+16,"china-unionpay",8031.4,null,null,{"$f":"IF(V12=\"\",\"\",VLOOKUP(V12,WMI!A:C,2,FALSE))","v":""},{"$f":"IF(V12=\"\",\"\",VLOOKUP(V12,WMI!A:C,3,FALSE))","v":""},{"$f":"IF(W12=\"\",\"\",VLOOKUP(W12,year!A:B,2,FALSE))","v":""}]
[179,"Wanklyn, Meier",null,null," 267-898-2051",null,"6312 Hoffman Junction, Valley Forge, Pennsylvania 19495",null,null,null,null,null,"  mwanklyn4y@skyrock.com",null,"Male","Lexus","ES","WBAWV1C54AP451852",5610761538613470,"bankcard",9726.41,null,null,{"$f":"IF(V13=\"\",\"\",VLOOKUP(V13,WMI!A:C,2,FALSE))","v":""},{"$f":"IF(V13=\"\",\"\",VLOOKUP(V13,WMI!A:C,3,FALSE))","v":""},{"$f":"IF(W13=\"\",\"\",VLOOKUP(W13,year!A:B,2,FALSE))","v":""}]
[824,"Jeanneau, Bette-ann",null,null," 623-489-0249",null,"12 Florence Park, Kalamazoo, Michigan 49048",null,null,null,null,null,"  bjeanneaumv@parallels.com",null,"Female","Lincoln","Town Car","WBANU5C52AB198579",4917873181982810,"visa-electron",6855.94,null,null,{"$f":"IF(V14=\"\",\"\",VLOOKUP(V14,WMI!A:C,2,FALSE))","v":""},{"$f":"IF(V14=\"\",\"\",VLOOKUP(V14,WMI!A:C,3,FALSE))","v":""},{"$f":"IF(W14=\"\",\"\",VLOOKUP(W14,year!A:B,2,FALSE))","v":""}]
[965,"Arens, Norby",null,null," 713-929-6845",null,"06 Texas Avenue, Tallahassee, Florida 32309",null,null,null,null,null,"  narensqs@cnn.com",null,"Male","Ferrari","430 Scuderia","WBAPK7C57AA826779",374622832349749,"americanexpress",9114.49,null,null,{"$f":"IF(V15=\"\",\"\",VLOOKUP(V15,WMI!A:C,2,FALSE))","v":""},{"$f":"IF(V15=\"\",\"\",VLOOKUP(V15,WMI!A:C,3,FALSE))","v":""},{"$f":"IF(W15=\"\",\"\",VLOOKUP(W15,year!A:B,2,FALSE))","v":""}]
[983,"Noyce, Leonidas",null,null," 314-753-1136",null,"94 Delladonna Parkway, Albany, New York 12222",null,null,null,null,null,"  lnoycera@dedecms.com",null,"Male","Cadillac","CTS-V","WBASP4C5XAC883766",3583802162363100,"jcb",8165.87,null,null,{"$f":"IF(V16=\"\",\"\",VLOOKUP(V16,WMI!A:C,2,FALSE))","v":""},{"$f":"IF(V16=\"\",\"\",VLOOKUP(V16,WMI!A:C,3,FALSE))","v":""},{"$f":"IF(W16=\"\",\"\",VLOOKUP(W16,year!A:B,2,FALSE))","v":""}]
[224,"Mallinson, Hattie",null,null," 303-987-0513",null,"1617 Vidon Crossing, Austin, Texas 78789",null,null,null,null,null,"  hmallinson67@ameblo.jp",null,"Female","Volkswagen","Cabriolet","WBSWL9C57AP589045",374283013744578,"americanexpress",9716.83,null,null,{"$f":"IF(V17=\"\",\"\",VLOOKUP(V17,WMI!A:C,2,FALSE))","v":""},{"$f":"IF(V17=\"\",\"\",VLOOKUP(V17,WMI!A:C,3,FALSE))","v":""},{"$f":"IF(W17=\"\",\"\",VLOOKUP(W17,year!A:B,2,FALSE))","v":""}]
[768,"Kuhnt, Kippy",null,null," 612-736-9625",null,"87 Kipling Junction, Knoxville, Tennessee 37914",null,null,null,null,null,"  kkuhntlb@gravatar.com",null,"Male","GMC","Sierra 3500","WDDEJ7KB8AA014532",6.7596218261742496E+16,"maestro",6818.55,null,null,{"$f":"IF(V18=\"\",\"\",VLOOKUP(V18,WMI!A:C,2,FALSE))","v":""},{"$f":"IF(V18=\"\",\"\",VLOOKUP(V18,WMI!A:C,3,FALSE))","v":""},{"$f":"IF(W18=\"\",\"\",VLOOKUP(W18,year!A:B,2,FALSE))","v":""}]
[882,"Wonter, Augustin",null,null," 206-449-5653",null,"16 Garrison Circle, Saint Cloud, Minnesota 56398",null,null,null,null,null,"  awonteroh@myspace.com",null,"Male","Mitsubishi","Tredia","WDDGF5EB3AR097282",6331109006887140,"switch",7796.01,null,null,{"$f":"IF(V19=\"\",\"\",VLOOKUP(V19,WMI!A:C,2,FALSE))","v":""},{"$f":"IF(V19=\"\",\"\",VLOOKUP(V19,WMI!A:C,3,FALSE))","v":""},{"$f":"IF(W19=\"\",\"\",VLOOKUP(W19,year!A:B,2,FALSE))","v":""}]
[300,"Foulcher, Zenia",null,null," 405-346-3706",null,"1 Canary Parkway, Wichita, Kansas 67260",null,null,null,null,null,"  zfoulcher8b@techcrunch.com",null,"Female","Jeep","Commander","WVWAA7AHXAV306786",5.6022113205174303E+18,"china-unionpay",8350.5,null,null,{"$f":"IF(V20=\"\",\"\",VLOOKUP(V20,WMI!A:C,2,FALSE))","v":""},{"$f":"IF(V20=\"\",\"\",VLOOKUP(V20,WMI!A:C,3,FALSE))","v":""},{"$f":"IF(W20=\"\",\"\",VLOOKUP(W20,year!A:B,2,FALSE))","v":""}]
[776,"Mowsley, Caro",null,null," 619-981-4142",null,"35 Lotheville Alley, Salt Lake City, Utah 84120",null,null,null,null,null,"  cmowsleylj@miitbeian.gov.cn",null,"Female","Oldsmobile","LSS","WVWED7AJ1AW411156",3545657360678170,"jcb",6071.53,null,null,{"$f":"IF(V21=\"\",\"\",VLOOKUP(V21,WMI!A:C,2,FALSE))","v":""},{"$f":"IF(V21=\"\",\"\",VLOOKUP(V21,WMI!A:C,3,FALSE))","v":""},{"$f":"IF(W21=\"\",\"\",VLOOKUP(W21,year!A:B,2,FALSE))","v":""}]
[93,"Floweth, Neddy",null,null," 240-633-3419",null,"19 Dunning Hill, El Paso, Texas 79945",null,null,null,null,null,"  nfloweth2k@tamu.edu",null,"Male","Oldsmobile",88,"WVGAK7A99AD796953",3563299228932080,"jcb",9100,null,null,{"$f":"IF(V22=\"\",\"\",VLOOKUP(V22,WMI!A:C,2,FALSE))","v":""},{"$f":"IF(V22=\"\",\"\",VLOOKUP(V22,WMI!A:C,3,FALSE))","v":""},{"$f":"IF(W22=\"\",\"\",VLOOKUP(W22,year!A:B,2,FALSE))","v":""}]
[130,"Grund, Lissy",null,null," 502-164-8181",null,"38 Bluejay Center, San Diego, California 92170",null,null,null,null,null,"  lgrund3l@illinois.edu",null,"Female","Dodge","Dynasty","WVGAV7AX8AW420402",30463672072265,"diners-club-carte-blanche",6179.9,null,null,{"$f":"IF(V23=\"\",\"\",VLOOKUP(V23,WMI!A:C,2,FALSE))","v":""},{"$f":"IF(V23=\"\",\"\",VLOOKUP(V23,WMI!A:C,3,FALSE))","v":""},{"$f":"IF(W23=\"\",\"\",VLOOKUP(W23,year!A:B,2,FALSE))","v":""}]
[788,"Reddick, Patricio",null,null," 682-815-7801",null,"362 Summer Ridge Drive, Denver, Colorado 80204",null,null,null,null,null,"  preddicklv@joomla.org",null,"Male","Toyota","Tercel","WP1AA2AP1AL263618",4.9056164714866803E+17,"switch",5170.25,null,null,{"$f":"IF(V24=\"\",\"\",VLOOKUP(V24,WMI!A:C,2,FALSE))","v":""},{"$f":"IF(V24=\"\",\"\",VLOOKUP(V24,WMI!A:C,3,FALSE))","v":""},{"$f":"IF(W24=\"\",\"\",VLOOKUP(W24,year!A:B,2,FALSE))","v":""}]
[367,"Attenbrow, Diena",null,null," 646-441-2026",null,"8 Truax Hill, Reading, Pennsylvania 19610",null,null,null,null,null,"  dattenbrowa6@networksolutions.com",null,"Female","Audi","TT","JM1CR2W34A0294522",3547739104193410,"jcb",8269.69,null,null,{"$f":"IF(V25=\"\",\"\",VLOOKUP(V25,WMI!A:C,2,FALSE))","v":""},{"$f":"IF(V25=\"\",\"\",VLOOKUP(V25,WMI!A:C,3,FALSE))","v":""},{"$f":"IF(W25=\"\",\"\",VLOOKUP(W25,year!A:B,2,FALSE))","v":""}]
[65,"Sandy, Ellynn",null,null," 501-420-4368",null,"4 Northport Plaza, Little Rock, Arkansas 72204",null,null,null,null,null,"  esandy1s@techcrunch.com",null,"Female","Toyota","Celica","JHMGE8G20AS864332",3561195233885440,"jcb",7577.68,null,null,{"$f":"IF(V26=\"\",\"\",VLOOKUP(V26,WMI!A:C,2,FALSE))","v":""},{"$f":"IF(V26=\"\",\"\",VLOOKUP(V26,WMI!A:C,3,FALSE))","v":""},{"$f":"IF(W26=\"\",\"\",VLOOKUP(W26,year!A:B,2,FALSE))","v":""}]
[775,"Merrilees, Nevil",null,null," 214-482-6880",null,"220 Walton Trail, Omaha, Nebraska 68105",null,null,null,null,null,"  nmerrileesli@weebly.com",null,"Male","Chevrolet","Tahoe","JHMZE2H58AS650865",4508125969163030,"visa-electron",9310.35,null,null,{"$f":"IF(V27=\"\",\"\",VLOOKUP(V27,WMI!A:C,2,FALSE))","v":""},{"$f":"IF(V27=\"\",\"\",VLOOKUP(V27,WMI!A:C,3,FALSE))","v":""},{"$f":"IF(W27=\"\",\"\",VLOOKUP(W27,year!A:B,2,FALSE))","v":""}]
[241,"Bloy, Anselm",null,null," 412-607-8694",null,"971 Kinsman Trail, Austin, Texas 78754",null,null,null,null,null,"  abloy6o@howstuffworks.com",null,"Male","Chevrolet","Blazer","3VWJX7AJ9AM020436",6334630070215050,"solo",5749.12,null,null,{"$f":"IF(V28=\"\",\"\",VLOOKUP(V28,WMI!A:C,2,FALSE))","v":""},{"$f":"IF(V28=\"\",\"\",VLOOKUP(V28,WMI!A:C,3,FALSE))","v":""},{"$f":"IF(W28=\"\",\"\",VLOOKUP(W28,year!A:B,2,FALSE))","v":""}]
[830,"Fidelus, Dido",null,null," 910-633-1737",null,"1582 Jackson Alley, San Jose, California 95194",null,null,null,null,null,"  dfidelusn1@youtu.be",null,"Female","Lotus","Exige","3VWPG3AG0AM000003",3543480479073530,"jcb",8844.42,null,null,{"$f":"IF(V29=\"\",\"\",VLOOKUP(V29,WMI!A:C,2,FALSE))","v":""},{"$f":"IF(V29=\"\",\"\",VLOOKUP(V29,WMI!A:C,3,FALSE))","v":""},{"$f":"IF(W29=\"\",\"\",VLOOKUP(W29,year!A:B,2,FALSE))","v":""}]
[917,"Mehmet, Nannette",null,null," 806-634-8545",null,"32579 Sachs Avenue, Oklahoma City, Oklahoma 73179",null,null,null,null,null,"  nmehmetpg@blogger.com",null,"Female","BMW","8 Series","3VWJX7AJ7AM921286",6.70998844567082E+16,"laser",5460.16,null,null,{"$f":"IF(V30=\"\",\"\",VLOOKUP(V30,WMI!A:C,2,FALSE))","v":""},{"$f":"IF(V30=\"\",\"\",VLOOKUP(V30,WMI!A:C,3,FALSE))","v":""},{"$f":"IF(W30=\"\",\"\",VLOOKUP(W30,year!A:B,2,FALSE))","v":""}]
[626,"Burkwood, Mufi",null,null," 864-206-6419",null,"853 Drewry Lane, Miami, Florida 33245",null,null,null,null,null,"  mburkwoodhd@twitter.com",null,"Female","Austin","Mini Cooper S","KMHCM3AC8AU629362",3557390090973130,"jcb",5014.1000000000004,null,null,{"$f":"IF(V31=\"\",\"\",VLOOKUP(V31,WMI!A:C,2,FALSE))","v":""},{"$f":"IF(V31=\"\",\"\",VLOOKUP(V31,WMI!A:C,3,FALSE))","v":""},{"$f":"IF(W31=\"\",\"\",VLOOKUP(W31,year!A:B,2,FALSE))","v":""}]
[320,"Spellward, Lezlie",null,null," 713-513-9220",null,"254 Kedzie Drive, Lancaster, Pennsylvania 17622",null,null,null,null,null,"  lspellward8v@uiuc.edu",null,"Female","Lexus","GS","YV1982BWXA1070253",3551209204243060,"jcb",9389.43,null,null,{"$f":"IF(V32=\"\",\"\",VLOOKUP(V32,WMI!A:C,2,FALSE))","v":""},{"$f":"IF(V32=\"\",\"\",VLOOKUP(V32,WMI!A:C,3,FALSE))","v":""},{"$f":"IF(W32=\"\",\"\",VLOOKUP(W32,year!A:B,2,FALSE))","v":""}]
[578,"Tilio, Rand",null,null," 281-854-2183",null,"52399 Garrison Way, Peoria, Illinois 61656",null,null,null,null,null,"  rtiliog1@cpanel.net",null,"Male","Volvo","C70","YV1672MKXA2961055",375288412962829,"americanexpress",5278.65,null,null,{"$f":"IF(V33=\"\",\"\",VLOOKUP(V33,WMI!A:C,2,FALSE))","v":""},{"$f":"IF(V33=\"\",\"\",VLOOKUP(V33,WMI!A:C,3,FALSE))","v":""},{"$f":"IF(W33=\"\",\"\",VLOOKUP(W33,year!A:B,2,FALSE))","v":""}]
[752,"Lewton, Brear",null,null," 619-981-3148",null,"45 Ludington Drive, Columbia, South Carolina 29240",null,null,null,null,null,"  blewtonkv@npr.org",null,"Female","Cadillac","STS","SAJWA0FA3AH374999",5.6102633799228396E+18,"china-unionpay",5364.98,null,null,{"$f":"IF(V34=\"\",\"\",VLOOKUP(V34,WMI!A:C,2,FALSE))","v":""},{"$f":"IF(V34=\"\",\"\",VLOOKUP(V34,WMI!A:C,3,FALSE))","v":""},{"$f":"IF(W34=\"\",\"\",VLOOKUP(W34,year!A:B,2,FALSE))","v":""}]
[124,"Hulbert, Myrtia",null,null," 704-587-5770",null,"0651 Fordem Hill, Young America, Minnesota 55557",null,null,null,null,null,"  mhulbert3f@vkontakte.ru",null,"Female","Ford","F-Series","SALFP2BN3AH363320",201941460618939,"diners-club-enroute",9319.82,null,null,{"$f":"IF(V35=\"\",\"\",VLOOKUP(V35,WMI!A:C,2,FALSE))","v":""},{"$f":"IF(V35=\"\",\"\",VLOOKUP(V35,WMI!A:C,3,FALSE))","v":""},{"$f":"IF(W35=\"\",\"\",VLOOKUP(W35,year!A:B,2,FALSE))","v":""}]
[117,"Cod, Novelia",null,null," 808-861-0795",null,"662 Carpenter Hill, Hartford, Connecticut 06120",null,null,null,null,null,"  ncod38@earthlink.net",null,"Female","Mitsubishi","RVR","1G4HG5EMXAU142238",3562160901082050,"jcb",5279.62,null,null,{"$f":"IF(V36=\"\",\"\",VLOOKUP(V36,WMI!A:C,2,FALSE))","v":""},{"$f":"IF(V36=\"\",\"\",VLOOKUP(V36,WMI!A:C,3,FALSE))","v":""},{"$f":"IF(W36=\"\",\"\",VLOOKUP(W36,year!A:B,2,FALSE))","v":""}]
[223,"Puckrin, Melisent",null,null," 865-740-9388",null,"9 Waubesa Way, Pensacola, Florida 32511",null,null,null,null,null,"  mpuckrin66@about.com",null,"Female","Chevrolet","Malibu","1G4GA5EC2AF695930",5550173826333390,"diners-club-us-ca",8128.62,null,null,{"$f":"IF(V37=\"\",\"\",VLOOKUP(V37,WMI!A:C,2,FALSE))","v":""},{"$f":"IF(V37=\"\",\"\",VLOOKUP(V37,WMI!A:C,3,FALSE))","v":""},{"$f":"IF(W37=\"\",\"\",VLOOKUP(W37,year!A:B,2,FALSE))","v":""}]
[351,"Rubinovitch, Hamlin",null,null," 203-653-6658",null,"4625 Del Sol Point, Lees Summit, Missouri 64082",null,null,null,null,null,"  hrubinovitch9q@facebook.com",null,"Male","Land Rover","LR3","1G4HD5EM9AU629407",3576330930673310,"jcb",5456.98,null,null,{"$f":"IF(V38=\"\",\"\",VLOOKUP(V38,WMI!A:C,2,FALSE))","v":""},{"$f":"IF(V38=\"\",\"\",VLOOKUP(V38,WMI!A:C,3,FALSE))","v":""},{"$f":"IF(W38=\"\",\"\",VLOOKUP(W38,year!A:B,2,FALSE))","v":""}]
[433,"Bowkley, Susanna",null,null," 713-407-7098",null,"69572 Bay Court, Arlington, Virginia 22234",null,null,null,null,null,"  sbowkleyc0@ezinearticles.com",null,"Female","Dodge","Ram 1500 Club","1G4HF5EMXAU841405",5010120014122470,"mastercard",9366.07,null,null,{"$f":"IF(V39=\"\",\"\",VLOOKUP(V39,WMI!A:C,2,FALSE))","v":""},{"$f":"IF(V39=\"\",\"\",VLOOKUP(V39,WMI!A:C,3,FALSE))","v":""},{"$f":"IF(W39=\"\",\"\",VLOOKUP(W39,year!A:B,2,FALSE))","v":""}]
[645,"Littleton, Faber",null,null," 937-700-7363",null,"77373 Moland Plaza, Waco, Texas 76796",null,null,null,null,null,"  flittletonhw@dot.gov",null,"Male","GMC","Sierra 3500","1G4GB5GG9AF221650",3542900561899050,"jcb",5002.49,null,null,{"$f":"IF(V40=\"\",\"\",VLOOKUP(V40,WMI!A:C,2,FALSE))","v":""},{"$f":"IF(V40=\"\",\"\",VLOOKUP(V40,WMI!A:C,3,FALSE))","v":""},{"$f":"IF(W40=\"\",\"\",VLOOKUP(W40,year!A:B,2,FALSE))","v":""}]
[403,"Tran, Grange",null,null," 347-737-6513",null,"65816 Bonner Crossing, Terre Haute, Indiana 47805",null,null,null,null,null,"  gtranb6@amazon.com",null,"Male","Chrysler","Sebring","5N1AN0NU0AC561201",5.0180115893885702E+17,"maestro",9675.58,null,null,{"$f":"IF(V41=\"\",\"\",VLOOKUP(V41,WMI!A:C,2,FALSE))","v":""},{"$f":"IF(V41=\"\",\"\",VLOOKUP(V41,WMI!A:C,3,FALSE))","v":""},{"$f":"IF(W41=\"\",\"\",VLOOKUP(W41,year!A:B,2,FALSE))","v":""}]
[226,"McElwee, Babara",null,null," 612-635-2324",null,"5588 Express Road, Seattle, Washington 98140",null,null,null,null,null,"  bmcelwee69@skyrock.com",null,"Female","Dodge","Shadow","5FNYF3H28AB520426",3541771138237540,"jcb",5971.05,null,null,{"$f":"IF(V42=\"\",\"\",VLOOKUP(V42,WMI!A:C,2,FALSE))","v":""},{"$f":"IF(V42=\"\",\"\",VLOOKUP(V42,WMI!A:C,3,FALSE))","v":""},{"$f":"IF(W42=\"\",\"\",VLOOKUP(W42,year!A:B,2,FALSE))","v":""}]
[537,"Chesney, Thurstan",null,null," 212-251-6128",null,"7 Scoville Lane, Racine, Wisconsin 53405",null,null,null,null,null,"  tchesneyew@hugedomains.com",null,"Male","Ford","Escort","5NMSG3AB0AH230970",374959242467400,"americanexpress",7935.79,null,null,{"$f":"IF(V43=\"\",\"\",VLOOKUP(V43,WMI!A:C,2,FALSE))","v":""},{"$f":"IF(V43=\"\",\"\",VLOOKUP(V43,WMI!A:C,3,FALSE))","v":""},{"$f":"IF(W43=\"\",\"\",VLOOKUP(W43,year!A:B,2,FALSE))","v":""}]
[952,"Daens, Avie",null,null," 785-235-3102",null,"3011 Crowley Pass, Orlando, Florida 32835",null,null,null,null,null,"  adaensqf@salon.com",null,"Female","Mercedes-Benz","C-Class","1HGCP2E82AA755943",4405297898079660,"visa-electron",5164.09,null,null,{"$f":"IF(V44=\"\",\"\",VLOOKUP(V44,WMI!A:C,2,FALSE))","v":""},{"$f":"IF(V44=\"\",\"\",VLOOKUP(V44,WMI!A:C,3,FALSE))","v":""},{"$f":"IF(W44=\"\",\"\",VLOOKUP(W44,year!A:B,2,FALSE))","v":""}]
[87,"Kieran, Bear",null,null," 217-864-0048",null,"87 Hagan Street, Amarillo, Texas 79171",null,null,null,null,null,"  bkieran2e@nature.com",null,"Male","Ford","Explorer Sport Trac","WAUCFAFH3BN687783",4.9039612232320698E+17,"switch",7963.03,null,null,{"$f":"IF(V45=\"\",\"\",VLOOKUP(V45,WMI!A:C,2,FALSE))","v":""},{"$f":"IF(V45=\"\",\"\",VLOOKUP(V45,WMI!A:C,3,FALSE))","v":""},{"$f":"IF(W45=\"\",\"\",VLOOKUP(W45,year!A:B,2,FALSE))","v":""}]
[90,"Cluff, Erny",null,null," 913-492-4409",null,"68 Artisan Way, Chicago, Illinois 60674",null,null,null,null,null,"  ecluff2h@theglobeandmail.com",null,"Male","Mazda","Mazda5","WAUHFAFLXBN032496",3548380062055940,"jcb",6120.5,null,null,{"$f":"IF(V46=\"\",\"\",VLOOKUP(V46,WMI!A:C,2,FALSE))","v":""},{"$f":"IF(V46=\"\",\"\",VLOOKUP(V46,WMI!A:C,3,FALSE))","v":""},{"$f":"IF(W46=\"\",\"\",VLOOKUP(W46,year!A:B,2,FALSE))","v":""}]
[216,"McIntee, Zena",null,null," 215-508-3004",null,"1199 Drewry Hill, Cleveland, Ohio 44130",null,null,null,null,null,"  zmcintee5z@wunderground.com",null,"Female","Saab",9000,"WAUHFAFL1BA285004",5038060182509370,"maestro",7687.85,null,null,{"$f":"IF(V47=\"\",\"\",VLOOKUP(V47,WMI!A:C,2,FALSE))","v":""},{"$f":"IF(V47=\"\",\"\",VLOOKUP(V47,WMI!A:C,3,FALSE))","v":""},{"$f":"IF(W47=\"\",\"\",VLOOKUP(W47,year!A:B,2,FALSE))","v":""}]
[221,"Greenhaugh, Yasmin",null,null," 225-244-3168",null,"0 Golf Course Parkway, Dallas, Texas 75397",null,null,null,null,null,"  ygreenhaugh64@wiley.com",null,"Female","Pontiac","Grand Prix","WAUHFAFL4BN548062",3587856676863850,"jcb",7968.02,null,null,{"$f":"IF(V48=\"\",\"\",VLOOKUP(V48,WMI!A:C,2,FALSE))","v":""},{"$f":"IF(V48=\"\",\"\",VLOOKUP(V48,WMI!A:C,3,FALSE))","v":""},{"$f":"IF(W48=\"\",\"\",VLOOKUP(W48,year!A:B,2,FALSE))","v":""}]
[237,"Newbigging, Greta",null,null," 215-871-2200",null,"65 Forest Pass, Washington, District of Columbia 20404",null,null,null,null,null,"  gnewbigging6k@noaa.gov",null,"Female","Chevrolet","Blazer","WAUHFBFL7BN510864",3571354114352370,"jcb",9668.61,null,null,{"$f":"IF(V49=\"\",\"\",VLOOKUP(V49,WMI!A:C,2,FALSE))","v":""},{"$f":"IF(V49=\"\",\"\",VLOOKUP(V49,WMI!A:C,3,FALSE))","v":""},{"$f":"IF(W49=\"\",\"\",VLOOKUP(W49,year!A:B,2,FALSE))","v":""}]
[260,"Cabral, Madelena",null,null," 410-701-1416",null,"75 Riverside Place, Tyler, Texas 75705",null,null,null,null,null,"  mcabral77@cnet.com",null,"Female","Mazda","Tribute","WAURFAFR0BA033138",5468834430262030,"diners-club-us-ca",5979.59,null,null,{"$f":"IF(V50=\"\",\"\",VLOOKUP(V50,WMI!A:C,2,FALSE))","v":""},{"$f":"IF(V50=\"\",\"\",VLOOKUP(V50,WMI!A:C,3,FALSE))","v":""},{"$f":"IF(W50=\"\",\"\",VLOOKUP(W50,year!A:B,2,FALSE))","v":""}]
[301,"Evelyn, Hubie",null,null," 812-247-1369",null,"995 Basil Terrace, Baltimore, Maryland 21282",null,null,null,null,null,"  hevelyn8c@ft.com",null,"Male","GMC","Vandura 3500","WAU4GAFB2BN513068",3561503948500510,"jcb",8050.73,null,null,{"$f":"IF(V51=\"\",\"\",VLOOKUP(V51,WMI!A:C,2,FALSE))","v":""},{"$f":"IF(V51=\"\",\"\",VLOOKUP(V51,WMI!A:C,3,FALSE))","v":""},{"$f":"IF(W51=\"\",\"\",VLOOKUP(W51,year!A:B,2,FALSE))","v":""}]
[407,"Cruickshank, Elsworth",null,null," 816-325-3615",null,"893 Lakewood Plaza, El Paso, Texas 79916",null,null,null,null,null,"  ecruickshankba@google.co.uk",null,"Male","Acura","TSX","WAUKFAFLXBA886224",4913772756066160,"visa-electron",9157.5499999999993,null,null,{"$f":"IF(V52=\"\",\"\",VLOOKUP(V52,WMI!A:C,2,FALSE))","v":""},{"$f":"IF(V52=\"\",\"\",VLOOKUP(V52,WMI!A:C,3,FALSE))","v":""},{"$f":"IF(W52=\"\",\"\",VLOOKUP(W52,year!A:B,2,FALSE))","v":""}]
[501,"Laux, Olvan",null,null," 585-897-2395",null,"7871 Kinsman Drive, Las Vegas, Nevada 89178",null,null,null,null,null,"  olauxdw@i2i.jp",null,"Male","Chevrolet","Silverado Hybrid","WAUAVAFD7BN170560",4017954916227,"visa",6466.02,null,null,{"$f":"IF(V53=\"\",\"\",VLOOKUP(V53,WMI!A:C,2,FALSE))","v":""},{"$f":"IF(V53=\"\",\"\",VLOOKUP(V53,WMI!A:C,3,FALSE))","v":""},{"$f":"IF(W53=\"\",\"\",VLOOKUP(W53,year!A:B,2,FALSE))","v":""}]
[611,"Dods, Jayson",null,null," 415-804-4278",null,"677 Southridge Crossing, Olympia, Washington 98516",null,null,null,null,null,"  jdodsgy@drupal.org",null,"Male","Kia","Sportage","WAUBVAFB5BN747847",6.3331588533176699E+18,"switch",9965.67,null,null,{"$f":"IF(V54=\"\",\"\",VLOOKUP(V54,WMI!A:C,2,FALSE))","v":""},{"$f":"IF(V54=\"\",\"\",VLOOKUP(V54,WMI!A:C,3,FALSE))","v":""},{"$f":"IF(W54=\"\",\"\",VLOOKUP(W54,year!A:B,2,FALSE))","v":""}]
[659,"Delf, Gabby",null,null," 610-709-9818",null,"38346 Sunnyside Terrace, Wichita, Kansas 67220",null,null,null,null,null,"  gdelfia@bluehost.com",null,"Male","Saturn","L-Series","WAUMFAFL7BN572855",3566892179779170,"jcb",9623.83,null,null,{"$f":"IF(V55=\"\",\"\",VLOOKUP(V55,WMI!A:C,2,FALSE))","v":""},{"$f":"IF(V55=\"\",\"\",VLOOKUP(V55,WMI!A:C,3,FALSE))","v":""},{"$f":"IF(W55=\"\",\"\",VLOOKUP(W55,year!A:B,2,FALSE))","v":""}]
[785,"Mulqueen, Babbette",null,null," 254-504-3992",null,"9586 Forest Trail, Macon, Georgia 31296",null,null,null,null,null,"  bmulqueenls@wikimedia.org",null,"Female","Mazda",626,"WAUBVAFB6BN976392",3549346936218090,"jcb",6563.09,null,null,{"$f":"IF(V56=\"\",\"\",VLOOKUP(V56,WMI!A:C,2,FALSE))","v":""},{"$f":"IF(V56=\"\",\"\",VLOOKUP(V56,WMI!A:C,3,FALSE))","v":""},{"$f":"IF(W56=\"\",\"\",VLOOKUP(W56,year!A:B,2,FALSE))","v":""}]
[849,"Float, Harmonie",null,null," 312-251-4804",null,"1 Lerdahl Circle, Santa Barbara, California 93111",null,null,null,null,null,"  hfloatnk@icq.com",null,"Female","Hyundai","Santa Fe","WAUKFBFL3BA837551",201798153224569,"diners-club-enroute",7162.72,null,null,{"$f":"IF(V57=\"\",\"\",VLOOKUP(V57,WMI!A:C,2,FALSE))","v":""},{"$f":"IF(V57=\"\",\"\",VLOOKUP(V57,WMI!A:C,3,FALSE))","v":""},{"$f":"IF(W57=\"\",\"\",VLOOKUP(W57,year!A:B,2,FALSE))","v":""}]
[887,"Coldham, Alberta",null,null," 318-186-1888",null,"7856 Forest Park, Montgomery, Alabama 36195",null,null,null,null,null,"  acoldhamom@php.net",null,"Female","Mazda","MX-5","WAUEKBFB3BN450619",3535113056251370,"jcb",9171.81,null,null,{"$f":"IF(V58=\"\",\"\",VLOOKUP(V58,WMI!A:C,2,FALSE))","v":""},{"$f":"IF(V58=\"\",\"\",VLOOKUP(V58,WMI!A:C,3,FALSE))","v":""},{"$f":"IF(W58=\"\",\"\",VLOOKUP(W58,year!A:B,2,FALSE))","v":""}]
[900,"Ashburner, Vilma",null,null," 402-343-2900",null,"2 Mallory Trail, Young America, Minnesota 55551",null,null,null,null,null,"  vashburneroz@wikipedia.org",null,"Female","Mitsubishi","Truck","WAUWFAFRXBA019038",3532287125751970,"jcb",7625.59,null,null,{"$f":"IF(V59=\"\",\"\",VLOOKUP(V59,WMI!A:C,2,FALSE))","v":""},{"$f":"IF(V59=\"\",\"\",VLOOKUP(V59,WMI!A:C,3,FALSE))","v":""},{"$f":"IF(W59=\"\",\"\",VLOOKUP(W59,year!A:B,2,FALSE))","v":""}]
[964,"Suggey, Woodman",null,null," 407-951-2200",null,"84289 Lotheville Drive, Lincoln, Nebraska 68531",null,null,null,null,null,"  wsuggeyqr@wix.com",null,"Male","Chrysler","LHS","WAUWGBFB0BN503119",3574021419788700,"jcb",8383.8700000000008,null,null,{"$f":"IF(V60=\"\",\"\",VLOOKUP(V60,WMI!A:C,2,FALSE))","v":""},{"$f":"IF(V60=\"\",\"\",VLOOKUP(V60,WMI!A:C,3,FALSE))","v":""},{"$f":"IF(W60=\"\",\"\",VLOOKUP(W60,year!A:B,2,FALSE))","v":""}]
[978,"Bernhardt, Connor",null,null," 407-405-7590",null,"2 Anderson Avenue, New York City, New York 10115",null,null,null,null,null,"  cbernhardtr5@paypal.com",null,"Male","Chevrolet","Express 1500","WAUDGBFL5BA281670",3561440007146500,"jcb",6036.82,null,null,{"$f":"IF(V61=\"\",\"\",VLOOKUP(V61,WMI!A:C,2,FALSE))","v":""},{"$f":"IF(V61=\"\",\"\",VLOOKUP(V61,WMI!A:C,3,FALSE))","v":""},{"$f":"IF(W61=\"\",\"\",VLOOKUP(W61,year!A:B,2,FALSE))","v":""}]
[558,"Grimme, Britteny",null,null," 912-783-5385",null,"973 Mallory Road, San Antonio, Texas 78235",null,null,null,null,null,"  bgrimmefh@harvard.edu",null,"Female","Pontiac","Bonneville","WUAUUAFG8BN550667",5432807185968670,"diners-club-us-ca",8646.83,null,null,{"$f":"IF(V62=\"\",\"\",VLOOKUP(V62,WMI!A:C,2,FALSE))","v":""},{"$f":"IF(V62=\"\",\"\",VLOOKUP(V62,WMI!A:C,3,FALSE))","v":""},{"$f":"IF(W62=\"\",\"\",VLOOKUP(W62,year!A:B,2,FALSE))","v":""}]
[355,"Sturgess, Arlette",null,null," 309-819-4048",null,"9 Gale Trail, Trenton, New Jersey 08638",null,null,null,null,null,"  asturgess9u@technorati.com",null,"Female","Nissan","Pathfinder","WBAPH5C50BF620730",3548932915979840,"jcb",7801.16,null,null,{"$f":"IF(V63=\"\",\"\",VLOOKUP(V63,WMI!A:C,2,FALSE))","v":""},{"$f":"IF(V63=\"\",\"\",VLOOKUP(V63,WMI!A:C,3,FALSE))","v":""},{"$f":"IF(W63=\"\",\"\",VLOOKUP(W63,year!A:B,2,FALSE))","v":""}]
[519,"Doody, Desi",null,null," 515-947-5139",null,"8 Cascade Avenue, Reno, Nevada 89595",null,null,null,null,null,"  ddoodyee@salon.com",null,"Male","Chevrolet","Express 1500","WBAPM5G54BN602999",4017959720749,"visa",7070.89,null,null,{"$f":"IF(V64=\"\",\"\",VLOOKUP(V64,WMI!A:C,2,FALSE))","v":""},{"$f":"IF(V64=\"\",\"\",VLOOKUP(V64,WMI!A:C,3,FALSE))","v":""},{"$f":"IF(W64=\"\",\"\",VLOOKUP(W64,year!A:B,2,FALSE))","v":""}]
[522,"Tregona, Gertruda",null,null," 808-171-1800",null,"87233 Troy Avenue, Atlanta, Georgia 30392",null,null,null,null,null,"  gtregonaeh@1688.com",null,"Female","Plymouth","Colt","WBAPL5C5XBA539164",3563107661209350,"jcb",8954.64,null,null,{"$f":"IF(V65=\"\",\"\",VLOOKUP(V65,WMI!A:C,2,FALSE))","v":""},{"$f":"IF(V65=\"\",\"\",VLOOKUP(V65,WMI!A:C,3,FALSE))","v":""},{"$f":"IF(W65=\"\",\"\",VLOOKUP(W65,year!A:B,2,FALSE))","v":""}]
[583,"Madine, Carrissa",null,null," 317-379-0357",null,"6 Hovde Lane, Washington, District of Columbia 20425",null,null,null,null,null,"  cmadineg6@ebay.com",null,"Female","Mercedes-Benz","M-Class","WBAKA4C5XBC362226",4917851562730410,"visa-electron",8274.7999999999993,null,null,{"$f":"IF(V66=\"\",\"\",VLOOKUP(V66,WMI!A:C,2,FALSE))","v":""},{"$f":"IF(V66=\"\",\"\",VLOOKUP(V66,WMI!A:C,3,FALSE))","v":""},{"$f":"IF(W66=\"\",\"\",VLOOKUP(W66,year!A:B,2,FALSE))","v":""}]
[740,"Bolens, Levi",null,null," 406-923-0301",null,"41625 Erie Court, Salt Lake City, Utah 84145",null,null,null,null,null,"  lbolenskj@newsvine.com",null,"Male","Acura","ZDX","WBAKF3C53BE192632",3582269542973020,"jcb",6341.35,null,null,{"$f":"IF(V67=\"\",\"\",VLOOKUP(V67,WMI!A:C,2,FALSE))","v":""},{"$f":"IF(V67=\"\",\"\",VLOOKUP(V67,WMI!A:C,3,FALSE))","v":""},{"$f":"IF(W67=\"\",\"\",VLOOKUP(W67,year!A:B,2,FALSE))","v":""}]
[772,"Soares, Bent",null,null," 206-703-1799",null,"78 Declaration Trail, Roanoke, Virginia 24040",null,null,null,null,null,"  bsoareslf@oracle.com",null,"Male","Ford","Expedition","WBAPK7C5XBF849283",5048374162079430,"mastercard",6069.79,null,null,{"$f":"IF(V68=\"\",\"\",VLOOKUP(V68,WMI!A:C,2,FALSE))","v":""},{"$f":"IF(V68=\"\",\"\",VLOOKUP(V68,WMI!A:C,3,FALSE))","v":""},{"$f":"IF(W68=\"\",\"\",VLOOKUP(W68,year!A:B,2,FALSE))","v":""}]
[809,"Dignum, Melinde",null,null," 602-801-5364",null,"745 Portage Parkway, Spokane, Washington 99205",null,null,null,null,null,"  mdignummg@domainmarket.com",null,"Female","Chevrolet","Malibu","WBADX1C53BE391965",3560019012317370,"jcb",5138.0200000000004,null,null,{"$f":"IF(V69=\"\",\"\",VLOOKUP(V69,WMI!A:C,2,FALSE))","v":""},{"$f":"IF(V69=\"\",\"\",VLOOKUP(V69,WMI!A:C,3,FALSE))","v":""},{"$f":"IF(W69=\"\",\"\",VLOOKUP(W69,year!A:B,2,FALSE))","v":""}]
[895,"Prozescky, Quintin",null,null," 605-887-6890",null,"46504 Dayton Trail, Austin, Texas 78710",null,null,null,null,null,"  qprozesckyou@fc2.com",null,"Male","Lotus","Elise","WBAKF5C5XBE817314",3544877709173630,"jcb",9684.01,null,null,{"$f":"IF(V70=\"\",\"\",VLOOKUP(V70,WMI!A:C,2,FALSE))","v":""},{"$f":"IF(V70=\"\",\"\",VLOOKUP(V70,WMI!A:C,3,FALSE))","v":""},{"$f":"IF(W70=\"\",\"\",VLOOKUP(W70,year!A:B,2,FALSE))","v":""}]
[919,"Cadogan, Edan",null,null," 718-579-9713",null,"8620 Lindbergh Alley, Albuquerque, New Mexico 87121",null,null,null,null,null,"  ecadoganpi@oakley.com",null,"Male","Suzuki","X-90","WBASP2C54BC958399",6.7712526627104704E+16,"laser",7738.55,null,null,{"$f":"IF(V71=\"\",\"\",VLOOKUP(V71,WMI!A:C,2,FALSE))","v":""},{"$f":"IF(V71=\"\",\"\",VLOOKUP(V71,WMI!A:C,3,FALSE))","v":""},{"$f":"IF(W71=\"\",\"\",VLOOKUP(W71,year!A:B,2,FALSE))","v":""}]
[161,"Blackler, Melanie",null,null," 775-564-2905",null,"592 Fisk Junction, Springfield, Illinois 62711",null,null,null,null,null,"  mblackler4g@census.gov",null,"Female","Suzuki","Verona","WDDEJ7EB9BA856809",3589545345760830,"jcb",6478.42,null,null,{"$f":"IF(V72=\"\",\"\",VLOOKUP(V72,WMI!A:C,2,FALSE))","v":""},{"$f":"IF(V72=\"\",\"\",VLOOKUP(V72,WMI!A:C,3,FALSE))","v":""},{"$f":"IF(W72=\"\",\"\",VLOOKUP(W72,year!A:B,2,FALSE))","v":""}]
[526,"Nel, Papagena",null,null," 309-979-3004",null,"2 2nd Lane, Dallas, Texas 75397",null,null,null,null,null,"  pnelel@technorati.com",null,"Female","Pontiac","Sunfire","WDBSK7AA6BF273607",5100179007811580,"mastercard",5690.81,null,null,{"$f":"IF(V73=\"\",\"\",VLOOKUP(V73,WMI!A:C,2,FALSE))","v":""},{"$f":"IF(V73=\"\",\"\",VLOOKUP(V73,WMI!A:C,3,FALSE))","v":""},{"$f":"IF(W73=\"\",\"\",VLOOKUP(W73,year!A:B,2,FALSE))","v":""}]
[273,"MacTrusty, Rhea",null,null," 323-332-3599",null,"96467 Lake View Junction, Fort Worth, Texas 76147",null,null,null,null,null,"  rmactrusty7k@nydailynews.com",null,"Female","Volkswagen","GLI","WP0AB2A95BS226890",373268922360807,"americanexpress",5365.44,null,null,{"$f":"IF(V74=\"\",\"\",VLOOKUP(V74,WMI!A:C,2,FALSE))","v":""},{"$f":"IF(V74=\"\",\"\",VLOOKUP(V74,WMI!A:C,3,FALSE))","v":""},{"$f":"IF(W74=\"\",\"\",VLOOKUP(W74,year!A:B,2,FALSE))","v":""}]
[21,"Canete, Jade",null,null," 603-968-6498",null,"45 Sommers Point, Young America, Minnesota 55573",null,null,null,null,null,"  jcanetek@sina.com.cn",null,"Female","Ford","Mustang","WVGAV7AX9BW182660",3544286846893790,"jcb",9226.7099999999991,null,null,{"$f":"IF(V75=\"\",\"\",VLOOKUP(V75,WMI!A:C,2,FALSE))","v":""},{"$f":"IF(V75=\"\",\"\",VLOOKUP(V75,WMI!A:C,3,FALSE))","v":""},{"$f":"IF(W75=\"\",\"\",VLOOKUP(W75,year!A:B,2,FALSE))","v":""}]
[422,"Knoller, Ly",null,null," 862-967-3478",null,"4529 Hayes Road, Greensboro, North Carolina 27425",null,null,null,null,null,"  lknollerbp@miitbeian.gov.cn",null,"Male","Acura","TSX","WVGFG9BP7BD805859",3574910036597580,"jcb",6645.29,null,null,{"$f":"IF(V76=\"\",\"\",VLOOKUP(V76,WMI!A:C,2,FALSE))","v":""},{"$f":"IF(V76=\"\",\"\",VLOOKUP(V76,WMI!A:C,3,FALSE))","v":""},{"$f":"IF(W76=\"\",\"\",VLOOKUP(W76,year!A:B,2,FALSE))","v":""}]
[497,"Sate, Stearne",null,null," 862-108-7671",null,"3 Hoard Plaza, Cincinnati, Ohio 45264",null,null,null,null,null,"  ssateds@wikia.com",null,"Male","Ford","Mustang","JM1BL1K57B1077881",6.77151008107132E+16,"laser",7158.44,null,null,{"$f":"IF(V77=\"\",\"\",VLOOKUP(V77,WMI!A:C,2,FALSE))","v":""},{"$f":"IF(V77=\"\",\"\",VLOOKUP(V77,WMI!A:C,3,FALSE))","v":""},{"$f":"IF(W77=\"\",\"\",VLOOKUP(W77,year!A:B,2,FALSE))","v":""}]
[589,"Pasek, Garfield",null,null," 256-309-3038",null,"4185 Grasskamp Pass, Lakeland, Florida 33805",null,null,null,null,null,"  gpasekgc@aol.com",null,"Male","Ford","Club Wagon","JM1BL1K57B1707446",5602246780145390,"bankcard",6496.76,null,null,{"$f":"IF(V78=\"\",\"\",VLOOKUP(V78,WMI!A:C,2,FALSE))","v":""},{"$f":"IF(V78=\"\",\"\",VLOOKUP(V78,WMI!A:C,3,FALSE))","v":""},{"$f":"IF(W78=\"\",\"\",VLOOKUP(W78,year!A:B,2,FALSE))","v":""}]
[394,"Malkin, Olin",null,null," 281-419-3795",null,"1347 Pierstorff Place, Houston, Texas 77015",null,null,null,null,null,"  omalkinax@livejournal.com",null,"Male","Jaguar","S-Type","KMHGH4JF8BU522836",30273766828997,"diners-club-carte-blanche",7353.42,null,null,{"$f":"IF(V79=\"\",\"\",VLOOKUP(V79,WMI!A:C,2,FALSE))","v":""},{"$f":"IF(V79=\"\",\"\",VLOOKUP(V79,WMI!A:C,3,FALSE))","v":""},{"$f":"IF(W79=\"\",\"\",VLOOKUP(W79,year!A:B,2,FALSE))","v":""}]
[710,"Muckley, York",null,null," 479-521-3944",null,"9759 Charing Cross Pass, Lubbock, Texas 79452",null,null,null,null,null,"  ymuckleyjp@ask.com",null,"Male","Suzuki","XL-7","YV1672MSXB2615122",4175002118951410,"visa-electron",5202.53,null,null,{"$f":"IF(V80=\"\",\"\",VLOOKUP(V80,WMI!A:C,2,FALSE))","v":""},{"$f":"IF(V80=\"\",\"\",VLOOKUP(V80,WMI!A:C,3,FALSE))","v":""},{"$f":"IF(W80=\"\",\"\",VLOOKUP(W80,year!A:B,2,FALSE))","v":""}]
[109,"Toms, Jamie",null,null," 202-323-7294",null,"67 Basil Crossing, Hayward, California 94544",null,null,null,null,null,"  jtoms30@umn.edu",null,"Male","Subaru","Brat","SAJWA4DC0BM875739",4026562196714090,"visa-electron",7693.05,null,null,{"$f":"IF(V81=\"\",\"\",VLOOKUP(V81,WMI!A:C,2,FALSE))","v":""},{"$f":"IF(V81=\"\",\"\",VLOOKUP(V81,WMI!A:C,3,FALSE))","v":""},{"$f":"IF(W81=\"\",\"\",VLOOKUP(W81,year!A:B,2,FALSE))","v":""}]
[38,"Perroni, Honey",null,null," 713-326-5884",null,"1936 Arapahoe Pass, Oklahoma City, Oklahoma 73119",null,null,null,null,null,"  hperroni11@freewebs.com",null,"Female","Volkswagen","Passat","SALAC2D47BA899112",3537041219564640,"jcb",7815.71,null,null,{"$f":"IF(V82=\"\",\"\",VLOOKUP(V82,WMI!A:C,2,FALSE))","v":""},{"$f":"IF(V82=\"\",\"\",VLOOKUP(V82,WMI!A:C,3,FALSE))","v":""},{"$f":"IF(W82=\"\",\"\",VLOOKUP(W82,year!A:B,2,FALSE))","v":""}]
[910,"Matthews, Duane",null,null," 312-591-0240",null,"0407 Eagle Crest Plaza, Charleston, West Virginia 25389",null,null,null,null,null,"  dmatthewsp9@netvibes.com",null,"Male","Acura","NSX","SALME1D40BA717882",4041599242047,"visa",8682.3700000000008,null,null,{"$f":"IF(V83=\"\",\"\",VLOOKUP(V83,WMI!A:C,2,FALSE))","v":""},{"$f":"IF(V83=\"\",\"\",VLOOKUP(V83,WMI!A:C,3,FALSE))","v":""},{"$f":"IF(W83=\"\",\"\",VLOOKUP(W83,year!A:B,2,FALSE))","v":""}]
[114,"Soal, Jeanie",null,null," 813-736-1043",null,"88 Vahlen Road, Fort Lauderdale, Florida 33355",null,null,null,null,null,"  jsoal35@technorati.com",null,"Female","Mitsubishi","Chariot","5N1AR1NB8BC050491",4913751107132530,"visa-electron",6270.91,null,null,{"$f":"IF(V84=\"\",\"\",VLOOKUP(V84,WMI!A:C,2,FALSE))","v":""},{"$f":"IF(V84=\"\",\"\",VLOOKUP(V84,WMI!A:C,3,FALSE))","v":""},{"$f":"IF(W84=\"\",\"\",VLOOKUP(W84,year!A:B,2,FALSE))","v":""}]
[990,"Colthard, Quinton",null,null," 907-655-8619",null,"609 Ludington Avenue, Los Angeles, California 90015",null,null,null,null,null,"  qcolthardrh@furl.net",null,"Male","Dodge","Grand Caravan","5N1AA0NCXBN068568",5602258350149520,"china-unionpay",9901.1200000000008,null,null,{"$f":"IF(V85=\"\",\"\",VLOOKUP(V85,WMI!A:C,2,FALSE))","v":""},{"$f":"IF(V85=\"\",\"\",VLOOKUP(V85,WMI!A:C,3,FALSE))","v":""},{"$f":"IF(W85=\"\",\"\",VLOOKUP(W85,year!A:B,2,FALSE))","v":""}]
[111,"Epton, Kelcey",null,null," 415-765-3152",null,"6807 Dahle Park, Fort Lauderdale, Florida 33330",null,null,null,null,null,"  kepton32@cloudflare.com",null,"Female","Toyota","Land Cruiser","5J6YH1H30BL149603",3568408676409040,"jcb",9817.75,null,null,{"$f":"IF(V86=\"\",\"\",VLOOKUP(V86,WMI!A:C,2,FALSE))","v":""},{"$f":"IF(V86=\"\",\"\",VLOOKUP(V86,WMI!A:C,3,FALSE))","v":""},{"$f":"IF(W86=\"\",\"\",VLOOKUP(W86,year!A:B,2,FALSE))","v":""}]
[165,"Butson, Sari",null,null," 714-370-7304",null,"4990 North Park, Beaumont, Texas 77705",null,null,null,null,null,"  sbutson4k@reverbnation.com",null,"Female","Porsche",911,"1GD01ZEGXBF278455",3559703227509480,"jcb",5484.34,null,null,{"$f":"IF(V87=\"\",\"\",VLOOKUP(V87,WMI!A:C,2,FALSE))","v":""},{"$f":"IF(V87=\"\",\"\",VLOOKUP(V87,WMI!A:C,3,FALSE))","v":""},{"$f":"IF(W87=\"\",\"\",VLOOKUP(W87,year!A:B,2,FALSE))","v":""}]
[541,"Dureden, Zachery",null,null," 754-265-3929",null,"1 Hoffman Plaza, El Paso, Texas 79934",null,null,null,null,null,"  zduredenf0@deliciousdays.com",null,"Male","Mercury","Milan","1GD11ZCG7BF713827",3555990701897870,"jcb",5100.33,null,null,{"$f":"IF(V88=\"\",\"\",VLOOKUP(V88,WMI!A:C,2,FALSE))","v":""},{"$f":"IF(V88=\"\",\"\",VLOOKUP(V88,WMI!A:C,3,FALSE))","v":""},{"$f":"IF(W88=\"\",\"\",VLOOKUP(W88,year!A:B,2,FALSE))","v":""}]
[632,"Rieger, Marika",null,null," 502-903-9640",null,"020 Sachtjen Crossing, Amarillo, Texas 79171",null,null,null,null,null,"  mriegerhj@joomla.org",null,"Female","Fairthorpe","Rockette","1GD02ZCG1BZ811078",3536412446819990,"jcb",7051.05,null,null,{"$f":"IF(V89=\"\",\"\",VLOOKUP(V89,WMI!A:C,2,FALSE))","v":""},{"$f":"IF(V89=\"\",\"\",VLOOKUP(V89,WMI!A:C,3,FALSE))","v":""},{"$f":"IF(W89=\"\",\"\",VLOOKUP(W89,year!A:B,2,FALSE))","v":""}]
[687,"Oleszkiewicz, Emilio",null,null," 612-921-3790",null,"833 Dixon Parkway, Wilmington, Delaware 19810",null,null,null,null,null,"  eoleszkiewiczj2@msu.edu",null,"Male","Mitsubishi","Pajero","1GD11ZCGXBF279189",374622182652163,"americanexpress",5979.14,null,null,{"$f":"IF(V90=\"\",\"\",VLOOKUP(V90,WMI!A:C,2,FALSE))","v":""},{"$f":"IF(V90=\"\",\"\",VLOOKUP(V90,WMI!A:C,3,FALSE))","v":""},{"$f":"IF(W90=\"\",\"\",VLOOKUP(W90,year!A:B,2,FALSE))","v":""}]
[790,"Finneran, Tod",null,null," 304-972-9602",null,"3841 Vera Trail, Shawnee Mission, Kansas 66215",null,null,null,null,null,"  tfinneranlx@skyrock.com",null,"Male","Mitsubishi","Galant","1HGCP2F36BA521731",201567002231194,"diners-club-enroute",5613.25,null,null,{"$f":"IF(V91=\"\",\"\",VLOOKUP(V91,WMI!A:C,2,FALSE))","v":""},{"$f":"IF(V91=\"\",\"\",VLOOKUP(V91,WMI!A:C,3,FALSE))","v":""},{"$f":"IF(W91=\"\",\"\",VLOOKUP(W91,year!A:B,2,FALSE))","v":""}]
[147,"Garraway, Zsazsa",null,null," 850-396-7403",null,"15072 Eliot Avenue, Lynchburg, Virginia 24503",null,null,null,null,null,"  zgarraway42@springer.com",null,"Female","Acura","RL","WAUFEBFM5CA742195",3581459218153370,"jcb",9720.4699999999993,null,null,{"$f":"IF(V92=\"\",\"\",VLOOKUP(V92,WMI!A:C,2,FALSE))","v":""},{"$f":"IF(V92=\"\",\"\",VLOOKUP(V92,WMI!A:C,3,FALSE))","v":""},{"$f":"IF(W92=\"\",\"\",VLOOKUP(W92,year!A:B,2,FALSE))","v":""}]
[158,"Gill, Celestina",null,null," 405-116-0374",null,"1430 Kim Point, San Antonio, Texas 78250",null,null,null,null,null,"  cgill4d@flavors.me",null,"Female","Ford","Explorer","WAUAFAFC8CN800737",6771444890747650,"laser",6258.38,null,null,{"$f":"IF(V93=\"\",\"\",VLOOKUP(V93,WMI!A:C,2,FALSE))","v":""},{"$f":"IF(V93=\"\",\"\",VLOOKUP(V93,WMI!A:C,3,FALSE))","v":""},{"$f":"IF(W93=\"\",\"\",VLOOKUP(W93,year!A:B,2,FALSE))","v":""}]
[250,"Byles, Kandace",null,null," 850-758-7407",null,"2917 Bluestem Lane, Huntington, West Virginia 25705",null,null,null,null,null,"  kbyles6x@unicef.org",null,"Female","Subaru","Legacy","WAUPFAFM4CA307258",6334682619049540,"solo",9529.3799999999992,null,null,{"$f":"IF(V94=\"\",\"\",VLOOKUP(V94,WMI!A:C,2,FALSE))","v":""},{"$f":"IF(V94=\"\",\"\",VLOOKUP(V94,WMI!A:C,3,FALSE))","v":""},{"$f":"IF(W94=\"\",\"\",VLOOKUP(W94,year!A:B,2,FALSE))","v":""}]
[408,"Maillard, Kizzie",null,null," 801-283-9627",null,"48912 Fieldstone Point, Morgantown, West Virginia 26505",null,null,null,null,null,"  kmaillardbb@vkontakte.ru",null,"Female","Hyundai","Sonata","WAUWFAFH1CN080490",3581362953964040,"jcb",9801.14,null,null,{"$f":"IF(V95=\"\",\"\",VLOOKUP(V95,WMI!A:C,2,FALSE))","v":""},{"$f":"IF(V95=\"\",\"\",VLOOKUP(V95,WMI!A:C,3,FALSE))","v":""},{"$f":"IF(W95=\"\",\"\",VLOOKUP(W95,year!A:B,2,FALSE))","v":""}]
[426,"Narramor, Brandi",null,null," 321-379-3138",null,"37 Forster Drive, Roanoke, Virginia 24014",null,null,null,null,null,"  bnarramorbt@blogs.com",null,"Female","Plymouth","Prowler","WAUFFBFL4CA882209",374283099869935,"americanexpress",9225.77,null,null,{"$f":"IF(V96=\"\",\"\",VLOOKUP(V96,WMI!A:C,2,FALSE))","v":""},{"$f":"IF(V96=\"\",\"\",VLOOKUP(V96,WMI!A:C,3,FALSE))","v":""},{"$f":"IF(W96=\"\",\"\",VLOOKUP(W96,year!A:B,2,FALSE))","v":""}]
[453,"Talman, Ginnie",null,null," 214-754-7478",null,"94 Lillian Hill, Denver, Colorado 80217",null,null,null,null,null,"  gtalmanck@g.co",null,"Female","Audi",100,"WAUBFAFL8CN768716",3558458052097830,"jcb",9428.4,null,null,{"$f":"IF(V97=\"\",\"\",VLOOKUP(V97,WMI!A:C,2,FALSE))","v":""},{"$f":"IF(V97=\"\",\"\",VLOOKUP(V97,WMI!A:C,3,FALSE))","v":""},{"$f":"IF(W97=\"\",\"\",VLOOKUP(W97,year!A:B,2,FALSE))","v":""}]
[515,"Broske, Karna",null,null," 661-364-7068",null,"6437 Farmco Street, Boise, Idaho 83727",null,null,null,null,null,"  kbroskeea@sphinn.com",null,"Female","Buick","Regal","WAUTFAFH9CN694920",3556027151383560,"jcb",5022.07,null,null,{"$f":"IF(V98=\"\",\"\",VLOOKUP(V98,WMI!A:C,2,FALSE))","v":""},{"$f":"IF(V98=\"\",\"\",VLOOKUP(V98,WMI!A:C,3,FALSE))","v":""},{"$f":"IF(W98=\"\",\"\",VLOOKUP(W98,year!A:B,2,FALSE))","v":""}]
[714,"Keller, Sam",null,null," 312-281-9226",null,"63 Independence Pass, Fairfield, Connecticut 06825",null,null,null,null,null,"  skellerjt@drupal.org",null,"Male","Chevrolet","Tracker","WAUFFAFL9CA871748",3576896243068550,"jcb",9173.6299999999992,null,null,{"$f":"IF(V99=\"\",\"\",VLOOKUP(V99,WMI!A:C,2,FALSE))","v":""},{"$f":"IF(V99=\"\",\"\",VLOOKUP(V99,WMI!A:C,3,FALSE))","v":""},{"$f":"IF(W99=\"\",\"\",VLOOKUP(W99,year!A:B,2,FALSE))","v":""}]
[779,"Basley, Fowler",null,null," 205-342-4665",null,"93226 Havey Hill, Pasadena, California 91103",null,null,null,null,null,"  fbasleylm@xing.com",null,"Male","Mercedes-Benz","SL-Class","WAU2GAFC3CN570333",5409519522699230,"diners-club-us-ca",8640.84,null,null,{"$f":"IF(V100=\"\",\"\",VLOOKUP(V100,WMI!A:C,2,FALSE))","v":""},{"$f":"IF(V100=\"\",\"\",VLOOKUP(V100,WMI!A:C,3,FALSE))","v":""},{"$f":"IF(W100=\"\",\"\",VLOOKUP(W100,year!A:B,2,FALSE))","v":""}]
[984,"Mutter, Andonis",null,null," 956-188-8743",null,"024 Mesta Trail, West Palm Beach, Florida 33416",null,null,null,null,null,"  amutterrb@nba.com",null,"Male","Volkswagen","Passat","WAUTFAFH3CN528876",5602236784665680,"china-unionpay",6479.51,null,null,{"$f":"IF(V101=\"\",\"\",VLOOKUP(V101,WMI!A:C,2,FALSE))","v":""},{"$f":"IF(V101=\"\",\"\",VLOOKUP(V101,WMI!A:C,3,FALSE))","v":""},{"$f":"IF(W101=\"\",\"\",VLOOKUP(W101,year!A:B,2,FALSE))","v":""}]
[989,"Fyrth, Doroteya",null,null," 304-416-6735",null,"5428 Sutteridge Hill, Topeka, Kansas 66667",null,null,null,null,null,"  dfyrthrg@51.la",null,"Female","Chevrolet","Tahoe","WAUWFAFH4CN753353",4405545098234380,"visa-electron",8220.61,null,null,{"$f":"IF(V102=\"\",\"\",VLOOKUP(V102,WMI!A:C,2,FALSE))","v":""},{"$f":"IF(V102=\"\",\"\",VLOOKUP(V102,WMI!A:C,3,FALSE))","v":""},{"$f":"IF(W102=\"\",\"\",VLOOKUP(W102,year!A:B,2,FALSE))","v":""}]
[41,"Lack, Barri",null,null," 608-168-9190",null,"43858 Norway Maple Circle, Raleigh, North Carolina 27621",null,null,null,null,null,"  black14@nba.com",null,"Male","Toyota","Celica","WBAUP9C58CV623718",5602256290228820,"bankcard",7763.79,null,null,{"$f":"IF(V103=\"\",\"\",VLOOKUP(V103,WMI!A:C,2,FALSE))","v":""},{"$f":"IF(V103=\"\",\"\",VLOOKUP(V103,WMI!A:C,3,FALSE))","v":""},{"$f":"IF(W103=\"\",\"\",VLOOKUP(W103,year!A:B,2,FALSE))","v":""}]
[102,"Haistwell, Geno",null,null," 912-815-7600",null,"372 Moland Parkway, Denver, Colorado 80217",null,null,null,null,null,"  ghaistwell2t@shop-pro.jp",null,"Male","Volvo","S60","WBAUU3C57CA545543",6.3340555681557197E+18,"solo",6613.91,null,null,{"$f":"IF(V104=\"\",\"\",VLOOKUP(V104,WMI!A:C,2,FALSE))","v":""},{"$f":"IF(V104=\"\",\"\",VLOOKUP(V104,WMI!A:C,3,FALSE))","v":""},{"$f":"IF(W104=\"\",\"\",VLOOKUP(W104,year!A:B,2,FALSE))","v":""}]
[106,"Deetch, Jody",null,null," 323-331-1921",null,"13140 Fisk Circle, Mountain View, California 94042",null,null,null,null,null,"  jdeetch2x@examiner.com",null,"Male","Mitsubishi","Lancer Evolution","WBALW7C58CD939760",3545047245557280,"jcb",6605.88,null,null,{"$f":"IF(V105=\"\",\"\",VLOOKUP(V105,WMI!A:C,2,FALSE))","v":""},{"$f":"IF(V105=\"\",\"\",VLOOKUP(V105,WMI!A:C,3,FALSE))","v":""},{"$f":"IF(W105=\"\",\"\",VLOOKUP(W105,year!A:B,2,FALSE))","v":""}]
[204,"Mushrow, Selinda",null,null," 405-903-1499",null,"8478 Old Gate Way, New York City, New York 10292",null,null,null,null,null,"  smushrow5n@nifty.com",null,"Female","GMC","Savana 2500","WBADX1C59CJ913281",6767279487355150,"solo",6799.72,null,null,{"$f":"IF(V106=\"\",\"\",VLOOKUP(V106,WMI!A:C,2,FALSE))","v":""},{"$f":"IF(V106=\"\",\"\",VLOOKUP(V106,WMI!A:C,3,FALSE))","v":""},{"$f":"IF(W106=\"\",\"\",VLOOKUP(W106,year!A:B,2,FALSE))","v":""}]
[215,"Lequeux, Rosalynd",null,null," 254-407-1887",null,"60103 Doe Crossing Terrace, Roanoke, Virginia 24004",null,null,null,null,null,"  rlequeux5y@moonfruit.com",null,"Female","Chevrolet","TrailBlazer","WBAKB4C56CC888755",5.6418213003769897E+18,"switch",9779.77,null,null,{"$f":"IF(V107=\"\",\"\",VLOOKUP(V107,WMI!A:C,2,FALSE))","v":""},{"$f":"IF(V107=\"\",\"\",VLOOKUP(V107,WMI!A:C,3,FALSE))","v":""},{"$f":"IF(W107=\"\",\"\",VLOOKUP(W107,year!A:B,2,FALSE))","v":""}]
[230,"Bather, Claudianus",null,null," 810-999-7648",null,"0905 Warrior Crossing, Sarasota, Florida 34233",null,null,null,null,null,"  cbather6d@alexa.com",null,"Male","Geo","Metro","WBALX5C56CC890162",5.6418297038667203E+18,"switch",5034.13,null,null,{"$f":"IF(V108=\"\",\"\",VLOOKUP(V108,WMI!A:C,2,FALSE))","v":""},{"$f":"IF(V108=\"\",\"\",VLOOKUP(V108,WMI!A:C,3,FALSE))","v":""},{"$f":"IF(W108=\"\",\"\",VLOOKUP(W108,year!A:B,2,FALSE))","v":""}]
[489,"Donovin, Park",null,null," 562-274-8513",null,"564 Starling Plaza, Colorado Springs, Colorado 80935",null,null,null,null,null,"  pdonovindk@theglobeandmail.com",null,"Male","Chrysler","Concorde","WBA3A9G55CN154241",3570741811711180,"jcb",8235.9500000000007,null,null,{"$f":"IF(V109=\"\",\"\",VLOOKUP(V109,WMI!A:C,2,FALSE))","v":""},{"$f":"IF(V109=\"\",\"\",VLOOKUP(V109,WMI!A:C,3,FALSE))","v":""},{"$f":"IF(W109=\"\",\"\",VLOOKUP(W109,year!A:B,2,FALSE))","v":""}]
[495,"Padson, Diana",null,null," 205-299-2286",null,"882 Kedzie Court, Cleveland, Ohio 44177",null,null,null,null,null,"  dpadsondq@topsy.com",null,"Female","Chevrolet","Avalanche 1500","WBAUN1C58CV611334",4041377897236,"visa",5916.33,null,null,{"$f":"IF(V110=\"\",\"\",VLOOKUP(V110,WMI!A:C,2,FALSE))","v":""},{"$f":"IF(V110=\"\",\"\",VLOOKUP(V110,WMI!A:C,3,FALSE))","v":""},{"$f":"IF(W110=\"\",\"\",VLOOKUP(W110,year!A:B,2,FALSE))","v":""}]
[554,"Mowling, Pearline",null,null," 909-369-0426",null,"641 Sundown Lane, New York City, New York 10170",null,null,null,null,null,"  pmowlingfd@uol.com.br",null,"Female","Toyota","Corolla","WBALZ5C59CC845307",4041376894831450,"visa",6102.73,null,null,{"$f":"IF(V111=\"\",\"\",VLOOKUP(V111,WMI!A:C,2,FALSE))","v":""},{"$f":"IF(V111=\"\",\"\",VLOOKUP(V111,WMI!A:C,3,FALSE))","v":""},{"$f":"IF(W111=\"\",\"\",VLOOKUP(W111,year!A:B,2,FALSE))","v":""}]
[731,"Pietzke, Hakeem",null,null," 850-628-7813",null,"008 Utah Road, Knoxville, Tennessee 37919",null,null,null,null,null,"  hpietzkeka@seesaa.net",null,"Male","Toyota","Tacoma Xtra","WBAKE5C57CE162744",3566060468066480,"jcb",5799.89,null,null,{"$f":"IF(V112=\"\",\"\",VLOOKUP(V112,WMI!A:C,2,FALSE))","v":""},{"$f":"IF(V112=\"\",\"\",VLOOKUP(V112,WMI!A:C,3,FALSE))","v":""},{"$f":"IF(W112=\"\",\"\",VLOOKUP(W112,year!A:B,2,FALSE))","v":""}]
[793,"Giacaponi, Rance",null,null," 520-856-9275",null,"58734 South Avenue, Greenville, South Carolina 29605",null,null,null,null,null,"  rgiacaponim0@booking.com",null,"Male","Chevrolet","Silverado","WBASN4C5XCC049828",6759351097172380,"switch",5178.7700000000004,null,null,{"$f":"IF(V113=\"\",\"\",VLOOKUP(V113,WMI!A:C,2,FALSE))","v":""},{"$f":"IF(V113=\"\",\"\",VLOOKUP(V113,WMI!A:C,3,FALSE))","v":""},{"$f":"IF(W113=\"\",\"\",VLOOKUP(W113,year!A:B,2,FALSE))","v":""}]
[811,"Hacket, Lorianna",null,null," 503-223-0056",null,"856 Prentice Way, Houston, Texas 77070",null,null,null,null,null,"  lhacketmi@aboutads.info",null,"Female","Kia","Amanti","WBADW3C50CE208845",5465659453085520,"mastercard",5074.55,null,null,{"$f":"IF(V114=\"\",\"\",VLOOKUP(V114,WMI!A:C,2,FALSE))","v":""},{"$f":"IF(V114=\"\",\"\",VLOOKUP(V114,WMI!A:C,3,FALSE))","v":""},{"$f":"IF(W114=\"\",\"\",VLOOKUP(W114,year!A:B,2,FALSE))","v":""}]
[858,"Boneham, Vaughn",null,null," 949-366-0133",null,"01083 Glendale Crossing, South Lake Tahoe, California 96154",null,null,null,null,null,"  vbonehamnt@wordpress.com",null,"Male","Ford","Crown Victoria","WBASP2C52CC591570",3536492915097480,"jcb",6195.35,null,null,{"$f":"IF(V115=\"\",\"\",VLOOKUP(V115,WMI!A:C,2,FALSE))","v":""},{"$f":"IF(V115=\"\",\"\",VLOOKUP(V115,WMI!A:C,3,FALSE))","v":""},{"$f":"IF(W115=\"\",\"\",VLOOKUP(W115,year!A:B,2,FALSE))","v":""}]
[872,"Balloch, Thornton",null,null," 617-449-6521",null,"5590 Comanche Plaza, Colorado Springs, Colorado 80951",null,null,null,null,null,"  tballocho7@jalbum.net",null,"Male","Land Rover","Range Rover","WBAKF5C55CE325789",4956407711752,"visa",6673.46,null,null,{"$f":"IF(V116=\"\",\"\",VLOOKUP(V116,WMI!A:C,2,FALSE))","v":""},{"$f":"IF(V116=\"\",\"\",VLOOKUP(V116,WMI!A:C,3,FALSE))","v":""},{"$f":"IF(W116=\"\",\"\",VLOOKUP(W116,year!A:B,2,FALSE))","v":""}]
[683,"Woolston, Kristos",null,null," 513-223-8761",null,"502 Northland Plaza, Columbus, Mississippi 39705",null,null,null,null,null,"  kwoolstoniy@prlog.org",null,"Male","GMC","Envoy XL","WDCYC3HF4CX812542",3556988732961720,"jcb",5301.69,null,null,{"$f":"IF(V117=\"\",\"\",VLOOKUP(V117,WMI!A:C,2,FALSE))","v":""},{"$f":"IF(V117=\"\",\"\",VLOOKUP(V117,WMI!A:C,3,FALSE))","v":""},{"$f":"IF(W117=\"\",\"\",VLOOKUP(W117,year!A:B,2,FALSE))","v":""}]
[252,"Fisher, Lyndsey",null,null," 651-523-1498",null,"51 Miller Way, Denver, Colorado 80279",null,null,null,null,null,"  lfisher6z@yolasite.com",null,"Female","Chevrolet","Suburban 2500","WDDGF4HB2CA535054",3532396073163220,"jcb",7518.45,null,null,{"$f":"IF(V118=\"\",\"\",VLOOKUP(V118,WMI!A:C,2,FALSE))","v":""},{"$f":"IF(V118=\"\",\"\",VLOOKUP(V118,WMI!A:C,3,FALSE))","v":""},{"$f":"IF(W118=\"\",\"\",VLOOKUP(W118,year!A:B,2,FALSE))","v":""}]
[261,"Aldritt, Zebulon",null,null," 352-989-8994",null,"0882 Arizona Way, Salt Lake City, Utah 84152",null,null,null,null,null,"  zaldritt78@sun.com",null,"Male","GMC","1500 Club Coupe","WDDPK4HA3CF433865",5048370025789930,"mastercard",9653.7099999999991,null,null,{"$f":"IF(V119=\"\",\"\",VLOOKUP(V119,WMI!A:C,2,FALSE))","v":""},{"$f":"IF(V119=\"\",\"\",VLOOKUP(V119,WMI!A:C,3,FALSE))","v":""},{"$f":"IF(W119=\"\",\"\",VLOOKUP(W119,year!A:B,2,FALSE))","v":""}]
[770,"Scoon, Kelby",null,null," 415-404-4140",null,"0 Dayton Way, Fredericksburg, Virginia 22405",null,null,null,null,null,"  kscoonld@freewebs.com",null,"Male","Honda","Passport","WDDEJ7EB0CA436096",3575067837769780,"jcb",9768.09,null,null,{"$f":"IF(V120=\"\",\"\",VLOOKUP(V120,WMI!A:C,2,FALSE))","v":""},{"$f":"IF(V120=\"\",\"\",VLOOKUP(V120,WMI!A:C,3,FALSE))","v":""},{"$f":"IF(W120=\"\",\"\",VLOOKUP(W120,year!A:B,2,FALSE))","v":""}]
[29,"Dugget, Netty",null,null," 916-337-2354",null,"95 Arrowood Street, Detroit, Michigan 48217",null,null,null,null,null,"  nduggets@archive.org",null,"Female","Acura","NSX","WP0CB2A81CS117053",3529228777040690,"jcb",5248.47,null,null,{"$f":"IF(V121=\"\",\"\",VLOOKUP(V121,WMI!A:C,2,FALSE))","v":""},{"$f":"IF(V121=\"\",\"\",VLOOKUP(V121,WMI!A:C,3,FALSE))","v":""},{"$f":"IF(W121=\"\",\"\",VLOOKUP(W121,year!A:B,2,FALSE))","v":""}]
[419,"Scorrer, Lilias",null,null," 412-604-2462",null,"0313 Vermont Avenue, Lubbock, Texas 79491",null,null,null,null,null,"  lscorrerbm@arizona.edu",null,"Female","Lincoln","MKZ","WP0AB2A81CU672676",3564515305503650,"jcb",7763.24,null,null,{"$f":"IF(V122=\"\",\"\",VLOOKUP(V122,WMI!A:C,2,FALSE))","v":""},{"$f":"IF(V122=\"\",\"\",VLOOKUP(V122,WMI!A:C,3,FALSE))","v":""},{"$f":"IF(W122=\"\",\"\",VLOOKUP(W122,year!A:B,2,FALSE))","v":""}]
[572,"Mantram, Rorie",null,null," 916-434-2390",null,"870 Debra Way, Torrance, California 90510",null,null,null,null,null,"  rmantramfv@desdev.cn",null,"Female","Mitsubishi","Diamante","WP0AB2A83CS920065",3547514676394090,"jcb",5666.31,null,null,{"$f":"IF(V123=\"\",\"\",VLOOKUP(V123,WMI!A:C,2,FALSE))","v":""},{"$f":"IF(V123=\"\",\"\",VLOOKUP(V123,WMI!A:C,3,FALSE))","v":""},{"$f":"IF(W123=\"\",\"\",VLOOKUP(W123,year!A:B,2,FALSE))","v":""}]
[784,"Stockley, Lura",null,null," 210-788-1311",null,"88 Sage Avenue, Louisville, Kentucky 40298",null,null,null,null,null,"  lstockleylr@ibm.com",null,"Female","Maybach",62,"WP0AA2A98CS338166",201522485758627,"diners-club-enroute",7839.89,null,null,{"$f":"IF(V124=\"\",\"\",VLOOKUP(V124,WMI!A:C,2,FALSE))","v":""},{"$f":"IF(V124=\"\",\"\",VLOOKUP(V124,WMI!A:C,3,FALSE))","v":""},{"$f":"IF(W124=\"\",\"\",VLOOKUP(W124,year!A:B,2,FALSE))","v":""}]
[486,"Widdup, Caryl",null,null," 404-497-3590",null,"77976 Homewood Plaza, Roanoke, Virginia 24029",null,null,null,null,null,"  cwiddupdh@about.me",null,"Female","Maserati",228,"WVGEG9BP9CD079659",337941601868432,"americanexpress",6121.5,null,null,{"$f":"IF(V125=\"\",\"\",VLOOKUP(V125,WMI!A:C,2,FALSE))","v":""},{"$f":"IF(V125=\"\",\"\",VLOOKUP(V125,WMI!A:C,3,FALSE))","v":""},{"$f":"IF(W125=\"\",\"\",VLOOKUP(W125,year!A:B,2,FALSE))","v":""}]
[9,"Sotheron, Lucho",null,null," 615-180-4473",null,"2 Barnett Pass, Akron, Ohio 44305",null,null,null,null,null,"  lsotheron8@themeforest.net",null,"Male","Mercury","Sable","WP1AE2A25CL842834",5214083762452400,"mastercard",5112.63,null,null,{"$f":"IF(V126=\"\",\"\",VLOOKUP(V126,WMI!A:C,2,FALSE))","v":""},{"$f":"IF(V126=\"\",\"\",VLOOKUP(V126,WMI!A:C,3,FALSE))","v":""},{"$f":"IF(W126=\"\",\"\",VLOOKUP(W126,year!A:B,2,FALSE))","v":""}]
[267,"Coulbeck, Celka",null,null," 717-881-7526",null,"0827 Center Alley, Gulfport, Mississippi 39505",null,null,null,null,null,"  ccoulbeck7e@studiopress.com",null,"Female","Nissan","Maxima","JM1DE1KY2C0847036",5602244184683900,"bankcard",9094.75,null,null,{"$f":"IF(V127=\"\",\"\",VLOOKUP(V127,WMI!A:C,2,FALSE))","v":""},{"$f":"IF(V127=\"\",\"\",VLOOKUP(V127,WMI!A:C,3,FALSE))","v":""},{"$f":"IF(W127=\"\",\"\",VLOOKUP(W127,year!A:B,2,FALSE))","v":""}]
[218,"Ivchenko, Abrahan",null,null," 915-277-3689",null,"48947 Elka Trail, Independence, Missouri 64054",null,null,null,null,null,"  aivchenko61@home.pl",null,"Male","Nissan","Maxima","3VWKP7AJ8CM357171",3554240000541220,"jcb",5254.1,null,null,{"$f":"IF(V128=\"\",\"\",VLOOKUP(V128,WMI!A:C,2,FALSE))","v":""},{"$f":"IF(V128=\"\",\"\",VLOOKUP(V128,WMI!A:C,3,FALSE))","v":""},{"$f":"IF(W128=\"\",\"\",VLOOKUP(W128,year!A:B,2,FALSE))","v":""}]
[555,"Berthomieu, Lucie",null,null," 309-695-5670",null,"645 Erie Parkway, Columbia, South Carolina 29240",null,null,null,null,null,"  lberthomieufe@google.pl",null,"Female","Saturn","VUE","3VWML7AJ6CM202039",3587511643670180,"jcb",9661.32,null,null,{"$f":"IF(V129=\"\",\"\",VLOOKUP(V129,WMI!A:C,2,FALSE))","v":""},{"$f":"IF(V129=\"\",\"\",VLOOKUP(V129,WMI!A:C,3,FALSE))","v":""},{"$f":"IF(W129=\"\",\"\",VLOOKUP(W129,year!A:B,2,FALSE))","v":""}]
[39,"Dreamer, Isak",null,null," 312-632-3306",null,"30 Oak Way, Boulder, Colorado 80328",null,null,null,null,null,"  idreamer12@g.co",null,"Male","Mercury","Villager","KMHHT6KD6CU072696",36666297352623,"diners-club-international",6497.79,null,null,{"$f":"IF(V130=\"\",\"\",VLOOKUP(V130,WMI!A:C,2,FALSE))","v":""},{"$f":"IF(V130=\"\",\"\",VLOOKUP(V130,WMI!A:C,3,FALSE))","v":""},{"$f":"IF(W130=\"\",\"\",VLOOKUP(W130,year!A:B,2,FALSE))","v":""}]
[42,"Butte, Rowe",null,null," 650-625-6919",null,"6887 Starling Road, Brooklyn, New York 11215",null,null,null,null,null,"  rbutte15@angelfire.com",null,"Female","Kia","Rondo","KMHFG4JG8CA051510",374288363583385,"americanexpress",9027.68,null,null,{"$f":"IF(V131=\"\",\"\",VLOOKUP(V131,WMI!A:C,2,FALSE))","v":""},{"$f":"IF(V131=\"\",\"\",VLOOKUP(V131,WMI!A:C,3,FALSE))","v":""},{"$f":"IF(W131=\"\",\"\",VLOOKUP(W131,year!A:B,2,FALSE))","v":""}]
[236,"Gasker, Tony",null,null," 813-166-8108",null,"56 Pearson Crossing, Kansas City, Missouri 64160",null,null,null,null,null,"  tgasker6j@youtube.com",null,"Female","Pontiac","Safari","YV1622FS8C2548534",5196863029939900,"mastercard",9744.42,null,null,{"$f":"IF(V132=\"\",\"\",VLOOKUP(V132,WMI!A:C,2,FALSE))","v":""},{"$f":"IF(V132=\"\",\"\",VLOOKUP(V132,WMI!A:C,3,FALSE))","v":""},{"$f":"IF(W132=\"\",\"\",VLOOKUP(W132,year!A:B,2,FALSE))","v":""}]
[686,"Keling, Cyndie",null,null," 336-198-0103",null,"3 Delaware Crossing, Johnson City, Tennessee 37605",null,null,null,null,null,"  ckelingj1@psu.edu",null,"Female","Volkswagen","Jetta","SCFFDAAE7CG842992",3533154762159010,"jcb",9639.57,null,null,{"$f":"IF(V133=\"\",\"\",VLOOKUP(V133,WMI!A:C,2,FALSE))","v":""},{"$f":"IF(V133=\"\",\"\",VLOOKUP(V133,WMI!A:C,3,FALSE))","v":""},{"$f":"IF(W133=\"\",\"\",VLOOKUP(W133,year!A:B,2,FALSE))","v":""}]
[914,"Arlow, Grayce",null,null," 786-403-5042",null,"33 Barnett Pass, Houston, Texas 77090",null,null,null,null,null,"  garlowpd@infoseek.co.jp",null,"Female","Ford","F-Series","SCFFDCCD5CG019767",3586949954632330,"jcb",9020.39,null,null,{"$f":"IF(V134=\"\",\"\",VLOOKUP(V134,WMI!A:C,2,FALSE))","v":""},{"$f":"IF(V134=\"\",\"\",VLOOKUP(V134,WMI!A:C,3,FALSE))","v":""},{"$f":"IF(W134=\"\",\"\",VLOOKUP(W134,year!A:B,2,FALSE))","v":""}]
[3,"Ivanilov, Teodoor",null,null," 208-734-7125",null,"65103 Clove Lane, Schaumburg, Illinois 60193",null,null,null,null,null,"  tivanilov2@ezinearticles.com",null,"Male","Chrysler","PT Cruiser","SALAZ1MU6CW381467",4026050225319760,"visa-electron",9645.34,null,null,{"$f":"IF(V135=\"\",\"\",VLOOKUP(V135,WMI!A:C,2,FALSE))","v":""},{"$f":"IF(V135=\"\",\"\",VLOOKUP(V135,WMI!A:C,3,FALSE))","v":""},{"$f":"IF(W135=\"\",\"\",VLOOKUP(W135,year!A:B,2,FALSE))","v":""}]
[257,"Gerrels, Zorine",null,null," 713-831-8984",null,"96 Butternut Crossing, Detroit, Michigan 48242",null,null,null,null,null,"  zgerrels74@acquirethisname.com",null,"Female","Mazda","Familia","SALAG2D47CA976311",3573086067419400,"jcb",9647.74,null,null,{"$f":"IF(V136=\"\",\"\",VLOOKUP(V136,WMI!A:C,2,FALSE))","v":""},{"$f":"IF(V136=\"\",\"\",VLOOKUP(V136,WMI!A:C,3,FALSE))","v":""},{"$f":"IF(W136=\"\",\"\",VLOOKUP(W136,year!A:B,2,FALSE))","v":""}]
[937,"Wenman, Salvador",null,null," 512-880-2014",null,"15 Jenna Place, Berkeley, California 94712",null,null,null,null,null,"  swenmanq0@wikispaces.com",null,"Male","Toyota","Paseo","1G4GH5G34CF419230",3545215130853730,"jcb",5388.49,null,null,{"$f":"IF(V137=\"\",\"\",VLOOKUP(V137,WMI!A:C,2,FALSE))","v":""},{"$f":"IF(V137=\"\",\"\",VLOOKUP(V137,WMI!A:C,3,FALSE))","v":""},{"$f":"IF(W137=\"\",\"\",VLOOKUP(W137,year!A:B,2,FALSE))","v":""}]
[985,"Lamcken, Adelbert",null,null," 315-215-9269",null,"03 American Alley, Tulsa, Oklahoma 74133",null,null,null,null,null,"  alamckenrc@home.pl",null,"Male","Chevrolet","Express","1G4GA5ER3CF833157",3576340562646490,"jcb",6898.56,null,null,{"$f":"IF(V138=\"\",\"\",VLOOKUP(V138,WMI!A:C,2,FALSE))","v":""},{"$f":"IF(V138=\"\",\"\",VLOOKUP(V138,WMI!A:C,3,FALSE))","v":""},{"$f":"IF(W138=\"\",\"\",VLOOKUP(W138,year!A:B,2,FALSE))","v":""}]
[386,"Nicol, Dylan",null,null," 832-390-7138",null,"76 Warbler Lane, Washington, District of Columbia 20425",null,null,null,null,null,"  dnicolap@imdb.com",null,"Male","Dodge","Ram 2500","5N1AN0NUXCC315551",6.7093018781521997E+17,"laser",6100.64,null,null,{"$f":"IF(V139=\"\",\"\",VLOOKUP(V139,WMI!A:C,2,FALSE))","v":""},{"$f":"IF(V139=\"\",\"\",VLOOKUP(V139,WMI!A:C,3,FALSE))","v":""},{"$f":"IF(W139=\"\",\"\",VLOOKUP(W139,year!A:B,2,FALSE))","v":""}]
[806,"Adamiec, Cyrillus",null,null," 215-179-7123",null,"79100 Lakeland Way, Dearborn, Michigan 48126",null,null,null,null,null,"  cadamiecmd@printfriendly.com",null,"Male","Mercedes-Benz","CLK-Class","5N1AA0NC8CN391843",3529071712134670,"jcb",7429.28,null,null,{"$f":"IF(V140=\"\",\"\",VLOOKUP(V140,WMI!A:C,2,FALSE))","v":""},{"$f":"IF(V140=\"\",\"\",VLOOKUP(V140,WMI!A:C,3,FALSE))","v":""},{"$f":"IF(W140=\"\",\"\",VLOOKUP(W140,year!A:B,2,FALSE))","v":""}]
[281,"Jedrachowicz, Roze",null,null," 952-573-2792",null,"1921 Cody Circle, New Castle, Pennsylvania 16107",null,null,null,null,null,"  rjedrachowicz7s@examiner.com",null,"Female","Acura","RL","1GD02ZCG3CZ997997",5411574078809020,"mastercard",7145.63,null,null,{"$f":"IF(V141=\"\",\"\",VLOOKUP(V141,WMI!A:C,2,FALSE))","v":""},{"$f":"IF(V141=\"\",\"\",VLOOKUP(V141,WMI!A:C,3,FALSE))","v":""},{"$f":"IF(W141=\"\",\"\",VLOOKUP(W141,year!A:B,2,FALSE))","v":""}]
[7,"Roman, Franciskus",null,null," 505-240-4506",null,"18 Hermina Trail, Denton, Texas 76210",null,null,null,null,null,"  froman6@prnewswire.com",null,"Male","Isuzu","Stylus","WAUGGAFC1DN292510",5602222833269520,"china-unionpay",7580.61,null,null,{"$f":"IF(V142=\"\",\"\",VLOOKUP(V142,WMI!A:C,2,FALSE))","v":""},{"$f":"IF(V142=\"\",\"\",VLOOKUP(V142,WMI!A:C,3,FALSE))","v":""},{"$f":"IF(W142=\"\",\"\",VLOOKUP(W142,year!A:B,2,FALSE))","v":""}]
[37,"McFaell, Ellerey",null,null," 305-252-2853",null,"6 Rigney Point, Montgomery, Alabama 36114",null,null,null,null,null,"  emcfaell10@list-manage.com",null,"Male","Mazda","B-Series Plus","WAU3FAFR1DA478724",5.0189376662311504E+16,"maestro",7161.29,null,null,{"$f":"IF(V143=\"\",\"\",VLOOKUP(V143,WMI!A:C,2,FALSE))","v":""},{"$f":"IF(V143=\"\",\"\",VLOOKUP(V143,WMI!A:C,3,FALSE))","v":""},{"$f":"IF(W143=\"\",\"\",VLOOKUP(W143,year!A:B,2,FALSE))","v":""}]
[82,"Magog, Dov",null,null," 718-490-3307",null,"07160 Atwood Road, Austin, Texas 78721",null,null,null,null,null,"  dmagog29@digg.com",null,"Male","Chevrolet","Metro","WAUWFAFR5DA188743",4041597375537090,"visa",9165.9500000000007,null,null,{"$f":"IF(V144=\"\",\"\",VLOOKUP(V144,WMI!A:C,2,FALSE))","v":""},{"$f":"IF(V144=\"\",\"\",VLOOKUP(V144,WMI!A:C,3,FALSE))","v":""},{"$f":"IF(W144=\"\",\"\",VLOOKUP(W144,year!A:B,2,FALSE))","v":""}]
[203,"Jerche, Laney",null,null," 304-876-3279",null,"33 Buell Trail, Kansas City, Missouri 64149",null,null,null,null,null,"  ljerche5m@china.com.cn",null,"Female","Maserati","Quattroporte","WAUHGBFC5DN612552",201945909512181,"diners-club-enroute",7256.02,null,null,{"$f":"IF(V145=\"\",\"\",VLOOKUP(V145,WMI!A:C,2,FALSE))","v":""},{"$f":"IF(V145=\"\",\"\",VLOOKUP(V145,WMI!A:C,3,FALSE))","v":""},{"$f":"IF(W145=\"\",\"\",VLOOKUP(W145,year!A:B,2,FALSE))","v":""}]
[238,"Langridge, Othilia",null,null," 408-619-1461",null,"54 Corscot Lane, Dallas, Texas 75246",null,null,null,null,null,"  olangridge6l@howstuffworks.com",null,"Female","Honda","CR-V","WAUGGAFC4DN892003",3561634009313720,"jcb",7493.66,null,null,{"$f":"IF(V146=\"\",\"\",VLOOKUP(V146,WMI!A:C,2,FALSE))","v":""},{"$f":"IF(V146=\"\",\"\",VLOOKUP(V146,WMI!A:C,3,FALSE))","v":""},{"$f":"IF(W146=\"\",\"\",VLOOKUP(W146,year!A:B,2,FALSE))","v":""}]
[383,"Mathevon, Othella",null,null," 907-817-6290",null,"76 Mandrake Alley, Minneapolis, Minnesota 55458",null,null,null,null,null,"  omathevonam@epa.gov",null,"Female","Honda","Civic","WAU3GBFC6DN452112",3570147657715390,"jcb",8614.8799999999992,null,null,{"$f":"IF(V147=\"\",\"\",VLOOKUP(V147,WMI!A:C,2,FALSE))","v":""},{"$f":"IF(V147=\"\",\"\",VLOOKUP(V147,WMI!A:C,3,FALSE))","v":""},{"$f":"IF(W147=\"\",\"\",VLOOKUP(W147,year!A:B,2,FALSE))","v":""}]
[418,"Biddiss, Barr",null,null," 804-710-6418",null,"8650 Maryland Circle, Syracuse, New York 13251",null,null,null,null,null,"  bbiddissbl@barnesandnoble.com",null,"Male","Mitsubishi","Pajero","WAUFGBFC6DN273114",201768613035921,"diners-club-enroute",6879,null,null,{"$f":"IF(V148=\"\",\"\",VLOOKUP(V148,WMI!A:C,2,FALSE))","v":""},{"$f":"IF(V148=\"\",\"\",VLOOKUP(V148,WMI!A:C,3,FALSE))","v":""},{"$f":"IF(W148=\"\",\"\",VLOOKUP(W148,year!A:B,2,FALSE))","v":""}]
[474,"Readie, Sheilah",null,null," 405-174-5111",null,"50 Clove Point, Norwalk, Connecticut 06859",null,null,null,null,null,"  sreadied5@usgs.gov",null,"Female","Suzuki","SJ","WAUPEBFMXDA959702",4713800634165050,"visa",9635.7900000000009,null,null,{"$f":"IF(V149=\"\",\"\",VLOOKUP(V149,WMI!A:C,2,FALSE))","v":""},{"$f":"IF(V149=\"\",\"\",VLOOKUP(V149,WMI!A:C,3,FALSE))","v":""},{"$f":"IF(W149=\"\",\"\",VLOOKUP(W149,year!A:B,2,FALSE))","v":""}]
[656,"McShane, Lillian",null,null," 860-234-9030",null,"295 Columbus Street, Brooklyn, New York 11225",null,null,null,null,null,"  lmcshanei7@livejournal.com",null,"Female","Lincoln","Blackwood","WAULFAFH6DN506775",5.6105424128157498E+17,"china-unionpay",8522.4599999999991,null,null,{"$f":"IF(V150=\"\",\"\",VLOOKUP(V150,WMI!A:C,2,FALSE))","v":""},{"$f":"IF(V150=\"\",\"\",VLOOKUP(V150,WMI!A:C,3,FALSE))","v":""},{"$f":"IF(W150=\"\",\"\",VLOOKUP(W150,year!A:B,2,FALSE))","v":""}]
[780,"Haskett, Archambault",null,null," 503-760-4107",null,"51 Nova Crossing, Brooklyn, New York 11205",null,null,null,null,null,"  ahaskettln@usnews.com",null,"Male","Mercury","Grand Marquis","WAU3FAFR9DA373414",3546657802464190,"jcb",7301.09,null,null,{"$f":"IF(V151=\"\",\"\",VLOOKUP(V151,WMI!A:C,2,FALSE))","v":""},{"$f":"IF(V151=\"\",\"\",VLOOKUP(V151,WMI!A:C,3,FALSE))","v":""},{"$f":"IF(W151=\"\",\"\",VLOOKUP(W151,year!A:B,2,FALSE))","v":""}]
[841,"Keenleyside, Juliet",null,null," 617-114-0369",null,"3 Sage Alley, San Bernardino, California 92410",null,null,null,null,null,"  jkeenleysidenc@vimeo.com",null,"Female","Chevrolet","Impala","WAUFFAFL6DN663109",4917706779753700,"visa-electron",6565.02,null,null,{"$f":"IF(V152=\"\",\"\",VLOOKUP(V152,WMI!A:C,2,FALSE))","v":""},{"$f":"IF(V152=\"\",\"\",VLOOKUP(V152,WMI!A:C,3,FALSE))","v":""},{"$f":"IF(W152=\"\",\"\",VLOOKUP(W152,year!A:B,2,FALSE))","v":""}]
[939,"Longcake, Pier",null,null," 415-195-9976",null,"9 Darwin Avenue, Houston, Texas 77035",null,null,null,null,null,"  plongcakeq2@sohu.com",null,"Female","Porsche",968,"WAUFFBFL6DN650043",30337193990579,"diners-club-carte-blanche",8301.34,null,null,{"$f":"IF(V153=\"\",\"\",VLOOKUP(V153,WMI!A:C,2,FALSE))","v":""},{"$f":"IF(V153=\"\",\"\",VLOOKUP(V153,WMI!A:C,3,FALSE))","v":""},{"$f":"IF(W153=\"\",\"\",VLOOKUP(W153,year!A:B,2,FALSE))","v":""}]
[85,"O'Duggan, Ellwood",null,null," 812-423-3752",null,"46 Meadow Ridge Lane, Rochester, New York 14624",null,null,null,null,null,"  eoduggan2c@admin.ch",null,"Male","Subaru","Outback","WBAYB6C54DC476910",5257761344417190,"mastercard",9167.1299999999992,null,null,{"$f":"IF(V154=\"\",\"\",VLOOKUP(V154,WMI!A:C,2,FALSE))","v":""},{"$f":"IF(V154=\"\",\"\",VLOOKUP(V154,WMI!A:C,3,FALSE))","v":""},{"$f":"IF(W154=\"\",\"\",VLOOKUP(W154,year!A:B,2,FALSE))","v":""}]
[120,"Slipper, Olly",null,null," 602-303-3923",null,"538 Pearson Hill, Lafayette, Louisiana 70505",null,null,null,null,null,"  oslipper3b@unc.edu",null,"Male","Geo","Prizm","WBAKE3C55DE810037",3536159327652380,"jcb",8755.2800000000007,null,null,{"$f":"IF(V155=\"\",\"\",VLOOKUP(V155,WMI!A:C,2,FALSE))","v":""},{"$f":"IF(V155=\"\",\"\",VLOOKUP(V155,WMI!A:C,3,FALSE))","v":""},{"$f":"IF(W155=\"\",\"\",VLOOKUP(W155,year!A:B,2,FALSE))","v":""}]
[142,"Lanaway, Ashleigh",null,null," 602-921-6344",null,"72 Grayhawk Point, Chicago, Illinois 60641",null,null,null,null,null,"  alanaway3x@xinhuanet.com",null,"Female","Nissan","Versa","WBA6B2C54DD473600",3551638555085640,"jcb",5010.97,null,null,{"$f":"IF(V156=\"\",\"\",VLOOKUP(V156,WMI!A:C,2,FALSE))","v":""},{"$f":"IF(V156=\"\",\"\",VLOOKUP(V156,WMI!A:C,3,FALSE))","v":""},{"$f":"IF(W156=\"\",\"\",VLOOKUP(W156,year!A:B,2,FALSE))","v":""}]
[201,"Barrat, Jard",null,null," 214-858-3608",null,"660 Moose Alley, North Las Vegas, Nevada 89036",null,null,null,null,null,"  jbarrat5k@stanford.edu",null,"Male","GMC","Sonoma","WBAUN7C50DV534611",5.6022560171549798E+18,"china-unionpay",7589.12,null,null,{"$f":"IF(V157=\"\",\"\",VLOOKUP(V157,WMI!A:C,2,FALSE))","v":""},{"$f":"IF(V157=\"\",\"\",VLOOKUP(V157,WMI!A:C,3,FALSE))","v":""},{"$f":"IF(W157=\"\",\"\",VLOOKUP(W157,year!A:B,2,FALSE))","v":""}]
[242,"Leaming, Ara",null,null," 917-961-8395",null,"845 Meadow Valley Parkway, Irvine, California 92717",null,null,null,null,null,"  aleaming6p@samsung.com",null,"Male","Toyota","Sequoia","WBAYF8C5XDD091197",3584104546023530,"jcb",5344.88,null,null,{"$f":"IF(V158=\"\",\"\",VLOOKUP(V158,WMI!A:C,2,FALSE))","v":""},{"$f":"IF(V158=\"\",\"\",VLOOKUP(V158,WMI!A:C,3,FALSE))","v":""},{"$f":"IF(W158=\"\",\"\",VLOOKUP(W158,year!A:B,2,FALSE))","v":""}]
[323,"Manuely, Zilvia",null,null," 803-623-4006",null,"33754 West Court, Washington, District of Columbia 20503",null,null,null,null,null,"  zmanuely8y@elegantthemes.com",null,"Female","Audi","S8","WBA3B1C5XDF586243",3545067587103460,"jcb",6160.57,null,null,{"$f":"IF(V159=\"\",\"\",VLOOKUP(V159,WMI!A:C,2,FALSE))","v":""},{"$f":"IF(V159=\"\",\"\",VLOOKUP(V159,WMI!A:C,3,FALSE))","v":""},{"$f":"IF(W159=\"\",\"\",VLOOKUP(W159,year!A:B,2,FALSE))","v":""}]
[340,"Aguirre, Myra",null,null," 763-633-7705",null,"8 Westerfield Center, Anaheim, California 92812",null,null,null,null,null,"  maguirre9f@oaic.gov.au",null,"Female","Porsche",911,"WBAKF9C58DE253124",3556013591427810,"jcb",8304.27,null,null,{"$f":"IF(V160=\"\",\"\",VLOOKUP(V160,WMI!A:C,2,FALSE))","v":""},{"$f":"IF(V160=\"\",\"\",VLOOKUP(V160,WMI!A:C,3,FALSE))","v":""},{"$f":"IF(W160=\"\",\"\",VLOOKUP(W160,year!A:B,2,FALSE))","v":""}]
[512,"Brenneke, Rhonda",null,null," 608-229-5654",null,"209 Algoma Place, Los Angeles, California 90010",null,null,null,null,null,"  rbrennekee7@friendfeed.com",null,"Female","Lincoln","LS","WBAKG7C5XDJ680068",4952932541707,"visa",5486.47,null,null,{"$f":"IF(V161=\"\",\"\",VLOOKUP(V161,WMI!A:C,2,FALSE))","v":""},{"$f":"IF(V161=\"\",\"\",VLOOKUP(V161,WMI!A:C,3,FALSE))","v":""},{"$f":"IF(W161=\"\",\"\",VLOOKUP(W161,year!A:B,2,FALSE))","v":""}]
[524,"Fabler, Livia",null,null," 772-370-0613",null,"5 Pepper Wood Hill, Sioux Falls, South Dakota 57198",null,null,null,null,null,"  lfablerej@bing.com",null,"Female","Honda","Accord","WBA3C1C51DK157514",6759031084101830,"maestro",5156.33,null,null,{"$f":"IF(V162=\"\",\"\",VLOOKUP(V162,WMI!A:C,2,FALSE))","v":""},{"$f":"IF(V162=\"\",\"\",VLOOKUP(V162,WMI!A:C,3,FALSE))","v":""},{"$f":"IF(W162=\"\",\"\",VLOOKUP(W162,year!A:B,2,FALSE))","v":""}]
[743,"Trahar, Dory",null,null," 570-990-4231",null,"8439 Marcy Place, Lancaster, Pennsylvania 17622",null,null,null,null,null,"  dtraharkm@trellian.com",null,"Female","Buick","Skylark","WBAYP9C58DD174596",3546272736150360,"jcb",7021.3,null,null,{"$f":"IF(V163=\"\",\"\",VLOOKUP(V163,WMI!A:C,2,FALSE))","v":""},{"$f":"IF(V163=\"\",\"\",VLOOKUP(V163,WMI!A:C,3,FALSE))","v":""},{"$f":"IF(W163=\"\",\"\",VLOOKUP(W163,year!A:B,2,FALSE))","v":""}]
[813,"Waddup, Meg",null,null," 612-174-7944",null,"8101 Ridgeway Crossing, Huntington, West Virginia 25716",null,null,null,null,null,"  mwaddupmk@drupal.org",null,"Female","Chevrolet","HHR","WBA6B2C53DD229615",3586560913916970,"jcb",6360.25,null,null,{"$f":"IF(V164=\"\",\"\",VLOOKUP(V164,WMI!A:C,2,FALSE))","v":""},{"$f":"IF(V164=\"\",\"\",VLOOKUP(V164,WMI!A:C,3,FALSE))","v":""},{"$f":"IF(W164=\"\",\"\",VLOOKUP(W164,year!A:B,2,FALSE))","v":""}]
[182,"Pammenter, Emanuel",null,null," 303-676-0563",null,"5282 Gateway Hill, Madison, Wisconsin 53726",null,null,null,null,null,"  epammenter51@deviantart.com",null,"Male","Dodge","Stealth","WDDJK7DA6DF091987",3587832967578990,"jcb",8327.02,null,null,{"$f":"IF(V165=\"\",\"\",VLOOKUP(V165,WMI!A:C,2,FALSE))","v":""},{"$f":"IF(V165=\"\",\"\",VLOOKUP(V165,WMI!A:C,3,FALSE))","v":""},{"$f":"IF(W165=\"\",\"\",VLOOKUP(W165,year!A:B,2,FALSE))","v":""}]
[444,"Milverton, Frederica",null,null," 330-522-2003",null,"66761 Colorado Lane, Salt Lake City, Utah 84189",null,null,null,null,null,"  fmilvertoncb@hc360.com",null,"Female","Mazda","Mazda6","WDDNG9FB6DA650679",6.3330547732902106E+17,"switch",9134.2999999999993,null,null,{"$f":"IF(V166=\"\",\"\",VLOOKUP(V166,WMI!A:C,2,FALSE))","v":""},{"$f":"IF(V166=\"\",\"\",VLOOKUP(V166,WMI!A:C,3,FALSE))","v":""},{"$f":"IF(W166=\"\",\"\",VLOOKUP(W166,year!A:B,2,FALSE))","v":""}]
[738,"Churchard, Caleb",null,null," 714-707-5850",null,"20 Elka Court, High Point, North Carolina 27264",null,null,null,null,null,"  cchurchardkh@marketwatch.com",null,"Male","Land Rover","Range Rover","WDDGF4HB6DG829927",3575401184284100,"jcb",5158.1899999999996,null,null,{"$f":"IF(V167=\"\",\"\",VLOOKUP(V167,WMI!A:C,2,FALSE))","v":""},{"$f":"IF(V167=\"\",\"\",VLOOKUP(V167,WMI!A:C,3,FALSE))","v":""},{"$f":"IF(W167=\"\",\"\",VLOOKUP(W167,year!A:B,2,FALSE))","v":""}]
[694,"Strooband, Adamo",null,null," 571-150-0223",null,"2 Chinook Terrace, Denver, Colorado 80204",null,null,null,null,null,"  astroobandj9@qq.com",null,"Male","GMC","Sonoma","WVWED7AJ4DW413651",5447480099822830,"diners-club-us-ca",5302.75,null,null,{"$f":"IF(V168=\"\",\"\",VLOOKUP(V168,WMI!A:C,2,FALSE))","v":""},{"$f":"IF(V168=\"\",\"\",VLOOKUP(V168,WMI!A:C,3,FALSE))","v":""},{"$f":"IF(W168=\"\",\"\",VLOOKUP(W168,year!A:B,2,FALSE))","v":""}]
[893,"Leech, Patric",null,null," 515-612-8934",null,"5 Marcy Terrace, Falls Church, Virginia 22047",null,null,null,null,null,"  pleechos@microsoft.com",null,"Male","Cadillac","STS-V","WVWED7AJ5DW988034",4026390464164000,"visa-electron",5283.28,null,null,{"$f":"IF(V169=\"\",\"\",VLOOKUP(V169,WMI!A:C,2,FALSE))","v":""},{"$f":"IF(V169=\"\",\"\",VLOOKUP(V169,WMI!A:C,3,FALSE))","v":""},{"$f":"IF(W169=\"\",\"\",VLOOKUP(W169,year!A:B,2,FALSE))","v":""}]
[373,"Curtain, Fiona",null,null," 813-279-0445",null,"2272 Merry Terrace, Akron, Ohio 44321",null,null,null,null,null,"  fcurtainac@is.gd",null,"Female","Land Rover","Defender","JHMZE2H53DS415570",3559472400616150,"jcb",5972.36,null,null,{"$f":"IF(V170=\"\",\"\",VLOOKUP(V170,WMI!A:C,2,FALSE))","v":""},{"$f":"IF(V170=\"\",\"\",VLOOKUP(V170,WMI!A:C,3,FALSE))","v":""},{"$f":"IF(W170=\"\",\"\",VLOOKUP(W170,year!A:B,2,FALSE))","v":""}]
[140,"Caban, Bari",null,null," 954-853-7635",null,"3 Tennyson Lane, New Bedford, Massachusetts 02745",null,null,null,null,null,"  bcaban3v@ow.ly",null,"Female","MINI","Cooper Clubman","3VW1K7AJ4DM509653",5.6100945696365901E+17,"china-unionpay",5702.52,null,null,{"$f":"IF(V171=\"\",\"\",VLOOKUP(V171,WMI!A:C,2,FALSE))","v":""},{"$f":"IF(V171=\"\",\"\",VLOOKUP(V171,WMI!A:C,3,FALSE))","v":""},{"$f":"IF(W171=\"\",\"\",VLOOKUP(W171,year!A:B,2,FALSE))","v":""}]
[405,"Spencer, Gar",null,null," 202-197-7196",null,"27644 Garrison Park, Los Angeles, California 90081",null,null,null,null,null,"  gspencerb8@naver.com",null,"Male","Chevrolet","Corvette","3VW1K7AJ9DM547329",6.7719245336548803E+18,"laser",5882.53,null,null,{"$f":"IF(V172=\"\",\"\",VLOOKUP(V172,WMI!A:C,2,FALSE))","v":""},{"$f":"IF(V172=\"\",\"\",VLOOKUP(V172,WMI!A:C,3,FALSE))","v":""},{"$f":"IF(W172=\"\",\"\",VLOOKUP(W172,year!A:B,2,FALSE))","v":""}]
[527,"Secrett, Lucine",null,null," 412-504-4307",null,"5767 Fisk Court, Cambridge, Massachusetts 02142",null,null,null,null,null,"  lsecrettem@adobe.com",null,"Female","BMW",530,"3VWML7AJXDM043995",3563770506656680,"jcb",5181.0200000000004,null,null,{"$f":"IF(V173=\"\",\"\",VLOOKUP(V173,WMI!A:C,2,FALSE))","v":""},{"$f":"IF(V173=\"\",\"\",VLOOKUP(V173,WMI!A:C,3,FALSE))","v":""},{"$f":"IF(W173=\"\",\"\",VLOOKUP(W173,year!A:B,2,FALSE))","v":""}]
[749,"Tearney, Stevana",null,null," 813-680-2138",null,"26 Village Road, Los Angeles, California 90101",null,null,null,null,null,"  stearneyks@google.ru",null,"Female","BMW","1 Series","3VW4T7AT0DM417936",6.70933731760785E+18,"laser",6812.24,null,null,{"$f":"IF(V174=\"\",\"\",VLOOKUP(V174,WMI!A:C,2,FALSE))","v":""},{"$f":"IF(V174=\"\",\"\",VLOOKUP(V174,WMI!A:C,3,FALSE))","v":""},{"$f":"IF(W174=\"\",\"\",VLOOKUP(W174,year!A:B,2,FALSE))","v":""}]
[248,"Staines, Judye",null,null," 515-534-7313",null,"14 Waywood Terrace, Jacksonville, Florida 32204",null,null,null,null,null,"  jstaines6v@google.com.hk",null,"Female","Pontiac","Aztek","KMHHT6KD5DU533405",3539827672949520,"jcb",6280.08,null,null,{"$f":"IF(V175=\"\",\"\",VLOOKUP(V175,WMI!A:C,2,FALSE))","v":""},{"$f":"IF(V175=\"\",\"\",VLOOKUP(V175,WMI!A:C,3,FALSE))","v":""},{"$f":"IF(W175=\"\",\"\",VLOOKUP(W175,year!A:B,2,FALSE))","v":""}]
[270,"Alenov, Ennis",null,null," 417-609-7640",null,"52 Autumn Leaf Center, Des Moines, Iowa 50330",null,null,null,null,null,"  ealenov7h@opensource.org",null,"Male","Saturn","S-Series","KMHGH4JH4DU737411",3557506029646740,"jcb",6086.69,null,null,{"$f":"IF(V176=\"\",\"\",VLOOKUP(V176,WMI!A:C,2,FALSE))","v":""},{"$f":"IF(V176=\"\",\"\",VLOOKUP(V176,WMI!A:C,3,FALSE))","v":""},{"$f":"IF(W176=\"\",\"\",VLOOKUP(W176,year!A:B,2,FALSE))","v":""}]
[315,"Davison, Valentine",null,null," 814-542-4532",null,"247 Corry Junction, Atlanta, Georgia 31190",null,null,null,null,null,"  vdavison8q@a8.net",null,"Male","Pontiac","Safari","KMHGH4JH9DU542100",6304448821830800,"maestro",8485.84,null,null,{"$f":"IF(V177=\"\",\"\",VLOOKUP(V177,WMI!A:C,2,FALSE))","v":""},{"$f":"IF(V177=\"\",\"\",VLOOKUP(V177,WMI!A:C,3,FALSE))","v":""},{"$f":"IF(W177=\"\",\"\",VLOOKUP(W177,year!A:B,2,FALSE))","v":""}]
[389,"Basso, Elianore",null,null," 309-606-0606",null,"8 Main Circle, Glendale, Arizona 85311",null,null,null,null,null,"  ebassoas@bizjournals.com",null,"Female","Cadillac","XLR","YV1672MK6D2913962",3583687815405040,"jcb",5043.59,null,null,{"$f":"IF(V178=\"\",\"\",VLOOKUP(V178,WMI!A:C,2,FALSE))","v":""},{"$f":"IF(V178=\"\",\"\",VLOOKUP(V178,WMI!A:C,3,FALSE))","v":""},{"$f":"IF(W178=\"\",\"\",VLOOKUP(W178,year!A:B,2,FALSE))","v":""}]
[666,"Muckle, Julianna",null,null," 915-962-4114",null,"5023 Helena Terrace, San Antonio, Texas 78291",null,null,null,null,null,"  jmuckleih@reference.com",null,"Female","Pontiac","Vibe","YV1672MC8DJ841919",4405517571807430,"visa-electron",8892.7000000000007,null,null,{"$f":"IF(V179=\"\",\"\",VLOOKUP(V179,WMI!A:C,2,FALSE))","v":""},{"$f":"IF(V179=\"\",\"\",VLOOKUP(V179,WMI!A:C,3,FALSE))","v":""},{"$f":"IF(W179=\"\",\"\",VLOOKUP(W179,year!A:B,2,FALSE))","v":""}]
[805,"Brenstuhl, Shurlock",null,null," 864-489-0007",null,"37 Linden Park, Charlotte, North Carolina 28284",null,null,null,null,null,"  sbrenstuhlmc@free.fr",null,"Male","Chrysler","Town & Country","SCFFDABM9DG985532",201603762133856,"diners-club-enroute",5993.49,null,null,{"$f":"IF(V180=\"\",\"\",VLOOKUP(V180,WMI!A:C,2,FALSE))","v":""},{"$f":"IF(V180=\"\",\"\",VLOOKUP(V180,WMI!A:C,3,FALSE))","v":""},{"$f":"IF(W180=\"\",\"\",VLOOKUP(W180,year!A:B,2,FALSE))","v":""}]
[810,"Newart, Kaela",null,null," 317-360-9847",null,"1213 Bayside Point, Dallas, Texas 75246",null,null,null,null,null,"  knewartmh@sakura.ne.jp",null,"Female","Lincoln","Navigator L","SCFFDABM5DG188324",4005258198139,"visa",6205.82,null,null,{"$f":"IF(V181=\"\",\"\",VLOOKUP(V181,WMI!A:C,2,FALSE))","v":""},{"$f":"IF(V181=\"\",\"\",VLOOKUP(V181,WMI!A:C,3,FALSE))","v":""},{"$f":"IF(W181=\"\",\"\",VLOOKUP(W181,year!A:B,2,FALSE))","v":""}]
[467,"Poser, Minni",null,null," 325-898-4586",null,"6 Quincy Terrace, Saint Petersburg, Florida 33710",null,null,null,null,null,"  mposercy@wsj.com",null,"Female","Lexus","SC","SALFR2BG2DH322905",5610259824137470,"bankcard",9204.1,null,null,{"$f":"IF(V182=\"\",\"\",VLOOKUP(V182,WMI!A:C,2,FALSE))","v":""},{"$f":"IF(V182=\"\",\"\",VLOOKUP(V182,WMI!A:C,3,FALSE))","v":""},{"$f":"IF(W182=\"\",\"\",VLOOKUP(W182,year!A:B,2,FALSE))","v":""}]
[339,"Le Guin, Donnell",null,null," 202-177-6189",null,"6025 Oak Valley Junction, Oakland, California 94627",null,null,null,null,null,"  dleguin9e@comsenz.com",null,"Male","Dodge","Dakota","1G4GH5E3XDF337233",4508038394232040,"visa-electron",5372.67,null,null,{"$f":"IF(V183=\"\",\"\",VLOOKUP(V183,WMI!A:C,2,FALSE))","v":""},{"$f":"IF(V183=\"\",\"\",VLOOKUP(V183,WMI!A:C,3,FALSE))","v":""},{"$f":"IF(W183=\"\",\"\",VLOOKUP(W183,year!A:B,2,FALSE))","v":""}]
[402,"Hurlin, Joela",null,null," 210-953-4916",null,"91768 Walton Road, Santa Barbara, California 93111",null,null,null,null,null,"  jhurlinb5@networksolutions.com",null,"Female","Land Rover","Discovery","1G4PP5SK7D4654767",201515067809651,"diners-club-enroute",9669.98,null,null,{"$f":"IF(V184=\"\",\"\",VLOOKUP(V184,WMI!A:C,2,FALSE))","v":""},{"$f":"IF(V184=\"\",\"\",VLOOKUP(V184,WMI!A:C,3,FALSE))","v":""},{"$f":"IF(W184=\"\",\"\",VLOOKUP(W184,year!A:B,2,FALSE))","v":""}]
[607,"Northeast, Alyce",null,null," 404-852-4992",null,"9 Bultman Park, Washington, District of Columbia 20073",null,null,null,null,null,"  anortheastgu@goodreads.com",null,"Female","Ford","E-Series","1G4PR5SK7D4050971",6767473998603300,"solo",6519.9,null,null,{"$f":"IF(V185=\"\",\"\",VLOOKUP(V185,WMI!A:C,2,FALSE))","v":""},{"$f":"IF(V185=\"\",\"\",VLOOKUP(V185,WMI!A:C,3,FALSE))","v":""},{"$f":"IF(W185=\"\",\"\",VLOOKUP(W185,year!A:B,2,FALSE))","v":""}]
[708,"MacParlan, Sax",null,null," 303-652-6208",null,"7 Butterfield Junction, Morgantown, West Virginia 26505",null,null,null,null,null,"  smacparlanjn@comcast.net",null,"Male","Volkswagen","Jetta","1G4GG5G34DF969287",3545605762385980,"jcb",5340.47,null,null,{"$f":"IF(V186=\"\",\"\",VLOOKUP(V186,WMI!A:C,2,FALSE))","v":""},{"$f":"IF(V186=\"\",\"\",VLOOKUP(V186,WMI!A:C,3,FALSE))","v":""},{"$f":"IF(W186=\"\",\"\",VLOOKUP(W186,year!A:B,2,FALSE))","v":""}]
[352,"Inglesant, Upton",null,null," 817-287-3272",null,"6 Merry Place, Dallas, Texas 75387",null,null,null,null,null,"  uinglesant9r@edublogs.org",null,"Male","Honda","CR-V","5NPDH4AE6DH752497",30527055918185,"diners-club-carte-blanche",8811.01,null,null,{"$f":"IF(V187=\"\",\"\",VLOOKUP(V187,WMI!A:C,2,FALSE))","v":""},{"$f":"IF(V187=\"\",\"\",VLOOKUP(V187,WMI!A:C,3,FALSE))","v":""},{"$f":"IF(W187=\"\",\"\",VLOOKUP(W187,year!A:B,2,FALSE))","v":""}]
[829,"Haynes, Donnell",null,null," 405-508-1864",null,"3 Forest Place, Reno, Nevada 89510",null,null,null,null,null,"  dhaynesn0@cnbc.com",null,"Male","Buick","Hearse","1VWAH7A30DC056987",4083639157710,"visa",7705.48,null,null,{"$f":"IF(V188=\"\",\"\",VLOOKUP(V188,WMI!A:C,2,FALSE))","v":""},{"$f":"IF(V188=\"\",\"\",VLOOKUP(V188,WMI!A:C,3,FALSE))","v":""},{"$f":"IF(W188=\"\",\"\",VLOOKUP(W188,year!A:B,2,FALSE))","v":""}]
[127,"Kilduff, Karleen",null,null," 831-839-5272",null,"0 Forster Road, Henderson, Nevada 89012",null,null,null,null,null,"  kkilduff3i@google.co.jp",null,"Female","Mercedes-Benz","M-Class","1HGCR2F37DA054204",6.7716436228127104E+17,"laser",5886.48,null,null,{"$f":"IF(V189=\"\",\"\",VLOOKUP(V189,WMI!A:C,2,FALSE))","v":""},{"$f":"IF(V189=\"\",\"\",VLOOKUP(V189,WMI!A:C,3,FALSE))","v":""},{"$f":"IF(W189=\"\",\"\",VLOOKUP(W189,year!A:B,2,FALSE))","v":""}]
[379,"Bonner, Freeman",null,null," 503-948-1661",null,"44519 Northview Way, Carson City, Nevada 89706",null,null,null,null,null,"  fbonnerai@amazon.co.jp",null,"Male","Mercedes-Benz","W123","1HGCR2E59DA896965",3530860577635250,"jcb",5956.71,null,null,{"$f":"IF(V190=\"\",\"\",VLOOKUP(V190,WMI!A:C,2,FALSE))","v":""},{"$f":"IF(V190=\"\",\"\",VLOOKUP(V190,WMI!A:C,3,FALSE))","v":""},{"$f":"IF(W190=\"\",\"\",VLOOKUP(W190,year!A:B,2,FALSE))","v":""}]
[860,"Skingle, Matelda",null,null," 901-537-4409",null,"6 Ohio Terrace, Minneapolis, Minnesota 55458",null,null,null,null,null,"  mskinglenv@webeden.co.uk",null,"Female","Mitsubishi","Endeavor","1GD020CG7DZ893591",3577588548984420,"jcb",5529.1,null,null,{"$f":"IF(V191=\"\",\"\",VLOOKUP(V191,WMI!A:C,2,FALSE))","v":""},{"$f":"IF(V191=\"\",\"\",VLOOKUP(V191,WMI!A:C,3,FALSE))","v":""},{"$f":"IF(W191=\"\",\"\",VLOOKUP(W191,year!A:B,2,FALSE))","v":""}]
[153,"Tilberry, Linc",null,null," 915-419-0855",null,"8472 Susan Parkway, Albuquerque, New Mexico 87115",null,null,null,null,null,"  ltilberry48@google.nl",null,"Male","Ford","Explorer","WAUGFBFC0EN586443",3563471969360310,"jcb",5105.3,null,null,{"$f":"IF(V192=\"\",\"\",VLOOKUP(V192,WMI!A:C,2,FALSE))","v":""},{"$f":"IF(V192=\"\",\"\",VLOOKUP(V192,WMI!A:C,3,FALSE))","v":""},{"$f":"IF(W192=\"\",\"\",VLOOKUP(W192,year!A:B,2,FALSE))","v":""}]
[207,"Hallahan, Dniren",null,null," 305-930-9402",null,"130 Meadow Vale Way, Springfield, Massachusetts 01152",null,null,null,null,null,"  dhallahan5q@stumbleupon.com",null,"Female","Honda","del Sol","WAUFMBFCXEN143010",5.6022493783198099E+17,"china-unionpay",6713.87,null,null,{"$f":"IF(V193=\"\",\"\",VLOOKUP(V193,WMI!A:C,2,FALSE))","v":""},{"$f":"IF(V193=\"\",\"\",VLOOKUP(V193,WMI!A:C,3,FALSE))","v":""},{"$f":"IF(W193=\"\",\"\",VLOOKUP(W193,year!A:B,2,FALSE))","v":""}]
[480,"Knocker, Waneta",null,null," 337-476-4484",null,"0 Bultman Alley, New York City, New York 10150",null,null,null,null,null,"  wknockerdb@ucsd.edu",null,"Female","Chevrolet","Monza","WAUKFBFL6EN588076",4017954166161,"visa",5901.95,null,null,{"$f":"IF(V194=\"\",\"\",VLOOKUP(V194,WMI!A:C,2,FALSE))","v":""},{"$f":"IF(V194=\"\",\"\",VLOOKUP(V194,WMI!A:C,3,FALSE))","v":""},{"$f":"IF(W194=\"\",\"\",VLOOKUP(W194,year!A:B,2,FALSE))","v":""}]
[571,"Whiten, Dayle",null,null," 718-777-8120",null,"396 Lakewood Gardens Center, Toledo, Ohio 43656",null,null,null,null,null,"  dwhitenfu@chicagotribune.com",null,"Female","Toyota","Celica","WAUGFBFCXEN544796",6761510267548610,"maestro",9080.07,null,null,{"$f":"IF(V195=\"\",\"\",VLOOKUP(V195,WMI!A:C,2,FALSE))","v":""},{"$f":"IF(V195=\"\",\"\",VLOOKUP(V195,WMI!A:C,3,FALSE))","v":""},{"$f":"IF(W195=\"\",\"\",VLOOKUP(W195,year!A:B,2,FALSE))","v":""}]
[630,"Gierck, Moishe",null,null," 860-969-9303",null,"1 Ruskin Parkway, Boston, Massachusetts 02114",null,null,null,null,null,"  mgierckhh@cisco.com",null,"Male","Aston Martin","Virage","WAU2GAFC5EN195743",4138663831259910,"visa",6045.27,null,null,{"$f":"IF(V196=\"\",\"\",VLOOKUP(V196,WMI!A:C,2,FALSE))","v":""},{"$f":"IF(V196=\"\",\"\",VLOOKUP(V196,WMI!A:C,3,FALSE))","v":""},{"$f":"IF(W196=\"\",\"\",VLOOKUP(W196,year!A:B,2,FALSE))","v":""}]
[667,"Malster, Davey",null,null," 917-837-2725",null,"23 Ryan Place, Pompano Beach, Florida 33075",null,null,null,null,null,"  dmalsterii@geocities.com",null,"Male","Volvo","XC90","WAUHGAFC3EN652611",5010128064536880,"mastercard",5513.77,null,null,{"$f":"IF(V197=\"\",\"\",VLOOKUP(V197,WMI!A:C,2,FALSE))","v":""},{"$f":"IF(V197=\"\",\"\",VLOOKUP(V197,WMI!A:C,3,FALSE))","v":""},{"$f":"IF(W197=\"\",\"\",VLOOKUP(W197,year!A:B,2,FALSE))","v":""}]
[766,"Matthaus, Jada",null,null," 208-785-1937",null,"95977 Lerdahl Terrace, Oakland, California 94616",null,null,null,null,null,"  jmatthausl9@altervista.org",null,"Female","BMW","M5","WAUKFAFL4EN759773",3562719522341580,"jcb",9020.52,null,null,{"$f":"IF(V198=\"\",\"\",VLOOKUP(V198,WMI!A:C,2,FALSE))","v":""},{"$f":"IF(V198=\"\",\"\",VLOOKUP(V198,WMI!A:C,3,FALSE))","v":""},{"$f":"IF(W198=\"\",\"\",VLOOKUP(W198,year!A:B,2,FALSE))","v":""}]
[960,"Balston, Dag",null,null," 765-263-9458",null,"108 Merry Trail, Clearwater, Florida 34629",null,null,null,null,null,"  dbalstonqn@blogs.com",null,"Male","Toyota","Sequoia","WUALNAFGXEN736823",6.7093047962492201E+18,"laser",9919.02,null,null,{"$f":"IF(V199=\"\",\"\",VLOOKUP(V199,WMI!A:C,2,FALSE))","v":""},{"$f":"IF(V199=\"\",\"\",VLOOKUP(V199,WMI!A:C,3,FALSE))","v":""},{"$f":"IF(W199=\"\",\"\",VLOOKUP(W199,year!A:B,2,FALSE))","v":""}]
[86,"Ashcroft, Andros",null,null," 323-410-3253",null,"0 Scofield Point, Columbus, Ohio 43226",null,null,null,null,null,"  aashcroft2d@msu.edu",null,"Male","Jaguar","XK","WBA3F9C57EF895740",3568692270845470,"jcb",6113.89,null,null,{"$f":"IF(V200=\"\",\"\",VLOOKUP(V200,WMI!A:C,2,FALSE))","v":""},{"$f":"IF(V200=\"\",\"\",VLOOKUP(V200,WMI!A:C,3,FALSE))","v":""},{"$f":"IF(W200=\"\",\"\",VLOOKUP(W200,year!A:B,2,FALSE))","v":""}]
[189,"Du Fray, Kirbie",null,null," 801-470-9017",null,"7463 Roxbury Junction, Clearwater, Florida 33763",null,null,null,null,null,"  kdufray58@cmu.edu",null,"Female","Eagle","Summit","WBA3D3C59EF005208",6.70642996306342E+16,"laser",6633.42,null,null,{"$f":"IF(V201=\"\",\"\",VLOOKUP(V201,WMI!A:C,2,FALSE))","v":""},{"$f":"IF(V201=\"\",\"\",VLOOKUP(V201,WMI!A:C,3,FALSE))","v":""},{"$f":"IF(W201=\"\",\"\",VLOOKUP(W201,year!A:B,2,FALSE))","v":""}]
[411,"Bastian, Ara",null,null," 203-191-2925",null,"37159 Morning Drive, Detroit, Michigan 48275",null,null,null,null,null,"  abastianbe@princeton.edu",null,"Female","Honda","Odyssey","WBAVM1C58EV510756",3570840379190110,"jcb",5754.35,null,null,{"$f":"IF(V202=\"\",\"\",VLOOKUP(V202,WMI!A:C,2,FALSE))","v":""},{"$f":"IF(V202=\"\",\"\",VLOOKUP(V202,WMI!A:C,3,FALSE))","v":""},{"$f":"IF(W202=\"\",\"\",VLOOKUP(W202,year!A:B,2,FALSE))","v":""}]
[449,"Marner, Daune",null,null," 415-156-2022",null,"9483 Hauk Plaza, Beaumont, Texas 77705",null,null,null,null,null,"  dmarnercg@livejournal.com",null,"Female","Buick","LaCrosse","WBA3V9C52EP920198",604021950852893,"maestro",7283.16,null,null,{"$f":"IF(V203=\"\",\"\",VLOOKUP(V203,WMI!A:C,2,FALSE))","v":""},{"$f":"IF(V203=\"\",\"\",VLOOKUP(V203,WMI!A:C,3,FALSE))","v":""},{"$f":"IF(W203=\"\",\"\",VLOOKUP(W203,year!A:B,2,FALSE))","v":""}]
[514,"MacNab, Meggie",null,null," 315-750-4055",null,"5068 Rieder Center, Kent, Washington 98042",null,null,null,null,null,"  mmacnabe9@i2i.jp",null,"Female","Mercury","Marquis","WBA3N5C53EF092256",3556450503158870,"jcb",7394.31,null,null,{"$f":"IF(V204=\"\",\"\",VLOOKUP(V204,WMI!A:C,2,FALSE))","v":""},{"$f":"IF(V204=\"\",\"\",VLOOKUP(V204,WMI!A:C,3,FALSE))","v":""},{"$f":"IF(W204=\"\",\"\",VLOOKUP(W204,year!A:B,2,FALSE))","v":""}]
[764,"Ormrod, Idaline",null,null," 916-663-5942",null,"07918 Parkside Plaza, Pittsburgh, Pennsylvania 15255",null,null,null,null,null,"  iormrodl7@t-online.de",null,"Female","Toyota","Camry","WBAVM1C57EV108310",4.9058427334726902E+18,"switch",8930.7199999999993,null,null,{"$f":"IF(V205=\"\",\"\",VLOOKUP(V205,WMI!A:C,2,FALSE))","v":""},{"$f":"IF(V205=\"\",\"\",VLOOKUP(V205,WMI!A:C,3,FALSE))","v":""},{"$f":"IF(W205=\"\",\"\",VLOOKUP(W205,year!A:B,2,FALSE))","v":""}]
[831,"Schottli, Krystle",null,null," 757-683-2768",null,"1 Nobel Trail, Hartford, Connecticut 06105",null,null,null,null,null,"  kschottlin2@1und1.de",null,"Female","Dodge","Dakota","WBAYE8C59ED316715",5108755386082020,"mastercard",7411.44,null,null,{"$f":"IF(V206=\"\",\"\",VLOOKUP(V206,WMI!A:C,2,FALSE))","v":""},{"$f":"IF(V206=\"\",\"\",VLOOKUP(V206,WMI!A:C,3,FALSE))","v":""},{"$f":"IF(W206=\"\",\"\",VLOOKUP(W206,year!A:B,2,FALSE))","v":""}]
[896,"Boord, Simonette",null,null," 863-393-1435",null,"3 Waywood Alley, Washington, District of Columbia 20525",null,null,null,null,null,"  sboordov@yandex.ru",null,"Female","Ford","E350","WBA3A9G51EN875367",3543499298699600,"jcb",6868.7,null,null,{"$f":"IF(V207=\"\",\"\",VLOOKUP(V207,WMI!A:C,2,FALSE))","v":""},{"$f":"IF(V207=\"\",\"\",VLOOKUP(V207,WMI!A:C,3,FALSE))","v":""},{"$f":"IF(W207=\"\",\"\",VLOOKUP(W207,year!A:B,2,FALSE))","v":""}]
[936,"Woodage, Spence",null,null," 505-283-1847",null,"15532 Mitchell Way, Buffalo, New York 14205",null,null,null,null,null,"  swoodagepz@fema.gov",null,"Male","Audi","A8","WBA6B2C55ED681681",3571251641282030,"jcb",6484.64,null,null,{"$f":"IF(V208=\"\",\"\",VLOOKUP(V208,WMI!A:C,2,FALSE))","v":""},{"$f":"IF(V208=\"\",\"\",VLOOKUP(V208,WMI!A:C,3,FALSE))","v":""},{"$f":"IF(W208=\"\",\"\",VLOOKUP(W208,year!A:B,2,FALSE))","v":""}]
[561,"Smissen, Gypsy",null,null," 312-776-2709",null,"8 Hallows Court, Washington, District of Columbia 20057",null,null,null,null,null,"  gsmissenfk@senate.gov",null,"Female","Pontiac","Grand Prix","WDDHF7GB9EA994673",5.6022524852857296E+16,"china-unionpay",7762.4,null,null,{"$f":"IF(V209=\"\",\"\",VLOOKUP(V209,WMI!A:C,2,FALSE))","v":""},{"$f":"IF(V209=\"\",\"\",VLOOKUP(V209,WMI!A:C,3,FALSE))","v":""},{"$f":"IF(W209=\"\",\"\",VLOOKUP(W209,year!A:B,2,FALSE))","v":""}]
[874,"Dowson, Rockie",null,null," 518-599-0178",null,"2457 Weeping Birch Street, Johnstown, Pennsylvania 15906",null,null,null,null,null,"  rdowsono9@examiner.com",null,"Male","Lincoln","LS","WDDGF4HB9EA180399",3550180177713360,"jcb",9346.81,null,null,{"$f":"IF(V210=\"\",\"\",VLOOKUP(V210,WMI!A:C,2,FALSE))","v":""},{"$f":"IF(V210=\"\",\"\",VLOOKUP(V210,WMI!A:C,3,FALSE))","v":""},{"$f":"IF(W210=\"\",\"\",VLOOKUP(W210,year!A:B,2,FALSE))","v":""}]
[282,"Scourgie, Ambrosi",null,null," 224-725-0528",null,"8969 Harbort Terrace, Greenville, South Carolina 29615",null,null,null,null,null,"  ascourgie7t@dyndns.org",null,"Male","Ford","Thunderbird","WVGEF9BP9ED460269",3564622638770530,"jcb",7204.78,null,null,{"$f":"IF(V211=\"\",\"\",VLOOKUP(V211,WMI!A:C,2,FALSE))","v":""},{"$f":"IF(V211=\"\",\"\",VLOOKUP(V211,WMI!A:C,3,FALSE))","v":""},{"$f":"IF(W211=\"\",\"\",VLOOKUP(W211,year!A:B,2,FALSE))","v":""}]
[330,"Pawlaczyk, Lilia",null,null," 512-922-4197",null,"501 Dennis Hill, Albany, New York 12237",null,null,null,null,null,"  lpawlaczyk95@dagondesign.com",null,"Female","Mercedes-Benz","M-Class","WVGAV3AX2EW147763",3546120097819710,"jcb",9330.75,null,null,{"$f":"IF(V212=\"\",\"\",VLOOKUP(V212,WMI!A:C,2,FALSE))","v":""},{"$f":"IF(V212=\"\",\"\",VLOOKUP(V212,WMI!A:C,3,FALSE))","v":""},{"$f":"IF(W212=\"\",\"\",VLOOKUP(W212,year!A:B,2,FALSE))","v":""}]
[348,"Andric, Colman",null,null," 404-106-6832",null,"310 Iowa Crossing, Houston, Texas 77070",null,null,null,null,null,"  candric9n@businesswire.com",null,"Male","Chevrolet","Malibu","WVGAV3AX7EW865339",3575245964061250,"jcb",9510.67,null,null,{"$f":"IF(V213=\"\",\"\",VLOOKUP(V213,WMI!A:C,2,FALSE))","v":""},{"$f":"IF(V213=\"\",\"\",VLOOKUP(V213,WMI!A:C,3,FALSE))","v":""},{"$f":"IF(W213=\"\",\"\",VLOOKUP(W213,year!A:B,2,FALSE))","v":""}]
[356,"Pomfret, Mendie",null,null," 216-217-2327",null,"43 Waxwing Alley, New York City, New York 10105",null,null,null,null,null,"  mpomfret9v@umich.edu",null,"Male","Ford","Taurus","WVGEF9BP6ED848737",3533875260809400,"jcb",5432.89,null,null,{"$f":"IF(V214=\"\",\"\",VLOOKUP(V214,WMI!A:C,2,FALSE))","v":""},{"$f":"IF(V214=\"\",\"\",VLOOKUP(V214,WMI!A:C,3,FALSE))","v":""},{"$f":"IF(W214=\"\",\"\",VLOOKUP(W214,year!A:B,2,FALSE))","v":""}]
[586,"Pembery, Jereme",null,null," 602-183-9360",null,"12 Dapin Alley, Anniston, Alabama 36205",null,null,null,null,null,"  jpemberyg9@studiopress.com",null,"Male","BMW",600,"WVGEF9BP1ED836267",3575832075754800,"jcb",9268.24,null,null,{"$f":"IF(V215=\"\",\"\",VLOOKUP(V215,WMI!A:C,2,FALSE))","v":""},{"$f":"IF(V215=\"\",\"\",VLOOKUP(V215,WMI!A:C,3,FALSE))","v":""},{"$f":"IF(W215=\"\",\"\",VLOOKUP(W215,year!A:B,2,FALSE))","v":""}]
[605,"Rickman, Anson",null,null," 617-956-7858",null,"13736 Daystar Road, San Francisco, California 94121",null,null,null,null,null,"  arickmangs@instagram.com",null,"Male","Ford","F150","WVGDP9BP1ED019759",3558001414501660,"jcb",9942.41,null,null,{"$f":"IF(V216=\"\",\"\",VLOOKUP(V216,WMI!A:C,2,FALSE))","v":""},{"$f":"IF(V216=\"\",\"\",VLOOKUP(V216,WMI!A:C,3,FALSE))","v":""},{"$f":"IF(W216=\"\",\"\",VLOOKUP(W216,year!A:B,2,FALSE))","v":""}]
[346,"Prendergast, Judie",null,null," 585-461-2763",null,"11 Forest Run Junction, Fort Lauderdale, Florida 33355",null,null,null,null,null,"  jprendergast9l@instagram.com",null,"Female","Mercury","Monterey","JM1NC2LF5E0128802",3575048138325140,"jcb",6213.04,null,null,{"$f":"IF(V217=\"\",\"\",VLOOKUP(V217,WMI!A:C,2,FALSE))","v":""},{"$f":"IF(V217=\"\",\"\",VLOOKUP(V217,WMI!A:C,3,FALSE))","v":""},{"$f":"IF(W217=\"\",\"\",VLOOKUP(W217,year!A:B,2,FALSE))","v":""}]
[429,"Lambole, Gasparo",null,null," 717-749-8799",null,"5 Roxbury Place, Albany, New York 12247",null,null,null,null,null,"  glambolebw@goo.gl",null,"Male","BMW","M3","JM1NC2NF9E0186540",5.6418256442156602E+17,"switch",5006.83,null,null,{"$f":"IF(V218=\"\",\"\",VLOOKUP(V218,WMI!A:C,2,FALSE))","v":""},{"$f":"IF(V218=\"\",\"\",VLOOKUP(V218,WMI!A:C,3,FALSE))","v":""},{"$f":"IF(W218=\"\",\"\",VLOOKUP(W218,year!A:B,2,FALSE))","v":""}]
[510,"Firminger, Jacquetta",null,null," 206-829-2286",null,"3055 Bartelt Lane, Miami, Florida 33185",null,null,null,null,null,"  jfirmingere5@mashable.com",null,"Female","Ford","Mustang","JHMZF1D61ES859943",5100177346772730,"mastercard",5248.18,null,null,{"$f":"IF(V219=\"\",\"\",VLOOKUP(V219,WMI!A:C,2,FALSE))","v":""},{"$f":"IF(V219=\"\",\"\",VLOOKUP(V219,WMI!A:C,3,FALSE))","v":""},{"$f":"IF(W219=\"\",\"\",VLOOKUP(W219,year!A:B,2,FALSE))","v":""}]
[137,"Aleso, Jeniffer",null,null," 785-829-4971",null,"91 Welch Center, Brooklyn, New York 11247",null,null,null,null,null,"  jaleso3s@cnn.com",null,"Female","Chrysler","Sebring","3VW4T7AT7EM310190",4405992172671440,"visa-electron",8868.5499999999993,null,null,{"$f":"IF(V220=\"\",\"\",VLOOKUP(V220,WMI!A:C,2,FALSE))","v":""},{"$f":"IF(V220=\"\",\"\",VLOOKUP(V220,WMI!A:C,3,FALSE))","v":""},{"$f":"IF(W220=\"\",\"\",VLOOKUP(W220,year!A:B,2,FALSE))","v":""}]
[135,"Kimmons, Gran",null,null," 915-217-2970",null,"45 Fordem Lane, Washington, District of Columbia 20436",null,null,null,null,null,"  gkimmons3q@pen.io",null,"Male","Mercedes-Benz","SLR McLaren","KMHEC4A41EA223506",3558138544716000,"jcb",7890.45,null,null,{"$f":"IF(V221=\"\",\"\",VLOOKUP(V221,WMI!A:C,2,FALSE))","v":""},{"$f":"IF(V221=\"\",\"\",VLOOKUP(V221,WMI!A:C,3,FALSE))","v":""},{"$f":"IF(W221=\"\",\"\",VLOOKUP(W221,year!A:B,2,FALSE))","v":""}]
[747,"Edghinn, Rosalyn",null,null," 610-335-4983",null,"55394 Jay Way, Springfield, Illinois 62705",null,null,null,null,null,"  redghinnkq@ihg.com",null,"Female","Land Rover","Freelander","KMHEC4A40EA105320",201525223884415,"diners-club-enroute",9431.2900000000009,null,null,{"$f":"IF(V222=\"\",\"\",VLOOKUP(V222,WMI!A:C,2,FALSE))","v":""},{"$f":"IF(V222=\"\",\"\",VLOOKUP(V222,WMI!A:C,3,FALSE))","v":""},{"$f":"IF(W222=\"\",\"\",VLOOKUP(W222,year!A:B,2,FALSE))","v":""}]
[494,"Blundell, Tomaso",null,null," 304-694-3553",null,"567 Towne Plaza, Saint Louis, Missouri 63121",null,null,null,null,null,"  tblundelldp@about.com",null,"Male","Isuzu","Rodeo","YV1902AH1E1919685",3570277535469890,"jcb",9031.42,null,null,{"$f":"IF(V223=\"\",\"\",VLOOKUP(V223,WMI!A:C,2,FALSE))","v":""},{"$f":"IF(V223=\"\",\"\",VLOOKUP(V223,WMI!A:C,3,FALSE))","v":""},{"$f":"IF(W223=\"\",\"\",VLOOKUP(W223,year!A:B,2,FALSE))","v":""}]
[33,"Yellowlee, Christine",null,null," 410-670-2098",null,"84179 Hoard Circle, Grand Junction, Colorado 81505",null,null,null,null,null,"  cyellowleew@dyndns.org",null,"Female","Lexus","GX","SAJWA0EXXE8583202",30566374121543,"diners-club-carte-blanche",8311.2900000000009,null,null,{"$f":"IF(V224=\"\",\"\",VLOOKUP(V224,WMI!A:C,2,FALSE))","v":""},{"$f":"IF(V224=\"\",\"\",VLOOKUP(V224,WMI!A:C,3,FALSE))","v":""},{"$f":"IF(W224=\"\",\"\",VLOOKUP(W224,year!A:B,2,FALSE))","v":""}]
[101,"Gilardone, Tamra",null,null," 903-545-2328",null,"65 Del Mar Place, Atlanta, Georgia 31119",null,null,null,null,null,"  tgilardone2s@addthis.com",null,"Female","Subaru","Alcyone SVX","SAJWA0EX9E8949389",4.9031830091739802E+18,"switch",5847.35,null,null,{"$f":"IF(V225=\"\",\"\",VLOOKUP(V225,WMI!A:C,2,FALSE))","v":""},{"$f":"IF(V225=\"\",\"\",VLOOKUP(V225,WMI!A:C,3,FALSE))","v":""},{"$f":"IF(W225=\"\",\"\",VLOOKUP(W225,year!A:B,2,FALSE))","v":""}]
[262,"Wint, Ingaberg",null,null," 502-669-7473",null,"67210 Mallory Trail, Washington, District of Columbia 20099",null,null,null,null,null,"  iwint79@quantcast.com",null,"Female","Saab",9000,"SAJWA4GB2EL049133",6.7639414398936699E+18,"maestro",6459.84,null,null,{"$f":"IF(V226=\"\",\"\",VLOOKUP(V226,WMI!A:C,2,FALSE))","v":""},{"$f":"IF(V226=\"\",\"\",VLOOKUP(V226,WMI!A:C,3,FALSE))","v":""},{"$f":"IF(W226=\"\",\"\",VLOOKUP(W226,year!A:B,2,FALSE))","v":""}]
[890,"Franz, Meghann",null,null," 520-499-8192",null,"4244 Beilfuss Circle, Miami, Florida 33233",null,null,null,null,null,"  mfranzop@salon.com",null,"Female","Dodge","Dakota","SAJWA4FB7EL219861",201661160018053,"diners-club-enroute",7875.1,null,null,{"$f":"IF(V227=\"\",\"\",VLOOKUP(V227,WMI!A:C,2,FALSE))","v":""},{"$f":"IF(V227=\"\",\"\",VLOOKUP(V227,WMI!A:C,3,FALSE))","v":""},{"$f":"IF(W227=\"\",\"\",VLOOKUP(W227,year!A:B,2,FALSE))","v":""}]
[191,"Benza, Lief",null,null," 303-508-5747",null,"841 School Way, Colorado Springs, Colorado 80951",null,null,null,null,null,"  lbenza5a@businesswire.com",null,"Male","Maserati","Quattroporte","SALVP2BG4EH129982",5108751561564080,"mastercard",5841.47,null,null,{"$f":"IF(V228=\"\",\"\",VLOOKUP(V228,WMI!A:C,2,FALSE))","v":""},{"$f":"IF(V228=\"\",\"\",VLOOKUP(V228,WMI!A:C,3,FALSE))","v":""},{"$f":"IF(W228=\"\",\"\",VLOOKUP(W228,year!A:B,2,FALSE))","v":""}]
[792,"Gerriets, Lane",null,null," 361-121-7103",null,"1024 Lakewood Street, Miami, Florida 33134",null,null,null,null,null,"  lgerrietslz@cloudflare.com",null,"Male","Nissan","Xterra","SALAG2V60EA323824",3588379561418270,"jcb",6987.24,null,null,{"$f":"IF(V229=\"\",\"\",VLOOKUP(V229,WMI!A:C,2,FALSE))","v":""},{"$f":"IF(V229=\"\",\"\",VLOOKUP(V229,WMI!A:C,3,FALSE))","v":""},{"$f":"IF(W229=\"\",\"\",VLOOKUP(W229,year!A:B,2,FALSE))","v":""}]
[826,"Nowaczyk, Grover",null,null," 213-421-3511",null,"7246 Holy Cross Circle, Washington, District of Columbia 20057",null,null,null,null,null,"  gnowaczykmx@example.com",null,"Male","GMC","Yukon XL 1500","SALVP1BGXEH984258",5330918801904040,"mastercard",5611.08,null,null,{"$f":"IF(V230=\"\",\"\",VLOOKUP(V230,WMI!A:C,2,FALSE))","v":""},{"$f":"IF(V230=\"\",\"\",VLOOKUP(V230,WMI!A:C,3,FALSE))","v":""},{"$f":"IF(W230=\"\",\"\",VLOOKUP(W230,year!A:B,2,FALSE))","v":""}]
[717,"Tinker, Goldarina",null,null," 623-119-8870",null,"261 Pepper Wood Trail, Sacramento, California 94257",null,null,null,null,null,"  gtinkerjw@marriott.com",null,"Female","Ford","E350","5NPDH4AE9EH189429",4903366389191530,"switch",8305.3700000000008,null,null,{"$f":"IF(V231=\"\",\"\",VLOOKUP(V231,WMI!A:C,2,FALSE))","v":""},{"$f":"IF(V231=\"\",\"\",VLOOKUP(V231,WMI!A:C,3,FALSE))","v":""},{"$f":"IF(W231=\"\",\"\",VLOOKUP(W231,year!A:B,2,FALSE))","v":""}]
[245,"Norville, Germain",null,null," 850-292-3823",null,"302 Algoma Alley, Sparks, Nevada 89436",null,null,null,null,null,"  gnorville6s@irs.gov",null,"Male","Acura","Integra","5N1AT2MK3EC521721",3531798893861720,"jcb",8981.16,null,null,{"$f":"IF(V232=\"\",\"\",VLOOKUP(V232,WMI!A:C,2,FALSE))","v":""},{"$f":"IF(V232=\"\",\"\",VLOOKUP(V232,WMI!A:C,3,FALSE))","v":""},{"$f":"IF(W232=\"\",\"\",VLOOKUP(W232,year!A:B,2,FALSE))","v":""}]
[702,"Slowgrove, Bunny",null,null," 918-505-0100",null,"0 Lakeland Hill, New York City, New York 10009",null,null,null,null,null,"  bslowgrovejh@slideshare.net",null,"Female","Ford","GT500","5N1AA0ND1EN793263",4017951164177490,"visa",5339.87,null,null,{"$f":"IF(V233=\"\",\"\",VLOOKUP(V233,WMI!A:C,2,FALSE))","v":""},{"$f":"IF(V233=\"\",\"\",VLOOKUP(V233,WMI!A:C,3,FALSE))","v":""},{"$f":"IF(W233=\"\",\"\",VLOOKUP(W233,year!A:B,2,FALSE))","v":""}]
[929,"Clinnick, Sher",null,null," 915-673-9132",null,"22711 Spohn Avenue, Rockford, Illinois 61105",null,null,null,null,null,"  sclinnickps@nba.com",null,"Female","BMW","Z4 M","5N1AT2ML4EC513720",3544780658819070,"jcb",5678.3,null,null,{"$f":"IF(V234=\"\",\"\",VLOOKUP(V234,WMI!A:C,2,FALSE))","v":""},{"$f":"IF(V234=\"\",\"\",VLOOKUP(V234,WMI!A:C,3,FALSE))","v":""},{"$f":"IF(W234=\"\",\"\",VLOOKUP(W234,year!A:B,2,FALSE))","v":""}]
[709,"Methven, Cort",null,null," 614-237-6911",null,"88 Maple Pass, Buffalo, New York 14225",null,null,null,null,null,"  cmethvenjo@eventbrite.com",null,"Male","Hummer","H2 SUV","1VWAP7A3XEC855891",3546435257921880,"jcb",9782.56,null,null,{"$f":"IF(V235=\"\",\"\",VLOOKUP(V235,WMI!A:C,2,FALSE))","v":""},{"$f":"IF(V235=\"\",\"\",VLOOKUP(V235,WMI!A:C,3,FALSE))","v":""},{"$f":"IF(W235=\"\",\"\",VLOOKUP(W235,year!A:B,2,FALSE))","v":""}]
[916,"Priter, Noach",null,null," 786-331-3475",null,"95 Arizona Parkway, Toledo, Ohio 43635",null,null,null,null,null,"  npriterpf@indiatimes.com",null,"Male","Mitsubishi","Lancer","VNKJTUD33FA284712",6.7091156385020396E+18,"laser",9877.2000000000007,null,null,{"$f":"IF(V236=\"\",\"\",VLOOKUP(V236,WMI!A:C,2,FALSE))","v":""},{"$f":"IF(V236=\"\",\"\",VLOOKUP(V236,WMI!A:C,3,FALSE))","v":""},{"$f":"IF(W236=\"\",\"\",VLOOKUP(W236,year!A:B,2,FALSE))","v":""}]
[361,"Mussetti, Lacy",null,null," 202-983-1527",null,"772 Hollow Ridge Road, Peoria, Illinois 61651",null,null,null,null,null,"  lmussettia0@rakuten.co.jp",null,"Female","Ford","Contour","WAUCFAFH4FN201715",6759523475952340,"switch",7569.48,null,null,{"$f":"IF(V237=\"\",\"\",VLOOKUP(V237,WMI!A:C,2,FALSE))","v":""},{"$f":"IF(V237=\"\",\"\",VLOOKUP(V237,WMI!A:C,3,FALSE))","v":""},{"$f":"IF(W237=\"\",\"\",VLOOKUP(W237,year!A:B,2,FALSE))","v":""}]
[599,"Von Hindenburg, Charlena",null,null," 325-111-6058",null,"9743 Sutherland Parkway, Washington, District of Columbia 20404",null,null,null,null,null,"  cvonhindenburggm@deliciousdays.com",null,"Female","GMC","Sierra 3500","WAUJGAFD1FN413005",4041372495246080,"visa",7280.03,null,null,{"$f":"IF(V238=\"\",\"\",VLOOKUP(V238,WMI!A:C,2,FALSE))","v":""},{"$f":"IF(V238=\"\",\"\",VLOOKUP(V238,WMI!A:C,3,FALSE))","v":""},{"$f":"IF(W238=\"\",\"\",VLOOKUP(W238,year!A:B,2,FALSE))","v":""}]
[646,"Abbati, Karel",null,null," 253-521-9451",null,"3111 Veith Crossing, Buffalo, New York 14269",null,null,null,null,null,"  kabbatihx@angelfire.com",null,"Male","Porsche",928,"WAUAFAFL2FA622898",4041370240574,"visa",6508.92,null,null,{"$f":"IF(V239=\"\",\"\",VLOOKUP(V239,WMI!A:C,2,FALSE))","v":""},{"$f":"IF(V239=\"\",\"\",VLOOKUP(V239,WMI!A:C,3,FALSE))","v":""},{"$f":"IF(W239=\"\",\"\",VLOOKUP(W239,year!A:B,2,FALSE))","v":""}]
[12,"Ferraraccio, Esra",null,null," 203-369-6783",null,"2719 North Parkway, Fort Wayne, Indiana 46825",null,null,null,null,null,"  eferraracciob@edublogs.org",null,"Male","BMW","3 Series","WBA3V7C50F5134093",3553482773091630,"jcb",9667.0499999999993,null,null,{"$f":"IF(V240=\"\",\"\",VLOOKUP(V240,WMI!A:C,2,FALSE))","v":""},{"$f":"IF(V240=\"\",\"\",VLOOKUP(V240,WMI!A:C,3,FALSE))","v":""},{"$f":"IF(W240=\"\",\"\",VLOOKUP(W240,year!A:B,2,FALSE))","v":""}]
[225,"Albasiny, Agatha",null,null," 559-757-9598",null,"31 Sauthoff Place, Little Rock, Arkansas 72222",null,null,null,null,null,"  aalbasiny68@fema.gov",null,"Female","BMW","6 Series","WBA3T7C52F5035653",3587805435541070,"jcb",6533.39,null,null,{"$f":"IF(V241=\"\",\"\",VLOOKUP(V241,WMI!A:C,2,FALSE))","v":""},{"$f":"IF(V241=\"\",\"\",VLOOKUP(V241,WMI!A:C,3,FALSE))","v":""},{"$f":"IF(W241=\"\",\"\",VLOOKUP(W241,year!A:B,2,FALSE))","v":""}]
[397,"Ramel, Tabina",null,null," 618-633-3686",null,"829 Northfield Road, Los Angeles, California 90005",null,null,null,null,null,"  tramelb0@gov.uk",null,"Female","Chevrolet","Corvette","WBAFV3C50FD168546",30357875321869,"diners-club-carte-blanche",9996.4500000000007,null,null,{"$f":"IF(V242=\"\",\"\",VLOOKUP(V242,WMI!A:C,2,FALSE))","v":""},{"$f":"IF(V242=\"\",\"\",VLOOKUP(V242,WMI!A:C,3,FALSE))","v":""},{"$f":"IF(W242=\"\",\"\",VLOOKUP(W242,year!A:B,2,FALSE))","v":""}]
[401,"Doswell, Jean",null,null," 714-195-5093",null,"9685 Gale Center, Arlington, Virginia 22225",null,null,null,null,null,"  jdoswellb4@weebly.com",null,"Male","Mercedes-Benz","600SEL","WBA8Z5C53FG571976",5602219158138880,"bankcard",5187.8,null,null,{"$f":"IF(V243=\"\",\"\",VLOOKUP(V243,WMI!A:C,2,FALSE))","v":""},{"$f":"IF(V243=\"\",\"\",VLOOKUP(V243,WMI!A:C,3,FALSE))","v":""},{"$f":"IF(W243=\"\",\"\",VLOOKUP(W243,year!A:B,2,FALSE))","v":""}]
[460,"Kiehl, Hercule",null,null," 801-632-4969",null,"48372 Parkside Parkway, Saint Petersburg, Florida 33737",null,null,null,null,null,"  hkiehlcr@toplist.cz",null,"Male","GMC","Yukon","WBAYE4C54FD209890",3548052774006280,"jcb",9626.98,null,null,{"$f":"IF(V244=\"\",\"\",VLOOKUP(V244,WMI!A:C,2,FALSE))","v":""},{"$f":"IF(V244=\"\",\"\",VLOOKUP(V244,WMI!A:C,3,FALSE))","v":""},{"$f":"IF(W244=\"\",\"\",VLOOKUP(W244,year!A:B,2,FALSE))","v":""}]
[582,"Kempshall, Umberto",null,null," 971-130-1030",null,"00504 Ohio Center, Hampton, Virginia 23663",null,null,null,null,null,"  ukempshallg5@istockphoto.com",null,"Male","Cadillac","Seville","WBA3R1C53FF088142",5610424075253740,"bankcard",8235.4599999999991,null,null,{"$f":"IF(V245=\"\",\"\",VLOOKUP(V245,WMI!A:C,2,FALSE))","v":""},{"$f":"IF(V245=\"\",\"\",VLOOKUP(V245,WMI!A:C,3,FALSE))","v":""},{"$f":"IF(W245=\"\",\"\",VLOOKUP(W245,year!A:B,2,FALSE))","v":""}]
[584,"Kernan, Viola",null,null," 216-638-7265",null,"22603 Florence Crossing, Sacramento, California 95865",null,null,null,null,null,"  vkernang7@zimbio.com",null,"Female","Lincoln","Continental","WBA6A0C54FD477849",3555256887578860,"jcb",6118.82,null,null,{"$f":"IF(V246=\"\",\"\",VLOOKUP(V246,WMI!A:C,2,FALSE))","v":""},{"$f":"IF(V246=\"\",\"\",VLOOKUP(V246,WMI!A:C,3,FALSE))","v":""},{"$f":"IF(W246=\"\",\"\",VLOOKUP(W246,year!A:B,2,FALSE))","v":""}]
[777,"Lysaght, Camile",null,null," 909-397-1068",null,"20328 Memorial Alley, Bellevue, Washington 98008",null,null,null,null,null,"  clysaghtlk@hibu.com",null,"Female","Cadillac","Seville","WBA3R5C59FF400844",6761244208218030,"maestro",7575.79,null,null,{"$f":"IF(V247=\"\",\"\",VLOOKUP(V247,WMI!A:C,2,FALSE))","v":""},{"$f":"IF(V247=\"\",\"\",VLOOKUP(V247,WMI!A:C,3,FALSE))","v":""},{"$f":"IF(W247=\"\",\"\",VLOOKUP(W247,year!A:B,2,FALSE))","v":""}]
[794,"Schlagtmans, Toma",null,null," 207-105-6193",null,"431 Victoria Crossing, Oklahoma City, Oklahoma 73119",null,null,null,null,null,"  tschlagtmansm1@bluehost.com",null,"Female","Chevrolet","Suburban 1500","WBAYB6C59FG981157",6391886291765430,"instapayment",5146.8999999999996,null,null,{"$f":"IF(V248=\"\",\"\",VLOOKUP(V248,WMI!A:C,2,FALSE))","v":""},{"$f":"IF(V248=\"\",\"\",VLOOKUP(V248,WMI!A:C,3,FALSE))","v":""},{"$f":"IF(W248=\"\",\"\",VLOOKUP(W248,year!A:B,2,FALSE))","v":""}]
[867,"Payn, Sammy",null,null," 202-194-6836",null,"882 Gina Road, Buffalo, New York 14233",null,null,null,null,null,"  spayno2@npr.org",null,"Male","Toyota","Xtra","WBA5M4C53FD914864",3557637466557690,"jcb",5967.41,null,null,{"$f":"IF(V249=\"\",\"\",VLOOKUP(V249,WMI!A:C,2,FALSE))","v":""},{"$f":"IF(V249=\"\",\"\",VLOOKUP(V249,WMI!A:C,3,FALSE))","v":""},{"$f":"IF(W249=\"\",\"\",VLOOKUP(W249,year!A:B,2,FALSE))","v":""}]
[879,"Walkinshaw, Christen",null,null," 212-272-2570",null,"214 Lunder Crossing, Rochester, New York 14619",null,null,null,null,null,"  cwalkinshawoe@hao123.com",null,"Female","Studebaker","Avanti","WBA5B3C56FD229693",3532507768662590,"jcb",8747.83,null,null,{"$f":"IF(V250=\"\",\"\",VLOOKUP(V250,WMI!A:C,2,FALSE))","v":""},{"$f":"IF(V250=\"\",\"\",VLOOKUP(V250,WMI!A:C,3,FALSE))","v":""},{"$f":"IF(W250=\"\",\"\",VLOOKUP(W250,year!A:B,2,FALSE))","v":""}]
[925,"Vassano, Sigrid",null,null," 704-643-7578",null,"9929 Bellgrove Plaza, Brockton, Massachusetts 02405",null,null,null,null,null,"  svassanopo@telegraph.co.uk",null,"Female","Chevrolet","Camaro","WBAYF4C59FG136477",6.33489243215121E+18,"solo",5741.1,null,null,{"$f":"IF(V251=\"\",\"\",VLOOKUP(V251,WMI!A:C,2,FALSE))","v":""},{"$f":"IF(V251=\"\",\"\",VLOOKUP(V251,WMI!A:C,3,FALSE))","v":""},{"$f":"IF(W251=\"\",\"\",VLOOKUP(W251,year!A:B,2,FALSE))","v":""}]
[979,"Adamov, Mischa",null,null," 214-783-7550",null,"1 Sloan Crossing, Pensacola, Florida 32526",null,null,null,null,null,"  madamovr6@sina.com.cn",null,"Male","Suzuki","Sidekick","WBA4B3C59FD647287",5602236253426930,"bankcard",9360.8799999999992,null,null,{"$f":"IF(V252=\"\",\"\",VLOOKUP(V252,WMI!A:C,2,FALSE))","v":""},{"$f":"IF(V252=\"\",\"\",VLOOKUP(V252,WMI!A:C,3,FALSE))","v":""},{"$f":"IF(W252=\"\",\"\",VLOOKUP(W252,year!A:B,2,FALSE))","v":""}]
[729,"Collcutt, Pierrette",null,null," 419-508-4038",null,"76028 5th Parkway, Staten Island, New York 10310",null,null,null,null,null,"  pcollcuttk8@reference.com",null,"Female","Ford","Crown Victoria","WDDLJ7GB4FA784542",30158198871436,"diners-club-carte-blanche",6200.47,null,null,{"$f":"IF(V253=\"\",\"\",VLOOKUP(V253,WMI!A:C,2,FALSE))","v":""},{"$f":"IF(V253=\"\",\"\",VLOOKUP(V253,WMI!A:C,3,FALSE))","v":""},{"$f":"IF(W253=\"\",\"\",VLOOKUP(W253,year!A:B,2,FALSE))","v":""}]
[451,"Mill, Adrianna",null,null," 517-387-0475",null,"7590 Gerald Plaza, Lexington, Kentucky 40596",null,null,null,null,null,"  amillci@tripadvisor.com",null,"Female","Lexus","ES","WP0AB2A94FS789810",3588060775803810,"jcb",7570.86,null,null,{"$f":"IF(V254=\"\",\"\",VLOOKUP(V254,WMI!A:C,2,FALSE))","v":""},{"$f":"IF(V254=\"\",\"\",VLOOKUP(V254,WMI!A:C,3,FALSE))","v":""},{"$f":"IF(W254=\"\",\"\",VLOOKUP(W254,year!A:B,2,FALSE))","v":""}]
[906,"Berriman, Augustus",null,null," 209-756-0673",null,"35 Onsgard Trail, Wichita, Kansas 67205",null,null,null,null,null,"  aberrimanp5@examiner.com",null,"Male","Plymouth","Colt","WVGAV7AX3FW199752",4.9361747569496596E+18,"switch",9250.02,null,null,{"$f":"IF(V255=\"\",\"\",VLOOKUP(V255,WMI!A:C,2,FALSE))","v":""},{"$f":"IF(V255=\"\",\"\",VLOOKUP(V255,WMI!A:C,3,FALSE))","v":""},{"$f":"IF(W255=\"\",\"\",VLOOKUP(W255,year!A:B,2,FALSE))","v":""}]
[596,"Philips, Brice",null,null," 509-670-7274",null,"18045 Sommers Plaza, Denver, Colorado 80291",null,null,null,null,null,"  bphilipsgj@trellian.com",null,"Male","Chevrolet","Tahoe","WP1AE2A27FL979519",5602217254715810,"bankcard",6122.83,null,null,{"$f":"IF(V256=\"\",\"\",VLOOKUP(V256,WMI!A:C,2,FALSE))","v":""},{"$f":"IF(V256=\"\",\"\",VLOOKUP(V256,WMI!A:C,3,FALSE))","v":""},{"$f":"IF(W256=\"\",\"\",VLOOKUP(W256,year!A:B,2,FALSE))","v":""}]
[24,"Reeday, Emmi",null,null," 304-773-3984",null,"0 Warrior Hill, Orange, California 92862",null,null,null,null,null,"  ereedayn@is.gd",null,"Female","Kia","Sephia","JM1GJ1U52F1137581",3551793540491430,"jcb",9586.17,null,null,{"$f":"IF(V257=\"\",\"\",VLOOKUP(V257,WMI!A:C,2,FALSE))","v":""},{"$f":"IF(V257=\"\",\"\",VLOOKUP(V257,WMI!A:C,3,FALSE))","v":""},{"$f":"IF(W257=\"\",\"\",VLOOKUP(W257,year!A:B,2,FALSE))","v":""}]
[574,"McMurtyr, Baily",null,null," 770-469-7277",null,"2687 Shelley Crossing, Cincinnati, Ohio 45218",null,null,null,null,null,"  bmcmurtyrfx@addtoany.com",null,"Male","Toyota","Land Cruiser","JM1GJ1T52F1840180",6.7092559199628298E+18,"laser",8045.62,null,null,{"$f":"IF(V258=\"\",\"\",VLOOKUP(V258,WMI!A:C,2,FALSE))","v":""},{"$f":"IF(V258=\"\",\"\",VLOOKUP(V258,WMI!A:C,3,FALSE))","v":""},{"$f":"IF(W258=\"\",\"\",VLOOKUP(W258,year!A:B,2,FALSE))","v":""}]
[649,"Poolman, Fredrick",null,null," 571-847-9875",null,"00010 7th Alley, Minneapolis, Minnesota 55448",null,null,null,null,null,"  fpoolmani0@disqus.com",null,"Male","Audi","Q7","JM1GJ1T52F1897060",201731351835928,"diners-club-enroute",6331.03,null,null,{"$f":"IF(V259=\"\",\"\",VLOOKUP(V259,WMI!A:C,2,FALSE))","v":""},{"$f":"IF(V259=\"\",\"\",VLOOKUP(V259,WMI!A:C,3,FALSE))","v":""},{"$f":"IF(W259=\"\",\"\",VLOOKUP(W259,year!A:B,2,FALSE))","v":""}]
[603,"Argabrite, Rollo",null,null," 323-592-4368",null,"2 Ronald Regan Circle, Tucson, Arizona 85732",null,null,null,null,null,"  rargabritegq@alexa.com",null,"Male","Kia","Rio5","3VWC17AU1FM995797",30228448049883,"diners-club-carte-blanche",6672.71,null,null,{"$f":"IF(V260=\"\",\"\",VLOOKUP(V260,WMI!A:C,2,FALSE))","v":""},{"$f":"IF(V260=\"\",\"\",VLOOKUP(V260,WMI!A:C,3,FALSE))","v":""},{"$f":"IF(W260=\"\",\"\",VLOOKUP(W260,year!A:B,2,FALSE))","v":""}]
[73,"Comizzoli, Nicolis",null,null," 603-871-1758",null,"83 Washington Pass, Mount Vernon, New York 10557",null,null,null,null,null,"  ncomizzoli20@sciencedaily.com",null,"Male","Ford","Focus","KMHTC6AD9FU816209",4844862078551910,"visa-electron",6368.43,null,null,{"$f":"IF(V261=\"\",\"\",VLOOKUP(V261,WMI!A:C,2,FALSE))","v":""},{"$f":"IF(V261=\"\",\"\",VLOOKUP(V261,WMI!A:C,3,FALSE))","v":""},{"$f":"IF(W261=\"\",\"\",VLOOKUP(W261,year!A:B,2,FALSE))","v":""}]
[468,"Greser, Friedrich",null,null," 571-767-5648",null,"098 Wayridge Terrace, Anaheim, California 92805",null,null,null,null,null,"  fgresercz@webeden.co.uk",null,"Male","Chrysler","Sebring","KMHGH4JH8FU653093",4026607572039900,"visa-electron",5678.32,null,null,{"$f":"IF(V262=\"\",\"\",VLOOKUP(V262,WMI!A:C,2,FALSE))","v":""},{"$f":"IF(V262=\"\",\"\",VLOOKUP(V262,WMI!A:C,3,FALSE))","v":""},{"$f":"IF(W262=\"\",\"\",VLOOKUP(W262,year!A:B,2,FALSE))","v":""}]
[622,"Tommasuzzi, Bordy",null,null," 415-473-9596",null,"8 Blaine Hill, Salt Lake City, Utah 84110",null,null,null,null,null,"  btommasuzzih9@washingtonpost.com",null,"Male","Ford","Contour","KMHFH4JG6FA203432",4.9054996053900602E+17,"switch",7657.06,null,null,{"$f":"IF(V263=\"\",\"\",VLOOKUP(V263,WMI!A:C,2,FALSE))","v":""},{"$f":"IF(V263=\"\",\"\",VLOOKUP(V263,WMI!A:C,3,FALSE))","v":""},{"$f":"IF(W263=\"\",\"\",VLOOKUP(W263,year!A:B,2,FALSE))","v":""}]
[894,"Vinck, Renaud",null,null," 717-411-0935",null,"3 Warbler Point, El Paso, Texas 79928",null,null,null,null,null,"  rvinckot@bigcartel.com",null,"Male","Plymouth","Prowler","KMHGN4JE2FU087673",3534458171697270,"jcb",6272.07,null,null,{"$f":"IF(V264=\"\",\"\",VLOOKUP(V264,WMI!A:C,2,FALSE))","v":""},{"$f":"IF(V264=\"\",\"\",VLOOKUP(V264,WMI!A:C,3,FALSE))","v":""},{"$f":"IF(W264=\"\",\"\",VLOOKUP(W264,year!A:B,2,FALSE))","v":""}]
[922,"Wooder, Paolo",null,null," 937-516-5416",null,"757 Grasskamp Road, Minneapolis, Minnesota 55448",null,null,null,null,null,"  pwooderpl@state.gov",null,"Male","Toyota","Land Cruiser","KMHCT4AE5FU444090",4913596951240110,"visa-electron",8997.44,null,null,{"$f":"IF(V265=\"\",\"\",VLOOKUP(V265,WMI!A:C,2,FALSE))","v":""},{"$f":"IF(V265=\"\",\"\",VLOOKUP(V265,WMI!A:C,3,FALSE))","v":""},{"$f":"IF(W265=\"\",\"\",VLOOKUP(W265,year!A:B,2,FALSE))","v":""}]
[31,"Jiran, Maddy",null,null," 571-959-4717",null,"3237 Sycamore Parkway, Atlanta, Georgia 30392",null,null,null,null,null,"  mjiranu@dagondesign.com",null,"Female","Chrysler","Sebring","YV126MED8F1193425",3573133643902500,"jcb",8035.79,null,null,{"$f":"IF(V266=\"\",\"\",VLOOKUP(V266,WMI!A:C,2,FALSE))","v":""},{"$f":"IF(V266=\"\",\"\",VLOOKUP(V266,WMI!A:C,3,FALSE))","v":""},{"$f":"IF(W266=\"\",\"\",VLOOKUP(W266,year!A:B,2,FALSE))","v":""}]
[115,"Demongeot, Dallon",null,null," 574-746-1830",null,"8 Leroy Plaza, Harrisburg, Pennsylvania 17110",null,null,null,null,null,"  ddemongeot36@t.co",null,"Male","Volvo",850,"YV1902MD6F1747518",3533258810824770,"jcb",6726.89,null,null,{"$f":"IF(V267=\"\",\"\",VLOOKUP(V267,WMI!A:C,2,FALSE))","v":""},{"$f":"IF(V267=\"\",\"\",VLOOKUP(V267,WMI!A:C,3,FALSE))","v":""},{"$f":"IF(W267=\"\",\"\",VLOOKUP(W267,year!A:B,2,FALSE))","v":""}]
[421,"Dorney, Claudianus",null,null," 916-548-8735",null,"79 Hoepker Circle, Virginia Beach, Virginia 23454",null,null,null,null,null,"  cdorneybo@abc.net.au",null,"Male","Oldsmobile","Bravada","YV1902MM6F1558335",4936333565241160,"switch",7055.96,null,null,{"$f":"IF(V268=\"\",\"\",VLOOKUP(V268,WMI!A:C,2,FALSE))","v":""},{"$f":"IF(V268=\"\",\"\",VLOOKUP(V268,WMI!A:C,3,FALSE))","v":""},{"$f":"IF(W268=\"\",\"\",VLOOKUP(W268,year!A:B,2,FALSE))","v":""}]
[587,"Swinbourne, Chico",null,null," 713-884-3698",null,"60 Quincy Trail, Denver, Colorado 80235",null,null,null,null,null,"  cswinbournega@japanpost.jp",null,"Male","Mercedes-Benz","CLK-Class","YV126MFD1F2931767",4005037459494990,"visa",6201.49,null,null,{"$f":"IF(V269=\"\",\"\",VLOOKUP(V269,WMI!A:C,2,FALSE))","v":""},{"$f":"IF(V269=\"\",\"\",VLOOKUP(V269,WMI!A:C,3,FALSE))","v":""},{"$f":"IF(W269=\"\",\"\",VLOOKUP(W269,year!A:B,2,FALSE))","v":""}]
[668,"Androsik, Alden",null,null," 801-102-9218",null,"138 Butterfield Drive, Colorado Springs, Colorado 80905",null,null,null,null,null,"  aandrosikij@furl.net",null,"Male","Chevrolet","Express 3500","YV126MFD1F1474240",5602221276961150,"bankcard",6075.41,null,null,{"$f":"IF(V270=\"\",\"\",VLOOKUP(V270,WMI!A:C,2,FALSE))","v":""},{"$f":"IF(V270=\"\",\"\",VLOOKUP(V270,WMI!A:C,3,FALSE))","v":""},{"$f":"IF(W270=\"\",\"\",VLOOKUP(W270,year!A:B,2,FALSE))","v":""}]
[682,"Galle, Silvana",null,null," 907-155-9004",null,"5397 Macpherson Court, Austin, Texas 78759",null,null,null,null,null,"  sgalleix@tamu.edu",null,"Female","Hummer","H3","YV126MFC9F1039411",30590243376781,"diners-club-carte-blanche",8436.8799999999992,null,null,{"$f":"IF(V271=\"\",\"\",VLOOKUP(V271,WMI!A:C,2,FALSE))","v":""},{"$f":"IF(V271=\"\",\"\",VLOOKUP(V271,WMI!A:C,3,FALSE))","v":""},{"$f":"IF(W271=\"\",\"\",VLOOKUP(W271,year!A:B,2,FALSE))","v":""}]
[864,"Tucker, Fulvia",null,null," 816-650-1178",null,"178 Prentice Terrace, Fort Lauderdale, Florida 33355",null,null,null,null,null,"  ftuckernz@google.com",null,"Female","Ram",2500,"SAJWA6BCXF8814136",4405837355765520,"visa-electron",5330.46,null,null,{"$f":"IF(V272=\"\",\"\",VLOOKUP(V272,WMI!A:C,2,FALSE))","v":""},{"$f":"IF(V272=\"\",\"\",VLOOKUP(V272,WMI!A:C,3,FALSE))","v":""},{"$f":"IF(W272=\"\",\"\",VLOOKUP(W272,year!A:B,2,FALSE))","v":""}]
[2,"Pearlman, Staffard",null,null," 812-734-1497",null,"6 Bay Point, Bridgeport, Connecticut 06673",null,null,null,null,null,"  spearlman1@wp.com",null,"Male","Dodge","Dakota","SALGS2TF5FA042891",5002353314768140,"mastercard",7800.26,null,null,{"$f":"IF(V273=\"\",\"\",VLOOKUP(V273,WMI!A:C,2,FALSE))","v":""},{"$f":"IF(V273=\"\",\"\",VLOOKUP(V273,WMI!A:C,3,FALSE))","v":""},{"$f":"IF(W273=\"\",\"\",VLOOKUP(W273,year!A:B,2,FALSE))","v":""}]
[463,"Judron, Vinnie",null,null," 419-807-2959",null,"45081 Shoshone Road, Atlanta, Georgia 30343",null,null,null,null,null,"  vjudroncu@creativecommons.org",null,"Male","Lexus","LX","1G4GD5G39FF929489",3546880016594860,"jcb",5454.9,null,null,{"$f":"IF(V274=\"\",\"\",VLOOKUP(V274,WMI!A:C,2,FALSE))","v":""},{"$f":"IF(V274=\"\",\"\",VLOOKUP(V274,WMI!A:C,3,FALSE))","v":""},{"$f":"IF(W274=\"\",\"\",VLOOKUP(W274,year!A:B,2,FALSE))","v":""}]
[670,"Flatt, Marris",null,null," 203-730-1456",null,"7439 Anderson Street, Pittsburgh, Pennsylvania 15240",null,null,null,null,null,"  mflattil@a8.net",null,"Female","Nissan","Sentra","5N1AN0NU6FN142698",5602230561786190,"bankcard",6663.52,null,null,{"$f":"IF(V275=\"\",\"\",VLOOKUP(V275,WMI!A:C,2,FALSE))","v":""},{"$f":"IF(V275=\"\",\"\",VLOOKUP(V275,WMI!A:C,3,FALSE))","v":""},{"$f":"IF(W275=\"\",\"\",VLOOKUP(W275,year!A:B,2,FALSE))","v":""}]
[699,"Ickowicz, Seumas",null,null," 952-547-7677",null,"45369 Stone Corner Park, Roanoke, Virginia 24014",null,null,null,null,null,"  sickowiczje@about.me",null,"Male","BMW","3 Series","5N1AR2MM2FC352938",5048374984213890,"mastercard",5912.59,null,null,{"$f":"IF(V276=\"\",\"\",VLOOKUP(V276,WMI!A:C,2,FALSE))","v":""},{"$f":"IF(V276=\"\",\"\",VLOOKUP(V276,WMI!A:C,3,FALSE))","v":""},{"$f":"IF(W276=\"\",\"\",VLOOKUP(W276,year!A:B,2,FALSE))","v":""}]
[40,"Bartrum, Almeda",null,null," 202-166-9413",null,"26155 Sachtjen Way, London, Kentucky 40745",null,null,null,null,null,"  abartrum13@theatlantic.com",null,"Female","Infiniti","Q","1HGCR2E77FA451449",3549171904722260,"jcb",9454.81,null,null,{"$f":"IF(V277=\"\",\"\",VLOOKUP(V277,WMI!A:C,2,FALSE))","v":""},{"$f":"IF(V277=\"\",\"\",VLOOKUP(V277,WMI!A:C,3,FALSE))","v":""},{"$f":"IF(W277=\"\",\"\",VLOOKUP(W277,year!A:B,2,FALSE))","v":""}]
[220,"Franscioni, Emmy",null,null," 210-539-4060",null,"92368 Birchwood Point, New York City, New York 10155",null,null,null,null,null,"  efranscioni63@godaddy.com",null,"Male","Saturn","Ion","5J6TF2H59FL162265",3581563535640220,"jcb",9430.07,null,null,{"$f":"IF(V278=\"\",\"\",VLOOKUP(V278,WMI!A:C,2,FALSE))","v":""},{"$f":"IF(V278=\"\",\"\",VLOOKUP(V278,WMI!A:C,3,FALSE))","v":""},{"$f":"IF(W278=\"\",\"\",VLOOKUP(W278,year!A:B,2,FALSE))","v":""}]
[685,"Tallent, Gardener",null,null," 714-292-0073",null,"34518 Eliot Road, Brooksville, Florida 34605",null,null,null,null,null,"  gtallentj0@creativecommons.org",null,"Male","Isuzu","Amigo","1GD12YEG1FF964417",3545492949615250,"jcb",7547.95,null,null,{"$f":"IF(V279=\"\",\"\",VLOOKUP(V279,WMI!A:C,2,FALSE))","v":""},{"$f":"IF(V279=\"\",\"\",VLOOKUP(V279,WMI!A:C,3,FALSE))","v":""},{"$f":"IF(W279=\"\",\"\",VLOOKUP(W279,year!A:B,2,FALSE))","v":""}]

{"sheet":"WMI","index":1,"n_rows":284,"n_cols":3,"rows_kept":284,"cut":false,"hidden":false,"merged":[]}
["WMI","Country","Manufacturer"]
["AAV","South Africa","Volkswagen"]
["AHT","South Africa","Toyota"]
["AFA","South Africa","Ford"]
["BF9","Kenya","KIBO Motorcycles"]
["CL9","Tunisia","Wallyscar"]
["JA","Japan","Isuzu"]
["JC1","Japan","Fiat Automobiles/Mazda"]
["JF","Japan","Fuji Heavy Industries"]
["JHL","Japan","Honda"]
["JHM","Japan","Honda"]
["JM0","Japan","Mazda for Oceania export"]
["JM1","Japan","Mazda"]
["JMB","Japan","Mitsubishi"]
["JM6","Japan","Mazda"]
["JN","Japan","Nissan"]
["JS","Japan","Suzuki"]
["JT","Japan","Toyota"]
["JY","Japan","Yamaha"]
["KL","South Korea","Daewoo/GM Korea"]
["KMH","South Korea","Hyundai"]
["KN","South Korea","Kia"]
["KPT","South Korea","SsangYong"]
["L2C","China","Chery Jaguar Land Rover"]
["L6T","China","Geely"]
["LB3","China","Geely"]
["LA6","China","King Long"]
["LBE","China","Beijing Hyundai"]
["LBV","China","BMW Brilliance"]
["LC0","China","BYD Industry"]
["LDC","China","Dongfeng Peugeot-Citroën"]
["LE4","China","Beijing Benz"]
["LFM","China","FAW Toyota"]
["LFP","China","FAW Car"]
["LFV","China","FAW-Volkswagen"]
["LGB","China","Dongfeng Nissan"]
["LGJ","China","Dongfeng Fengshen"]
["LGW","China","Great Wall (Havel)"]
["LGX","China","BYD Auto"]
["LH1","China","FAW Haima"]
["LHG","China","Guangzhou Honda"]
["LJ1","China","JAC"]
["LJD","China","Dongfeng Yueda Kia"]
["LLV","China","Lifan"]
["LMG","China","GAC Trumpchi"]
["LPA","China","Changan PSA (DS Automobiles)"]
["LS5","China","Changan Suzuki"]
["LSFA","China","SAIC Maxus"]
["LSG","China","SAIC General Motors"]
["LSJ","China","SAIC MG"]
["LSV","China","SAIC Volkswagen"]
["LTV","China","FAW Toyota (Tianjin)"]
["LVG","China","GAC Toyota"]
["LVH","China","Dongfeng Honda"]
["LVR","China","Changan Mazda"]
["LVS","China","Changan Ford"]
["LVV","China","Chery"]
["LWV","China","GAC Fiat"]
["LZW","China","SAIC GM Wuling"]
["LZY","China","Yutong"]
["MNT","Thailand","Nissan"]
["MM0","Thailand","Mazda"]
["MMB","Thailand","Mitsubishi"]
["MRH","Thailand","Honda"]
["MS0","Myanmar","Kia"]
["NMT","Turkey","Toyota"]
["NM0","Turkey","Ford Otosan"]
["PL1","Malaysia","Proton"]
["PMH","Malaysia","Honda"]
["PM1","Malaysia","BMW"]
["PM2","Malaysia","Perodua"]
["PNA","Malaysia","Kia"]
["PNV","Malaysia","Volvo Cars"]
["PN1","Malaysia","Toyota"]
["PN8","Malaysia","Nissan"]
["PP1","Malaysia","Mazda"]
["PR8","Malaysia","Ford"]
["SAB","United Kingdom","Optare"]
["SAJ","United Kingdom","Jaguar"]
["SAL","United Kingdom","Land Rover"]
["SAR","United Kingdom","Rover"]
["SAT","United Kingdom","Triumph"]
["SB1","United Kingdom","Toyota"]
["SBM","United Kingdom","McLAREN Automotive Limited"]
["SCC","United Kingdom","Lotus Cars"]
["SCF","United Kingdom","Aston Martin Lagonda Limited"]
["SCE","United Kingdom","DeLorean"]
["SFD","United Kingdom","Alexander Dennis"]
["SFE","United Kingdom","Alexander Dennis (North America)"]
["SHH","United Kingdom","Honda"]
["SHS","United Kingdom","Honda"]
["SJN","United Kingdom","Nissan"]
["TCC","Switzerland","Micro Compact Car"]
["TEB","UK/Switzerland","Johnston sweeper (Bucher)"]
["TMA","Czech Republic","Hyundai"]
["TMB","Czech Republic","Škoda"]
["TRU","Hungary","Audi"]
["TSM","Hungary","Suzuki"]
["U5Y","Slovakia","Kia"]
["UU","Romania","Dacia"]
["VA0","Austria","ÖAF"]
["VF1","France","Renault"]
["VF2","France","Renault"]
["VF3","France","Peugeot"]
["VF4","France","Talbot"]
["VF5","France","Iveco Unic SA"]
["VF6","France","Renault Trucks/Volvo"]
["VF7","France","Citroën"]
["VF8","France","Matra/Talbot/Simca"]
["VF9","France","Bugatti"]
["VFE","France","IvecoBus"]
["VNK","France","Toyota"]
["VR1","France","DS Automobiles"]
["VSS","Spain","SEAT"]
["VS7","Spain","Citroën"]
["VV9","Spain","Tauro Sport Auto"]
["WAG","Germany","Neoplan"]
["WAU","Germany","Audi"]
["WAP","Germany","Alpina"]
["WBA","Germany","BMW"]
["WBS","Germany","BMW M"]
["WBX","Germany","BMW"]
["WDB","Germany","Mercedes-Benz"]
["WDC","Germany","DaimlerChrysler AG/Daimler AG"]
["WMX","Germany","DaimlerChrysler AG/Daimler AG"]
["WDD","Germany","DaimlerChrysler AG/Daimler AG"]
["WEB","Germany","EvoBus"]
["WF0","Germany","Ford of Europe"]
["WJM","Germany","Iveco"]
["WJR","Germany","Irmscher"]
["WKK","Germany","Karl Kässbohrer Fahrzeugwerke"]
["WMA","Germany","MAN"]
["WME","Germany","Smart"]
["WMW","Germany","Mini"]
["WP0","Germany","Porsche car"]
["WP1","Germany[9]","Porsche SUV"]
["WUA","Germany","Quattro"]
["WVG","Germany","Volkswagen"]
["WVW","Germany","Volkswagen"]
["WV1","Germany","Volkswagen Commercial Vehicles"]
["WV2","Germany","Volkswagen Commercial Vehicles"]
["W09","Germany","Ruf Automobile"]
["W0L","Germany","Opel/Vauxhall"]
["W0SV","Germany","Opel Special Vehicles"]
["XLR","Netherlands","DAF Trucks"]
["XTA","Russia","AvtoVAZ"]
["XTB","Russia","AZLK"]
["YK1","Finland","Saab"]
["YS2","Sweden","Scania, Södertälje"]
["YS3","Sweden","Saab"]
["YS4","Sweden","Scania, Katrineholm"]
["YTN","Sweden","Saab NEVS"]
["YV1","Sweden","Volvo Cars"]
["YV2","Sweden","Volvo Trucks"]
["YV3","Sweden","Volvo Buses"]
["YT9","Sweden","Koenigsegg Automotive AB"]
["ZA9","Italy","Bugatti"]
["ZAM","Italy","Maserati"]
["ZAR","Italy","Alfa Romeo"]
["ZCF","Italy","Iveco"]
["ZFA","Italy","Fiat"]
["ZFF","Italy","Ferrari"]
["ZGA","Italy","IvecoBus"]
["ZHW","Italy","Lamborghini"]
["ZLA","Italy","Lancia"]
["1B","United States","Dodge"]
["1C","United States","Chrysler"]
["1F","United States","Ford"]
["1G","United States","General Motors"]
["1G1","United States","Chevrolet"]
["1G3","United States","Oldsmobile"]
["1G4","United States","Buick"]
["1G9","United States","Google"]
["1GB","United States","Chevrolet incomplete vehicles"]
["1GC","United States","Chevrolet"]
["1GD","United States","GMC incomplete vehicles"]
["1GM","United States","Pontiac"]
["1HG","United States","Honda"]
["1J","United States","Jeep"]
["1L","United States","Lincoln"]
["1M","United States","Mercury"]
["1MR","United States","Continental"]
["1N","United States","Nissan"]
["1VW","United States","Volkswagen"]
["1YV","United States","Mazda"]
["1ZV","United States","Ford"]
["2DG","Canada","Ontario Drive & Gear"]
["2F","Canada","Ford"]
["2Gx","Canada","General Motors"]
["2G1","Canada","Chevrolet"]
["2G2","Canada","Pontiac"]
["2G9","Canada","Gnome Homes"]
["2HG","Canada","Honda"]
["2HH","Canada","Acura"]
["2HJ","Canada","Honda"]
["2HK","Canada","Honda"]
["2HM","Canada","Hyundai"]
["2L9","Canada","Les Contenants Durabac"]
["2LN","Canada","Lincoln"]
["2M","Canada","Mercury"]
["2T","Canada","Toyota"]
["3F","Mexico","Ford"]
["3G","Mexico","General Motors"]
["3HG","Mexico","Honda"]
["3HM","Mexico","Honda"]
["3KP","Mexico","Kia"]
["3N","Mexico","Nissan"]
["3VW","Mexico","Volkswagen"]
["4F","United States","Mazda"]
["4J","United States","Mercedes-Benz"]
["4M","United States","Mercury"]
["4S3","United States","Subaru"]
["4S4","United States","Subaru"]
["4S6","United States","Honda"]
["4T","United States","Toyota"]
["4US","United States","BMW"]
["5FN","United States","Honda"]
["5J6","United States","Honda"]
["5L","United States","Lincoln"]
["5N1","United States","Nissan"]
["5NM","United States","Hyundai"]
["5NP","United States","Hyundai"]
["5T","United States","Toyota"]
["5U","United States","BMW"]
["5X","United States","Hyundai/Kia"]
["5YJ","United States","Tesla"]
[55,"United States","Mercedes-Benz"]
["6F","Australia","Ford"]
["6G","Australia","General Motors"]
["6G1","Australia","Chevrolet"]
["6G2","Australia","Pontiac"]
["6H","Australia","Holden"]
["6MM","Australia","Mitsubishi"]
["6T1","Australia","Toyota"]
["6U9","Australia","Japanese Imports"]
["7A1","New Zealand","Mitsubishi"]
["7A3","New Zealand","Honda"]
["7A4","New Zealand","Toyota"]
["7A5","New Zealand","Ford"]
["7A8","New Zealand","NZ Transport Agency (pre-2009)"]
["7AT","New Zealand","NZ Transport Agency (post-2009)"]
["8AP","Argentina","Fiat"]
["8AF","Argentina","Ford"]
["8AG","Argentina","General Motors"]
["8AW","Argentina","Volkswagen"]
["8AJ","Argentina","Toyota"]
["8A1","Argentina","Renault"]
["8AC","Argentina","Mercedes Benz"]
["8BC","Argentina","Citroën"]
["8AD","Argentina","Peugeot"]
["8C3","Argentina","Honda"]
["8AT","Argentina","Iveco"]
["9BD","Brazil","Fiat Automóveis"]
["9BG","Brazil","General Motors"]
["9BW","Brazil","Volkswagen"]
["9BF","Brazil","Ford"]
["93H","Brazil","Honda"]
["9BR","Brazil","Toyota"]
[936,"Brazil","Peugeot"]
[935,"Brazil","Citroën"]
["93Y","Brazil","Renault"]
["93X","Brazil","Souza Ramos - Mitsubishi / Suzuki"]
["9BH","Brazil","Hyundai"]
["95P","Brazil","CAOA / Hyundai"]
["94D","Brazil","Nissan"]
["94N","Brazil","RWM Brazil"]
["98R","Brazil","Chery"]
[988,"Brazil","Jeep"]
["98M","Brazil","BMW"]
["9BM","Brazil","Mercedes-Benz"]
["99A","Brazil","Audi"]
["99J","Brazil","Jaguar Land Rover"]
["9C2","Brazil","Honda Motorcycles"]
["9C6","Brazil","Yamaha"]
["9CD","Brazil","Suzuki (motorcycles)"]
["93W","Brazil","Fiat Professional"]
["93Z","Brazil","Iveco"]
[953,"Brazil","VW Trucks / MAN"]
["9BS","Brazil","Scania"]
["9BV","Brazil","Volvo Trucks"]
["9FB","Colombia","Renault"]
["9UJ","Uruguay","Chery"]
["9UK","Uruguay","Lifan"]
["9UW","Uruguay","Kia"]

{"sheet":"year","index":2,"n_rows":30,"n_cols":2,"rows_kept":30,"cut":false,"hidden":false,"merged":[]}
["L",1990]
["M",1991]
["N",1992]
["P",1993]
["R",1994]
["S",1995]
["T",1996]
["V",1997]
["W",1998]
["X",1999]
["Y",2000]
[1,2001]
[2,2002]
[3,2003]
[4,2004]
[5,2005]
[6,2006]
[7,2007]
[8,2008]
[9,2009]
["A",2010]
["B",2011]
["C",2012]
["D",2013]
["E",2014]
["F",2015]
["G",2016]
["H",2017]
["J",2018]
["K",2019]